BEGIN:VCALENDAR
VERSION:2.0
PRODID:-//Universidad Nacional Agraria - ECPv6.15.20//NONSGML v1.0//EN
CALSCALE:GREGORIAN
METHOD:PUBLISH
X-WR-CALNAME:Universidad Nacional Agraria
X-ORIGINAL-URL:https://www.una.edu.ni
X-WR-CALDESC:Eventos para Universidad Nacional Agraria
REFRESH-INTERVAL;VALUE=DURATION:PT1H
X-Robots-Tag:noindex
X-PUBLISHED-TTL:PT1H
BEGIN:VTIMEZONE
TZID:America/Managua
BEGIN:STANDARD
TZOFFSETFROM:-0600
TZOFFSETTO:-0600
TZNAME:CST
DTSTART:20240101T000000
END:STANDARD
END:VTIMEZONE
BEGIN:VEVENT
DTSTART;TZID=America/Managua:20250910T080000
DTEND;TZID=America/Managua:20250910T120000
DTSTAMP:20260422T064653
CREATED:20250908T170919Z
LAST-MODIFIED:20250908T170919Z
UID:26222-1757491200-1757505600@www.una.edu.ni
SUMMARY:Curso sobre Manejo sanitario de enfermedades en ganado bovino
DESCRIPTION:
URL:https://www.una.edu.ni/event/curso-sobre-manejo-sanitario-de-enfermedades-en-ganado-bovino-2/
LOCATION:Nadaime\, Nicaragua
CATEGORIES:CURSO
END:VEVENT
BEGIN:VEVENT
DTSTART;TZID=America/Managua:20250910T100000
DTEND;TZID=America/Managua:20250910T120000
DTSTAMP:20260422T064653
CREATED:20250908T164621Z
LAST-MODIFIED:20250908T164621Z
UID:26210-1757498400-1757505600@www.una.edu.ni
SUMMARY:Curso sobre elaboración de alimentos nutricionales para ganado mayor
DESCRIPTION:
URL:https://www.una.edu.ni/event/curso-sobre-elaboracion-de-alimentos-nutricionales-para-ganado-mayor/
LOCATION:UNICAM Muelle de los Bueyes\, Nicaragua
CATEGORIES:CURSO
END:VEVENT
END:VCALENDAR