BEGIN:VCALENDAR
VERSION:2.0
PRODID:-//Universidad Nacional Agraria - ECPv6.15.20//NONSGML v1.0//EN
CALSCALE:GREGORIAN
METHOD:PUBLISH
X-WR-CALNAME:Universidad Nacional Agraria
X-ORIGINAL-URL:https://www.una.edu.ni
X-WR-CALDESC:Eventos para Universidad Nacional Agraria
REFRESH-INTERVAL;VALUE=DURATION:PT1H
X-Robots-Tag:noindex
X-PUBLISHED-TTL:PT1H
BEGIN:VTIMEZONE
TZID:America/Managua
BEGIN:STANDARD
TZOFFSETFROM:-0600
TZOFFSETTO:-0600
TZNAME:CST
DTSTART:20240101T000000
END:STANDARD
END:VTIMEZONE
BEGIN:VEVENT
DTSTART;TZID=America/Managua:20251001T083000
DTEND;TZID=America/Managua:20251001T120000
DTSTAMP:20260421T173952
CREATED:20250929T151015Z
LAST-MODIFIED:20250929T151015Z
UID:26499-1759307400-1759320000@www.una.edu.ni
SUMMARY:Curso sobre “Corte selectos en bovinos”
DESCRIPTION:
URL:https://www.una.edu.ni/event/curso-sobre-corte-selectos-en-bovinos/
LOCATION:Universidad Nacional Agraria\, Managua\, km 12 1/2\, Managua\, Nicaragua
CATEGORIES:CURSO
END:VEVENT
END:VCALENDAR