BEGIN:VCALENDAR
VERSION:2.0
PRODID:-//Universidad Nacional Agraria - ECPv6.15.20//NONSGML v1.0//EN
CALSCALE:GREGORIAN
METHOD:PUBLISH
X-WR-CALNAME:Universidad Nacional Agraria
X-ORIGINAL-URL:https://www.una.edu.ni
X-WR-CALDESC:Eventos para Universidad Nacional Agraria
REFRESH-INTERVAL;VALUE=DURATION:PT1H
X-Robots-Tag:noindex
X-PUBLISHED-TTL:PT1H
BEGIN:VTIMEZONE
TZID:America/Managua
BEGIN:STANDARD
TZOFFSETFROM:-0600
TZOFFSETTO:-0600
TZNAME:CST
DTSTART:20240101T000000
END:STANDARD
END:VTIMEZONE
BEGIN:VEVENT
DTSTART;TZID=America/Managua:20251127T083000
DTEND;TZID=America/Managua:20251127T120000
DTSTAMP:20260422T013801
CREATED:20251125T155020Z
LAST-MODIFIED:20251125T155020Z
UID:28670-1764232200-1764244800@www.una.edu.ni
SUMMARY:Curso sobre Tecnología y anatomía de la madera
DESCRIPTION:
URL:https://www.una.edu.ni/event/curso-sobre-tecnologia-y-anatomia-de-la-madera/
LOCATION:Universidad Nacional Agraria\, Managua\, km 12 1/2\, Managua\, Nicaragua
CATEGORIES:CURSO
END:VEVENT
BEGIN:VEVENT
DTSTART;TZID=America/Managua:20251127T083000
DTEND;TZID=America/Managua:20251127T120000
DTSTAMP:20260422T013801
CREATED:20251125T155118Z
LAST-MODIFIED:20251125T155118Z
UID:28672-1764232200-1764244800@www.una.edu.ni
SUMMARY:Curso sobre Sistemas de Información geográfica para el mapeo de cultivos agrícolas
DESCRIPTION:
URL:https://www.una.edu.ni/event/curso-sobre-sistemas-de-informacion-geografica-para-el-mapeo-de-cultivos-agricolas/
LOCATION:Universidad Nacional Agraria\, Managua\, km 12 1/2\, Managua\, Nicaragua
CATEGORIES:CURSO
END:VEVENT
END:VCALENDAR