BEGIN:VCALENDAR
VERSION:2.0
PRODID:-//Universidad Nacional Agraria - ECPv6.15.20//NONSGML v1.0//EN
CALSCALE:GREGORIAN
METHOD:PUBLISH
X-WR-CALNAME:Universidad Nacional Agraria
X-ORIGINAL-URL:https://www.una.edu.ni
X-WR-CALDESC:Eventos para Universidad Nacional Agraria
REFRESH-INTERVAL;VALUE=DURATION:PT1H
X-Robots-Tag:noindex
X-PUBLISHED-TTL:PT1H
BEGIN:VTIMEZONE
TZID:America/Managua
BEGIN:STANDARD
TZOFFSETFROM:-0600
TZOFFSETTO:-0600
TZNAME:CST
DTSTART:20240101T000000
END:STANDARD
END:VTIMEZONE
BEGIN:VEVENT
DTSTART;TZID=America/Managua:20250906T090000
DTEND;TZID=America/Managua:20250906T120000
DTSTAMP:20260421T192428
CREATED:20250905T161316Z
LAST-MODIFIED:20250905T161316Z
UID:26157-1757149200-1757160000@www.una.edu.ni
SUMMARY:Expo feria “Conecta con tu futuro pecuario”
DESCRIPTION:
URL:https://www.una.edu.ni/event/expo-feria-conecta-con-tu-futuro-pecuario/
LOCATION:UNICAM EL Plantel\, Nicaragua
CATEGORIES:FERIA
END:VEVENT
BEGIN:VEVENT
DTSTART;TZID=America/Managua:20250907T100000
DTEND;TZID=America/Managua:20250907T120000
DTSTAMP:20260421T192428
CREATED:20250905T161402Z
LAST-MODIFIED:20250905T161402Z
UID:26159-1757239200-1757246400@www.una.edu.ni
SUMMARY:Feria de proyectos emprendedores
DESCRIPTION:
URL:https://www.una.edu.ni/event/feria-de-proyectos-emprendedores/
LOCATION:UNICAM EL Plantel\, Nicaragua
CATEGORIES:FERIA
END:VEVENT
BEGIN:VEVENT
DTSTART;TZID=America/Managua:20250913T090000
DTEND;TZID=America/Managua:20250913T120000
DTSTAMP:20260421T192428
CREATED:20250909T155900Z
LAST-MODIFIED:20250909T155900Z
UID:26261-1757754000-1757764800@www.una.edu.ni
SUMMARY:Feria de presentación de proyectos innovadores\, creativos y emprendedores
DESCRIPTION:
URL:https://www.una.edu.ni/event/feria-de-presentacion-de-proyectos-innovadores-creativos-y-emprendedores/
LOCATION:UNICAM Esquipulas\, Nicaragua
CATEGORIES:FERIA
END:VEVENT
BEGIN:VEVENT
DTSTART;TZID=America/Managua:20250913T090000
DTEND;TZID=America/Managua:20250913T120000
DTSTAMP:20260421T192428
CREATED:20250909T160011Z
LAST-MODIFIED:20250912T143323Z
UID:26263-1757754000-1757764800@www.una.edu.ni
SUMMARY:Feria de Identidad Nacional y orgullo patrio
DESCRIPTION:
URL:https://www.una.edu.ni/event/feria-de-identidad-nacional-y-orgullo-patrio-fecha-sabado-13-de-septiembre-2025/
LOCATION:Centro Universitario “Padre y Comandante Camilo Tórres Restrepo”\, Matagalpa\, Nicaragua
CATEGORIES:FERIA
END:VEVENT
BEGIN:VEVENT
DTSTART;TZID=America/Managua:20250925T090000
DTEND;TZID=America/Managua:20250925T120000
DTSTAMP:20260421T192428
CREATED:20250922T165035Z
LAST-MODIFIED:20250922T165035Z
UID:26398-1758790800-1758801600@www.una.edu.ni
SUMMARY:Feria del maíz “Sembrando cultura\, cosechando identidad”
DESCRIPTION:
URL:https://www.una.edu.ni/event/feria-del-maiz-sembrando-cultura-cosechando-identidad/
LOCATION:Universidad Nacional Agraria\, Managua\, km 12 1/2\, Managua\, Nicaragua
CATEGORIES:FERIA
END:VEVENT
BEGIN:VEVENT
DTSTART;TZID=America/Managua:20250926T090000
DTEND;TZID=America/Managua:20250926T120000
DTSTAMP:20260421T192428
CREATED:20250922T165133Z
LAST-MODIFIED:20250922T165133Z
UID:26400-1758877200-1758888000@www.una.edu.ni
SUMMARY:Feria del maíz “Sembrando cultura\, cosechando identidad”
DESCRIPTION:
URL:https://www.una.edu.ni/event/feria-del-maiz-sembrando-cultura-cosechando-identidad-2/
LOCATION:CUR UNA Juigalpa/UNICAM Matiguás\, Nicaragua
CATEGORIES:FERIA
END:VEVENT
BEGIN:VEVENT
DTSTART;TZID=America/Managua:20250927T100000
DTEND;TZID=America/Managua:20250927T120000
DTSTAMP:20260421T192428
CREATED:20250922T165222Z
LAST-MODIFIED:20250922T165222Z
UID:26403-1758967200-1758974400@www.una.edu.ni
SUMMARY:Feria de emprendimiento e innovación agropecuaria
DESCRIPTION:
URL:https://www.una.edu.ni/event/feria-de-emprendimiento-e-innovacion-agropecuaria/
LOCATION:Universidad Nacional Agraria\, Managua\, km 12 1/2\, Managua\, Nicaragua
CATEGORIES:FERIA
END:VEVENT
BEGIN:VEVENT
DTSTART;TZID=America/Managua:20250928T090000
DTEND;TZID=America/Managua:20250928T120000
DTSTAMP:20260421T192428
CREATED:20250922T165313Z
LAST-MODIFIED:20250922T165313Z
UID:26405-1759050000-1759060800@www.una.edu.ni
SUMMARY:Expo feria del maíz y presentación de proyectos agropecuarios a base de este cultivo
DESCRIPTION:
URL:https://www.una.edu.ni/event/expo-feria-del-maiz-y-presentacion-de-proyectos-agropecuarios-a-base-de-este-cultivo/
LOCATION:Centro Universitario “Héroes de Chinandega”\, Nicaragua
CATEGORIES:FERIA
END:VEVENT
END:VCALENDAR