BEGIN:VCALENDAR
VERSION:2.0
PRODID:-//Universidad Nacional Agraria - ECPv6.15.20//NONSGML v1.0//EN
CALSCALE:GREGORIAN
METHOD:PUBLISH
X-WR-CALNAME:Universidad Nacional Agraria
X-ORIGINAL-URL:https://www.una.edu.ni
X-WR-CALDESC:Eventos para Universidad Nacional Agraria
REFRESH-INTERVAL;VALUE=DURATION:PT1H
X-Robots-Tag:noindex
X-PUBLISHED-TTL:PT1H
BEGIN:VTIMEZONE
TZID:America/Managua
BEGIN:STANDARD
TZOFFSETFROM:-0600
TZOFFSETTO:-0600
TZNAME:CST
DTSTART:20240101T000000
END:STANDARD
END:VTIMEZONE
BEGIN:VEVENT
DTSTART;TZID=America/Managua:20251003T090000
DTEND;TZID=America/Managua:20251003T120000
DTSTAMP:20260421T163505
CREATED:20250929T170247Z
LAST-MODIFIED:20250929T170247Z
UID:26548-1759482000-1759492800@www.una.edu.ni
SUMMARY:Feria vocacional agropecuaria “Por el futuro del agro”
DESCRIPTION:
URL:https://www.una.edu.ni/event/feria-vocacional-agropecuaria-por-el-futuro-del-agro/
LOCATION:Centro Universitario Regional UNA Camoapa\, Camoapa
CATEGORIES:FERIA
END:VEVENT
BEGIN:VEVENT
DTSTART;TZID=America/Managua:20251007T080000
DTEND;TZID=America/Managua:20251007T120000
DTSTAMP:20260421T163505
CREATED:20251006T142923Z
LAST-MODIFIED:20251006T142923Z
UID:26668-1759824000-1759838400@www.una.edu.ni
SUMMARY:Feria de productos agropecuarios
DESCRIPTION:
URL:https://www.una.edu.ni/event/feria-de-productos-agropecuarios-2/
LOCATION:Universidad Nacional Agraria\, Managua\, km 12 1/2\, Managua\, Nicaragua
CATEGORIES:FERIA
END:VEVENT
BEGIN:VEVENT
DTSTART;TZID=America/Managua:20251008T090000
DTEND;TZID=America/Managua:20251008T120000
DTSTAMP:20260421T163505
CREATED:20251006T143541Z
LAST-MODIFIED:20251006T143541Z
UID:26670-1759914000-1759924800@www.una.edu.ni
SUMMARY:Feria gastronómica “Rescatando nuestra identidad\, sabores y aromas” en conmemoración al Día de la Resistencia Indígena
DESCRIPTION:
URL:https://www.una.edu.ni/event/feria-gastronomica-rescatando-nuestra-identidad-sabores-y-aromas-en-conmemoracion-al-dia-de-la-resistencia-indigena/
LOCATION:Centro Universitario Regional UNA Camoapa\, Camoapa
CATEGORIES:FERIA
END:VEVENT
BEGIN:VEVENT
DTSTART;TZID=America/Managua:20251009T090000
DTEND;TZID=America/Managua:20251009T120000
DTSTAMP:20260421T163505
CREATED:20251007T145049Z
LAST-MODIFIED:20251007T145049Z
UID:26720-1760000400-1760011200@www.una.edu.ni
SUMMARY:Expo Feria creativa en conmemoración al Día de la Resistencia Indígena
DESCRIPTION:
URL:https://www.una.edu.ni/event/expo-feria-creativa-en-conmemoracion-al-dia-de-la-resistencia-indigena/
LOCATION:Centro Universitario “Héroes de Chinandega”\, Nicaragua
CATEGORIES:FERIA
END:VEVENT
BEGIN:VEVENT
DTSTART;TZID=America/Managua:20251011T090000
DTEND;TZID=America/Managua:20251011T120000
DTSTAMP:20260421T163505
CREATED:20251007T150000Z
LAST-MODIFIED:20251007T150000Z
UID:26728-1760173200-1760184000@www.una.edu.ni
SUMMARY:Feria “Zona Emprende” en conmemoración al Día de la Resistencia Indígena
DESCRIPTION:
URL:https://www.una.edu.ni/event/feria-zona-emprende-en-conmemoracion-al-dia-de-la-resistencia-indigena/
LOCATION:Universidad La Sandino\, Nicaragua
CATEGORIES:FERIA
END:VEVENT
BEGIN:VEVENT
DTSTART;TZID=America/Managua:20251014T090000
DTEND;TZID=America/Managua:20251014T120000
DTSTAMP:20260421T163505
CREATED:20251013T164837Z
LAST-MODIFIED:20251013T164837Z
UID:26785-1760432400-1760443200@www.una.edu.ni
SUMMARY:Feria de emprendedores “Agronegocios innovadores”
DESCRIPTION:
URL:https://www.una.edu.ni/event/feria-de-emprendedores-agronegocios-innovadores/
LOCATION:Universidad Nacional Agraria\, Managua\, km 12 1/2\, Managua\, Nicaragua
CATEGORIES:FERIA
END:VEVENT
BEGIN:VEVENT
DTSTART;TZID=America/Managua:20251024T080000
DTEND;TZID=America/Managua:20251024T120000
DTSTAMP:20260421T163505
CREATED:20251022T194840Z
LAST-MODIFIED:20251022T194840Z
UID:27420-1761292800-1761307200@www.una.edu.ni
SUMMARY:Feria Tecnológica de riego
DESCRIPTION:
URL:https://www.una.edu.ni/event/feria-tecnologica-de-riego/
LOCATION:Universidad Nacional Agraria\, Managua\, km 12 1/2\, Managua\, Nicaragua
CATEGORIES:FERIA
END:VEVENT
BEGIN:VEVENT
DTSTART;TZID=America/Managua:20251025T100000
DTEND;TZID=America/Managua:20251025T130000
DTSTAMP:20260421T163505
CREATED:20251022T195035Z
LAST-MODIFIED:20251022T195035Z
UID:27422-1761386400-1761397200@www.una.edu.ni
SUMMARY:Feria Tecnológica de riego
DESCRIPTION:
URL:https://www.una.edu.ni/event/feria-tecnologica-de-riego-2/
LOCATION:UNICAM San Lorenzo\, Boaco\, Nicaragua
CATEGORIES:FERIA
END:VEVENT
BEGIN:VEVENT
DTSTART;TZID=America/Managua:20251027T160000
DTEND;TZID=America/Managua:20251027T190000
DTSTAMP:20260421T163505
CREATED:20251027T211359Z
LAST-MODIFIED:20251027T211359Z
UID:27567-1761580800-1761591600@www.una.edu.ni
SUMMARY:Feria de emprendimientos agropecuarios innovadores
DESCRIPTION:
URL:https://www.una.edu.ni/event/feria-de-emprendimientos-agropecuarios-innovadores/
LOCATION:Universidad Nacional Agraria\, Managua\, km 12 1/2\, Managua\, Nicaragua
CATEGORIES:FERIA
END:VEVENT
BEGIN:VEVENT
DTSTART;TZID=America/Managua:20251029T100000
DTEND;TZID=America/Managua:20251029T150000
DTSTAMP:20260421T163505
CREATED:20251028T192330Z
LAST-MODIFIED:20251028T192330Z
UID:27696-1761732000-1761750000@www.una.edu.ni
SUMMARY:Expo feria creativa “Impulsando la Economía local”
DESCRIPTION:
URL:https://www.una.edu.ni/event/expo-feria-creativa-impulsando-la-economia-local/
LOCATION:Centro Universitario Regional UNA Juigalpa\, Juigapa
CATEGORIES:FERIA
END:VEVENT
END:VCALENDAR