BEGIN:VCALENDAR
VERSION:2.0
PRODID:-//Universidad Nacional Agraria - ECPv6.15.20//NONSGML v1.0//EN
CALSCALE:GREGORIAN
METHOD:PUBLISH
X-WR-CALNAME:Universidad Nacional Agraria
X-ORIGINAL-URL:https://www.una.edu.ni
X-WR-CALDESC:Eventos para Universidad Nacional Agraria
REFRESH-INTERVAL;VALUE=DURATION:PT1H
X-Robots-Tag:noindex
X-PUBLISHED-TTL:PT1H
BEGIN:VTIMEZONE
TZID:America/Managua
BEGIN:STANDARD
TZOFFSETFROM:-0600
TZOFFSETTO:-0600
TZNAME:CST
DTSTART:20240101T000000
END:STANDARD
END:VTIMEZONE
BEGIN:VEVENT
DTSTART;TZID=America/Managua:20251114T080000
DTEND;TZID=America/Managua:20251114T120000
DTSTAMP:20260423T134540
CREATED:20251113T151938Z
LAST-MODIFIED:20251113T151938Z
UID:28414-1763107200-1763121600@www.una.edu.ni
SUMMARY:Feria de emprendimientos agropecuarios “Comandante Carlos”
DESCRIPTION:
URL:https://www.una.edu.ni/event/feria-de-emprendimientos-agropecuarios-comandante-carlos/
LOCATION:CUR UNA Camoapa/UNICAM San José de los remates\, Nicaragua
CATEGORIES:FERIA
END:VEVENT
END:VCALENDAR