BEGIN:VCALENDAR
VERSION:2.0
PRODID:-//Universidad Nacional Agraria - ECPv6.15.20//NONSGML v1.0//EN
CALSCALE:GREGORIAN
METHOD:PUBLISH
X-WR-CALNAME:Universidad Nacional Agraria
X-ORIGINAL-URL:https://www.una.edu.ni
X-WR-CALDESC:Eventos para Universidad Nacional Agraria
REFRESH-INTERVAL;VALUE=DURATION:PT1H
X-Robots-Tag:noindex
X-PUBLISHED-TTL:PT1H
BEGIN:VTIMEZONE
TZID:America/Managua
BEGIN:STANDARD
TZOFFSETFROM:-0600
TZOFFSETTO:-0600
TZNAME:CST
DTSTART:20230101T000000
END:STANDARD
END:VTIMEZONE
BEGIN:VEVENT
DTSTART;TZID=America/Managua:20240912T090000
DTEND;TZID=America/Managua:20240912T160000
DTSTAMP:20260423T141851
CREATED:20240908T212222Z
LAST-MODIFIED:20240912T141357Z
UID:14585-1726131600-1726156800@www.una.edu.ni
SUMMARY:Festival cultural “¡Amor a Nicaragua\, Patria\, Soberanía y Revolución!”
DESCRIPTION:
URL:https://www.una.edu.ni/event/festival-cultural-amor-a-nicaragua-patria-soberania-y-revolucion/
LOCATION:Universidad Nacional Agraria\, Managua\, km 12 1/2\, Managua\, Nicaragua
CATEGORIES:FESTIVAL
ATTACH;FMTTYPE=image/jpeg:https://www.una.edu.ni/wp-content/uploads/2024/09/FestivalCultural.jpg
END:VEVENT
BEGIN:VEVENT
DTSTART;TZID=America/Managua:20240925T090000
DTEND;TZID=America/Managua:20240925T120000
DTSTAMP:20260423T141851
CREATED:20240925T165412Z
LAST-MODIFIED:20240925T165412Z
UID:15009-1727254800-1727265600@www.una.edu.ni
SUMMARY:Festival Gastronómico Artístico
DESCRIPTION:
URL:https://www.una.edu.ni/event/festival-gastronomico-artistico/
LOCATION:Universidad Nacional Agraria\, Managua\, km 12 1/2\, Managua\, Nicaragua
CATEGORIES:FESTIVAL
ATTACH;FMTTYPE=image/jpeg:https://www.una.edu.ni/wp-content/uploads/2024/09/Festival.jpg
END:VEVENT
BEGIN:VEVENT
DTSTART;TZID=America/Managua:20240925T090000
DTEND;TZID=America/Managua:20240925T120000
DTSTAMP:20260423T141851
CREATED:20240925T170648Z
LAST-MODIFIED:20240925T170648Z
UID:15015-1727254800-1727265600@www.una.edu.ni
SUMMARY:Festival de Lectura “Rescatando nuestra Identidad Nacional”
DESCRIPTION:
URL:https://www.una.edu.ni/event/festival-de-lectura-rescatando-nuestra-identidad-nacional/
LOCATION:Biblioteca de la UNIAV\, municipio de Rivas\, Rivas\, Nicaragua
CATEGORIES:FESTIVAL
END:VEVENT
BEGIN:VEVENT
DTSTART;TZID=America/Managua:20240927T080000
DTEND;TZID=America/Managua:20240927T120000
DTSTAMP:20260423T141851
CREATED:20240926T143203Z
LAST-MODIFIED:20240926T143203Z
UID:15074-1727424000-1727438400@www.una.edu.ni
SUMMARY:Festival de Turismo Rural y Comunitario “Turismo y Paz”
DESCRIPTION:
URL:https://www.una.edu.ni/event/festival-de-turismo-rural-y-comunitario-turismo-y-paz/
LOCATION:Universidad Nacional Agraria\, Managua\, km 12 1/2\, Managua\, Nicaragua
CATEGORIES:FESTIVAL
ATTACH;FMTTYPE=image/jpeg:https://www.una.edu.ni/wp-content/uploads/2024/09/FestivalTurismoRural.jpg
END:VEVENT
END:VCALENDAR