BEGIN:VCALENDAR
VERSION:2.0
PRODID:-//Universidad Nacional Agraria - ECPv6.15.20//NONSGML v1.0//EN
CALSCALE:GREGORIAN
METHOD:PUBLISH
X-WR-CALNAME:Universidad Nacional Agraria
X-ORIGINAL-URL:https://www.una.edu.ni
X-WR-CALDESC:Eventos para Universidad Nacional Agraria
REFRESH-INTERVAL;VALUE=DURATION:PT1H
X-Robots-Tag:noindex
X-PUBLISHED-TTL:PT1H
BEGIN:VTIMEZONE
TZID:Europe/Madrid
BEGIN:DAYLIGHT
TZOFFSETFROM:+0100
TZOFFSETTO:+0200
TZNAME:CEST
DTSTART:20240331T010000
END:DAYLIGHT
BEGIN:STANDARD
TZOFFSETFROM:+0200
TZOFFSETTO:+0100
TZNAME:CET
DTSTART:20241027T010000
END:STANDARD
BEGIN:DAYLIGHT
TZOFFSETFROM:+0100
TZOFFSETTO:+0200
TZNAME:CEST
DTSTART:20250330T010000
END:DAYLIGHT
BEGIN:STANDARD
TZOFFSETFROM:+0200
TZOFFSETTO:+0100
TZNAME:CET
DTSTART:20251026T010000
END:STANDARD
BEGIN:DAYLIGHT
TZOFFSETFROM:+0100
TZOFFSETTO:+0200
TZNAME:CEST
DTSTART:20260329T010000
END:DAYLIGHT
BEGIN:STANDARD
TZOFFSETFROM:+0200
TZOFFSETTO:+0100
TZNAME:CET
DTSTART:20261025T010000
END:STANDARD
END:VTIMEZONE
BEGIN:VTIMEZONE
TZID:America/Managua
BEGIN:STANDARD
TZOFFSETFROM:-0600
TZOFFSETTO:-0600
TZNAME:CST
DTSTART:20240101T000000
END:STANDARD
END:VTIMEZONE
BEGIN:VEVENT
DTSTART;TZID=Europe/Madrid:20250210T083000
DTEND;TZID=Europe/Madrid:20250210T120000
DTSTAMP:20260422T153924
CREATED:20250207T222056Z
LAST-MODIFIED:20250207T222056Z
UID:21168-1739176200-1739188800@www.una.edu.ni
SUMMARY:Festival Agrario “Juegos Vaqueros” dando inicio al ciclo académico 2025
DESCRIPTION:
URL:https://www.una.edu.ni/event/festival-agrario-juegos-vaqueros-dando-inicio-al-ciclo-academico-2025/
LOCATION:Universidad Nacional Agraria\, Managua\, km 12 1/2\, Managua\, Nicaragua
CATEGORIES:FESTIVAL
END:VEVENT
BEGIN:VEVENT
DTSTART;TZID=America/Managua:20250212T100000
DTEND;TZID=America/Managua:20250212T120000
DTSTAMP:20260422T153924
CREATED:20250210T111409Z
LAST-MODIFIED:20250210T111409Z
UID:21213-1739354400-1739361600@www.una.edu.ni
SUMMARY:Festival de Arte Urbano y Body Art
DESCRIPTION:
URL:https://www.una.edu.ni/event/festival-de-arte-urbano-y-body-art/
LOCATION:Universidad Nacional Agraria\, Managua\, km 12 1/2\, Managua\, Nicaragua
CATEGORIES:FESTIVAL
END:VEVENT
BEGIN:VEVENT
DTSTART;TZID=America/Managua:20250228T180000
DTEND;TZID=America/Managua:20250228T210000
DTSTAMP:20260422T153924
CREATED:20250226T142631Z
LAST-MODIFIED:20250226T142631Z
UID:21448-1740765600-1740776400@www.una.edu.ni
SUMMARY:Festival de Canto con Becados Internos
DESCRIPTION:
URL:https://www.una.edu.ni/event/festival-de-canto-con-becados-internos/
LOCATION:Universidad Nacional Agraria\, Managua\, km 12 1/2\, Managua\, Nicaragua
CATEGORIES:FESTIVAL
END:VEVENT
END:VCALENDAR