BEGIN:VCALENDAR
VERSION:2.0
PRODID:-//Universidad Nacional Agraria - ECPv6.15.20//NONSGML v1.0//EN
CALSCALE:GREGORIAN
METHOD:PUBLISH
X-WR-CALNAME:Universidad Nacional Agraria
X-ORIGINAL-URL:https://www.una.edu.ni
X-WR-CALDESC:Eventos para Universidad Nacional Agraria
REFRESH-INTERVAL;VALUE=DURATION:PT1H
X-Robots-Tag:noindex
X-PUBLISHED-TTL:PT1H
BEGIN:VTIMEZONE
TZID:America/Managua
BEGIN:STANDARD
TZOFFSETFROM:-0600
TZOFFSETTO:-0600
TZNAME:CST
DTSTART:20240101T000000
END:STANDARD
END:VTIMEZONE
BEGIN:VEVENT
DTSTART;TZID=America/Managua:20251219T100000
DTEND;TZID=America/Managua:20251219T120000
DTSTAMP:20260421T121035
CREATED:20251216T170445Z
LAST-MODIFIED:20251216T170445Z
UID:28858-1766138400-1766145600@www.una.edu.ni
SUMMARY:Festival de Arte y Cultura\, celebrando el ciclo académico
DESCRIPTION:
URL:https://www.una.edu.ni/event/festival-de-arte-y-cultura-celebrando-el-ciclo-academico/
LOCATION:Centro Universitario Regional UNA Juigalpa\, Juigapa
CATEGORIES:FESTIVAL
END:VEVENT
END:VCALENDAR