BEGIN:VCALENDAR
VERSION:2.0
PRODID:-//Universidad Nacional Agraria - ECPv6.15.20//NONSGML v1.0//EN
CALSCALE:GREGORIAN
METHOD:PUBLISH
X-WR-CALNAME:Universidad Nacional Agraria
X-ORIGINAL-URL:https://www.una.edu.ni
X-WR-CALDESC:Eventos para Universidad Nacional Agraria
REFRESH-INTERVAL;VALUE=DURATION:PT1H
X-Robots-Tag:noindex
X-PUBLISHED-TTL:PT1H
BEGIN:VTIMEZONE
TZID:America/Managua
BEGIN:STANDARD
TZOFFSETFROM:-0600
TZOFFSETTO:-0600
TZNAME:CST
DTSTART:20230101T000000
END:STANDARD
END:VTIMEZONE
BEGIN:VTIMEZONE
TZID:Europe/Madrid
BEGIN:DAYLIGHT
TZOFFSETFROM:+0100
TZOFFSETTO:+0200
TZNAME:CEST
DTSTART:20230326T010000
END:DAYLIGHT
BEGIN:STANDARD
TZOFFSETFROM:+0200
TZOFFSETTO:+0100
TZNAME:CET
DTSTART:20231029T010000
END:STANDARD
BEGIN:DAYLIGHT
TZOFFSETFROM:+0100
TZOFFSETTO:+0200
TZNAME:CEST
DTSTART:20240331T010000
END:DAYLIGHT
BEGIN:STANDARD
TZOFFSETFROM:+0200
TZOFFSETTO:+0100
TZNAME:CET
DTSTART:20241027T010000
END:STANDARD
BEGIN:DAYLIGHT
TZOFFSETFROM:+0100
TZOFFSETTO:+0200
TZNAME:CEST
DTSTART:20250330T010000
END:DAYLIGHT
BEGIN:STANDARD
TZOFFSETFROM:+0200
TZOFFSETTO:+0100
TZNAME:CET
DTSTART:20251026T010000
END:STANDARD
END:VTIMEZONE
BEGIN:VEVENT
DTSTART;TZID=America/Managua:20240811T080000
DTEND;TZID=America/Managua:20240811T120000
DTSTAMP:20260424T084920
CREATED:20240810T170206Z
LAST-MODIFIED:20240812T131041Z
UID:13223-1723363200-1723377600@www.una.edu.ni
SUMMARY:Jornada de vacunación avícola
DESCRIPTION:
URL:https://www.una.edu.ni/event/jornada-de-vacunacion-avicola/
CATEGORIES:JORNADA
ATTACH;FMTTYPE=image/jpeg:https://www.una.edu.ni/wp-content/uploads/2024/08/JornadaVacunacion.jpg
END:VEVENT
BEGIN:VEVENT
DTSTART;TZID=America/Managua:20240812T090000
DTEND;TZID=America/Managua:20240812T170000
DTSTAMP:20260424T084920
CREATED:20240812T151724Z
LAST-MODIFIED:20240812T151724Z
UID:13265-1723453200-1723482000@www.una.edu.ni
SUMMARY:Acto de Bienvenida al II Semestre 2024
DESCRIPTION:
URL:https://www.una.edu.ni/event/acto-de-bienvenida-al-ii-semestre-2024/
LOCATION:Universidad Nacional Agraria\, Managua\, km 12 1/2\, Managua\, Nicaragua
CATEGORIES:JORNADA
ATTACH;FMTTYPE=image/jpeg:https://www.una.edu.ni/wp-content/uploads/2024/08/ActoBienvenida.jpg
END:VEVENT
BEGIN:VEVENT
DTSTART;TZID=America/Managua:20240817T090000
DTEND;TZID=America/Managua:20240817T120000
DTSTAMP:20260424T084920
CREATED:20240817T003026Z
LAST-MODIFIED:20240817T003026Z
UID:13422-1723885200-1723896000@www.una.edu.ni
SUMMARY:Jornada de Limpieza de las áreas de esparcimiento
DESCRIPTION:
URL:https://www.una.edu.ni/event/jornada-de-limpieza-de-las-areas-de-esparcimiento/
LOCATION:Universidad Nacional Agraria\, Managua\, km 12 1/2\, Managua\, Nicaragua
CATEGORIES:JORNADA
ATTACH;FMTTYPE=image/jpeg:https://www.una.edu.ni/wp-content/uploads/2024/08/Jornada-1.jpg
END:VEVENT
BEGIN:VEVENT
DTSTART;TZID=Europe/Madrid:20240819T100000
DTEND;TZID=Europe/Madrid:20240819T170000
DTSTAMP:20260424T084920
CREATED:20240816T145125Z
LAST-MODIFIED:20240816T145125Z
UID:13411-1724061600-1724086800@www.una.edu.ni
SUMMARY:Jornada de Vacunación antirrábica y Atención equina
DESCRIPTION:
URL:https://www.una.edu.ni/event/jornada-de-vacunacion-antirrabica-y-atencion-equina/
LOCATION:El Rama\, Distrito 3\, Wapy\, El Rama\, Nicaragua
CATEGORIES:JORNADA
ATTACH;FMTTYPE=image/jpeg:https://www.una.edu.ni/wp-content/uploads/2024/08/JornadaVacunacion-1.jpg
END:VEVENT
BEGIN:VEVENT
DTSTART;TZID=America/Managua:20240823T100000
DTEND;TZID=America/Managua:20240823T170000
DTSTAMP:20260424T084920
CREATED:20240822T142455Z
LAST-MODIFIED:20240822T203647Z
UID:13961-1724407200-1724432400@www.una.edu.ni
SUMMARY:Jornada de Salud y Bienestar de Animales Domésticos
DESCRIPTION:
URL:https://www.una.edu.ni/event/jornada-de-salud-y-bienestar-de-animales-domesticos/
LOCATION:Cancha del Padre Miguel\, Juigalpa\, Juigalpa\, Nicaragua
CATEGORIES:JORNADA
ATTACH;FMTTYPE=image/jpeg:https://www.una.edu.ni/wp-content/uploads/2024/08/JornadadeSalud.jpg
END:VEVENT
BEGIN:VEVENT
DTSTART;TZID=Europe/Madrid:20240825T090000
DTEND;TZID=Europe/Madrid:20240825T120000
DTSTAMP:20260424T084920
CREATED:20240816T144451Z
LAST-MODIFIED:20240816T144451Z
UID:13407-1724576400-1724587200@www.una.edu.ni
SUMMARY:Jornada de Bienestar bovino y porcino
DESCRIPTION:
URL:https://www.una.edu.ni/event/jornada-de-bienestar-bovino-y-porcino/
LOCATION:Comunidad Santa Rosa\, El Cuá\, Jinotega\, Jinotega\, Nicaragua
CATEGORIES:JORNADA
ATTACH;FMTTYPE=image/jpeg:https://www.una.edu.ni/wp-content/uploads/2024/08/JornadaBienestar.jpg
END:VEVENT
BEGIN:VEVENT
DTSTART;TZID=America/Managua:20240827T090000
DTEND;TZID=America/Managua:20240827T170000
DTSTAMP:20260424T084920
CREATED:20240824T140853Z
LAST-MODIFIED:20240824T140853Z
UID:14081-1724749200-1724778000@www.una.edu.ni
SUMMARY:Jornada de Vacunación Antirrábica
DESCRIPTION:
URL:https://www.una.edu.ni/event/jornada-de-vacunacion-antirrabica/
LOCATION:Polideportivo\, El Ayote\, El Ayote\, Martinica
CATEGORIES:JORNADA
ATTACH;FMTTYPE=image/jpeg:https://www.una.edu.ni/wp-content/uploads/2024/08/jornada-2.jpg
END:VEVENT
BEGIN:VEVENT
DTSTART;TZID=America/Managua:20240828T090000
DTEND;TZID=America/Managua:20240828T130000
DTSTAMP:20260424T084920
CREATED:20240827T141906Z
LAST-MODIFIED:20240827T141906Z
UID:14216-1724835600-1724850000@www.una.edu.ni
SUMMARY:Jornada de vacunación para estudiantes y trabajadores de la UNA
DESCRIPTION:
URL:https://www.una.edu.ni/event/jornada-de-vacunacion-para-estudiantes-y-trabajadores-de-la-una/
LOCATION:Universidad Nacional Agraria\, Managua\, km 12 1/2\, Managua\, Nicaragua
CATEGORIES:JORNADA
ATTACH;FMTTYPE=image/jpeg:https://www.una.edu.ni/wp-content/uploads/2024/08/JornadadeVacunacion.jpg
END:VEVENT
BEGIN:VEVENT
DTSTART;TZID=America/Managua:20240828T090000
DTEND;TZID=America/Managua:20240828T170000
DTSTAMP:20260424T084920
CREATED:20240826T155737Z
LAST-MODIFIED:20240828T165018Z
UID:14140-1724835600-1724864400@www.una.edu.ni
SUMMARY:Jornada en el Zoocriadero Montevideo El Cuá
DESCRIPTION:
URL:https://www.una.edu.ni/event/jornadas-de-bienestar-animal-avicola-y-porcina/
LOCATION:UNICAM-UNA en El Cuá\, Jinotega\, Jinotega\, Nicaragua
CATEGORIES:JORNADA
ATTACH;FMTTYPE=image/jpeg:https://www.una.edu.ni/wp-content/uploads/2024/08/JornadaZoocriadero.jpg
END:VEVENT
BEGIN:VEVENT
DTSTART;TZID=America/Managua:20240830T090000
DTEND;TZID=America/Managua:20240830T120000
DTSTAMP:20260424T084920
CREATED:20240829T194441Z
LAST-MODIFIED:20240830T142549Z
UID:14294-1725008400-1725019200@www.una.edu.ni
SUMMARY:Jornada de Bienestar animal avícola y porcina
DESCRIPTION:
URL:https://www.una.edu.ni/event/jornada-de-bienestar-animal-avicola-y-porcina/
LOCATION:UNICAM-UNA Achuapa\, Achuapa\, Nicaragua
CATEGORIES:JORNADA
ATTACH;FMTTYPE=image/jpeg:https://www.una.edu.ni/wp-content/uploads/2024/08/JornadaAchuapa.jpg
END:VEVENT
END:VCALENDAR