BEGIN:VCALENDAR
VERSION:2.0
PRODID:-//Universidad Nacional Agraria - ECPv6.15.20//NONSGML v1.0//EN
CALSCALE:GREGORIAN
METHOD:PUBLISH
X-WR-CALNAME:Universidad Nacional Agraria
X-ORIGINAL-URL:https://www.una.edu.ni
X-WR-CALDESC:Eventos para Universidad Nacional Agraria
REFRESH-INTERVAL;VALUE=DURATION:PT1H
X-Robots-Tag:noindex
X-PUBLISHED-TTL:PT1H
BEGIN:VTIMEZONE
TZID:America/Managua
BEGIN:STANDARD
TZOFFSETFROM:-0600
TZOFFSETTO:-0600
TZNAME:CST
DTSTART:20240101T000000
END:STANDARD
END:VTIMEZONE
BEGIN:VTIMEZONE
TZID:Europe/Madrid
BEGIN:DAYLIGHT
TZOFFSETFROM:+0100
TZOFFSETTO:+0200
TZNAME:CEST
DTSTART:20240331T010000
END:DAYLIGHT
BEGIN:STANDARD
TZOFFSETFROM:+0200
TZOFFSETTO:+0100
TZNAME:CET
DTSTART:20241027T010000
END:STANDARD
BEGIN:DAYLIGHT
TZOFFSETFROM:+0100
TZOFFSETTO:+0200
TZNAME:CEST
DTSTART:20250330T010000
END:DAYLIGHT
BEGIN:STANDARD
TZOFFSETFROM:+0200
TZOFFSETTO:+0100
TZNAME:CET
DTSTART:20251026T010000
END:STANDARD
BEGIN:DAYLIGHT
TZOFFSETFROM:+0100
TZOFFSETTO:+0200
TZNAME:CEST
DTSTART:20260329T010000
END:DAYLIGHT
BEGIN:STANDARD
TZOFFSETFROM:+0200
TZOFFSETTO:+0100
TZNAME:CET
DTSTART:20261025T010000
END:STANDARD
END:VTIMEZONE
BEGIN:VEVENT
DTSTART;TZID=America/Managua:20250603T170000
DTEND;TZID=America/Managua:20250603T200000
DTSTAMP:20260422T071158
CREATED:20250603T191312Z
LAST-MODIFIED:20250603T191312Z
UID:23888-1748970000-1748980800@www.una.edu.ni
SUMMARY:Jornada deportiva de voleibol femenino y futbol sala
DESCRIPTION:
URL:https://www.una.edu.ni/event/jornada-deportiva-de-voleibol-femenino-y-futbol-sala/
LOCATION:Universidad Nacional Agraria\, Managua\, km 12 1/2\, Managua\, Nicaragua
CATEGORIES:JORNADA
END:VEVENT
BEGIN:VEVENT
DTSTART;TZID=America/Managua:20250604T090000
DTEND;TZID=America/Managua:20250604T120000
DTSTAMP:20260422T071158
CREATED:20250603T163157Z
LAST-MODIFIED:20250603T163157Z
UID:23877-1749027600-1749038400@www.una.edu.ni
SUMMARY:Jornada de desparasitación y vacunación en caninos y felinos
DESCRIPTION:
URL:https://www.una.edu.ni/event/jornada-de-desparasitacion-y-vacunacion-en-caninos-y-felinos/
LOCATION:UNICAM El Ayote\, Juigalpa\, Nicaragua
CATEGORIES:JORNADA
END:VEVENT
BEGIN:VEVENT
DTSTART;TZID=America/Managua:20250604T090000
DTEND;TZID=America/Managua:20250604T120000
DTSTAMP:20260422T071158
CREATED:20250603T191216Z
LAST-MODIFIED:20250603T191216Z
UID:23886-1749027600-1749038400@www.una.edu.ni
SUMMARY:Jornada de Reforestación "Siembra un futuro verde\, planta un árbol hoy" en saludo al Día Mundial del Ambiente
DESCRIPTION:
URL:https://www.una.edu.ni/event/jornada-de-reforestacion-siembra-un-futuro-verde-planta-un-arbol-hoy-en-saludo-al-dia-mundial-del-ambiente/
LOCATION:Universidad Nacional Agraria\, Managua\, km 12 1/2\, Managua\, Nicaragua
CATEGORIES:JORNADA
END:VEVENT
BEGIN:VEVENT
DTSTART;TZID=America/Managua:20250606T080000
DTEND;TZID=America/Managua:20250606T120000
DTSTAMP:20260422T071158
CREATED:20250606T150816Z
LAST-MODIFIED:20250606T150816Z
UID:23992-1749196800-1749211200@www.una.edu.ni
SUMMARY:Jornada de Reforestación "Siembra un futuro verde\, planta un árbol hoy" en saludo al Día Mundial del Ambiente
DESCRIPTION:
URL:https://www.una.edu.ni/event/jornada-de-reforestacion-siembra-un-futuro-verde-planta-un-arbol-hoy-en-saludo-al-dia-mundial-del-ambiente-2/
LOCATION:UNICAM El Rama\, Nicaragua
CATEGORIES:JORNADA
END:VEVENT
BEGIN:VEVENT
DTSTART;TZID=America/Managua:20250607T090000
DTEND;TZID=America/Managua:20250607T140000
DTSTAMP:20260422T071158
CREATED:20250606T150524Z
LAST-MODIFIED:20250606T150524Z
UID:23988-1749286800-1749304800@www.una.edu.ni
SUMMARY:Jornada de desparasitación y vacunación en ganado bovino
DESCRIPTION:
URL:https://www.una.edu.ni/event/jornada-de-desparasitacion-y-vacunacion-en-ganado-bovino/
LOCATION:UNICAM EL Plantel\, Nicaragua
CATEGORIES:JORNADA
END:VEVENT
BEGIN:VEVENT
DTSTART;TZID=America/Managua:20250608T090000
DTEND;TZID=America/Managua:20250608T140000
DTSTAMP:20260422T071158
CREATED:20250606T150636Z
LAST-MODIFIED:20250606T150636Z
UID:23990-1749373200-1749391200@www.una.edu.ni
SUMMARY:Jornada de desparasitación y vacunación en ganado bovino
DESCRIPTION:
URL:https://www.una.edu.ni/event/jornada-de-desparasitacion-y-vacunacion-en-ganado-bovino-2/
LOCATION:UNICAM El Rama\, Nicaragua
CATEGORIES:JORNADA
END:VEVENT
BEGIN:VEVENT
DTSTART;TZID=America/Managua:20250611T080000
DTEND;TZID=America/Managua:20250611T120000
DTSTAMP:20260422T071158
CREATED:20250609T195318Z
LAST-MODIFIED:20250609T195318Z
UID:24136-1749628800-1749643200@www.una.edu.ni
SUMMARY:Jornada de desparasitación y vitaminación en ovinos
DESCRIPTION:
URL:https://www.una.edu.ni/event/jornada-de-desparasitacion-y-vitaminacion-en-ovinos/
LOCATION:Centro Universitario Regional UNA Juigalpa\, Juigapa
CATEGORIES:JORNADA
END:VEVENT
BEGIN:VEVENT
DTSTART;TZID=America/Managua:20250613T100000
DTEND;TZID=America/Managua:20250613T130000
DTSTAMP:20260422T071158
CREATED:20250610T204757Z
LAST-MODIFIED:20250610T204757Z
UID:24177-1749808800-1749819600@www.una.edu.ni
SUMMARY:Jornada de desparasitación y vitaminación en bovinos
DESCRIPTION:
URL:https://www.una.edu.ni/event/jornada-de-desparasitacion-y-vitaminacion-en-bovinos/
LOCATION:UNICAM El Ayote\, Juigalpa\, Nicaragua
CATEGORIES:JORNADA
END:VEVENT
BEGIN:VEVENT
DTSTART;TZID=America/Managua:20250614T093000
DTEND;TZID=America/Managua:20250614T120000
DTSTAMP:20260422T071158
CREATED:20250611T144740Z
LAST-MODIFIED:20250611T144740Z
UID:24197-1749893400-1749902400@www.una.edu.ni
SUMMARY:Jornada de desparasitación y vitaminación en cerdos y aves
DESCRIPTION:
URL:https://www.una.edu.ni/event/jornada-de-desparasitacion-y-vitaminacion-en-cerdos-y-aves/
LOCATION:UNICAM San Pedro del Norte\, Nicaragua
CATEGORIES:JORNADA
END:VEVENT
BEGIN:VEVENT
DTSTART;TZID=America/Managua:20250615T080000
DTEND;TZID=America/Managua:20250615T120000
DTSTAMP:20260422T071158
CREATED:20250611T145305Z
LAST-MODIFIED:20250611T145305Z
UID:24199-1749974400-1749988800@www.una.edu.ni
SUMMARY:Jornada de desparasitación y vitaminación en caninos
DESCRIPTION:
URL:https://www.una.edu.ni/event/jornada-de-desparasitacion-y-vitaminacion-en-caninos/
LOCATION:UNICAM San Pedro de Lóvago/UNICAM El Rama\, Nicaragua
CATEGORIES:JORNADA
END:VEVENT
BEGIN:VEVENT
DTSTART;TZID=Europe/Madrid:20250623T090000
DTEND;TZID=Europe/Madrid:20250623T120000
DTSTAMP:20260422T071158
CREATED:20250623T151149Z
LAST-MODIFIED:20250623T151247Z
UID:24367-1750669200-1750680000@www.una.edu.ni
SUMMARY:Jornada Deportiva “revolución con amor” en Conmemoración del 89 Aniversario del natalicio del Padre de la Revolución Popular Sandinista\, comandante Carlos Fonseca Amador
DESCRIPTION:
URL:https://www.una.edu.ni/event/jornada-deportiva-revolucion-con-amor-en-conmemoracion-del-89-aniversario-del-natalicio-del-padre-de-la-revolucion-popular-sandinista-comandante-carlos-fonseca-amador/
LOCATION:Universidad Nacional Agraria\, Managua\, km 12 1/2\, Managua\, Nicaragua
CATEGORIES:JORNADA
END:VEVENT
END:VCALENDAR