BEGIN:VCALENDAR
VERSION:2.0
PRODID:-//Universidad Nacional Agraria - ECPv6.15.20//NONSGML v1.0//EN
CALSCALE:GREGORIAN
METHOD:PUBLISH
X-WR-CALNAME:Universidad Nacional Agraria
X-ORIGINAL-URL:https://www.una.edu.ni
X-WR-CALDESC:Eventos para Universidad Nacional Agraria
REFRESH-INTERVAL;VALUE=DURATION:PT1H
X-Robots-Tag:noindex
X-PUBLISHED-TTL:PT1H
BEGIN:VTIMEZONE
TZID:America/Managua
BEGIN:STANDARD
TZOFFSETFROM:-0600
TZOFFSETTO:-0600
TZNAME:CST
DTSTART:20230101T000000
END:STANDARD
END:VTIMEZONE
BEGIN:VEVENT
DTSTART;TZID=America/Managua:20241002T080000
DTEND;TZID=America/Managua:20241002T120000
DTSTAMP:20260424T175723
CREATED:20240930T150325Z
LAST-MODIFIED:20240930T150325Z
UID:15195-1727856000-1727870400@www.una.edu.ni
SUMMARY:Jornada en Huertos Escolares en coordinación con colegios de secundaria del municipio de Juigalpa
DESCRIPTION:
URL:https://www.una.edu.ni/event/jornada-en-huertos-escolares-en-coordinacion-con-colegios-de-secundaria-del-municipio-de-juigalpa/
LOCATION:Escuela Normal Regional Gregorio Aguilar Varea\, Nicaragua
CATEGORIES:JORNADA
END:VEVENT
END:VCALENDAR