BEGIN:VCALENDAR
VERSION:2.0
PRODID:-//Universidad Nacional Agraria - ECPv6.15.20//NONSGML v1.0//EN
CALSCALE:GREGORIAN
METHOD:PUBLISH
X-WR-CALNAME:Universidad Nacional Agraria
X-ORIGINAL-URL:https://www.una.edu.ni
X-WR-CALDESC:Eventos para Universidad Nacional Agraria
REFRESH-INTERVAL;VALUE=DURATION:PT1H
X-Robots-Tag:noindex
X-PUBLISHED-TTL:PT1H
BEGIN:VTIMEZONE
TZID:America/Managua
BEGIN:STANDARD
TZOFFSETFROM:-0600
TZOFFSETTO:-0600
TZNAME:CST
DTSTART:20240101T000000
END:STANDARD
END:VTIMEZONE
BEGIN:VEVENT
DTSTART;TZID=America/Managua:20250408T083000
DTEND;TZID=America/Managua:20250408T120000
DTSTAMP:20260424T110658
CREATED:20250407T151946Z
LAST-MODIFIED:20250407T151946Z
UID:22621-1744101000-1744113600@www.una.edu.ni
SUMMARY:Jornada de embellecimiento y reciclaje
DESCRIPTION:
URL:https://www.una.edu.ni/event/jornada-de-embellecimiento-y-reciclaje/
LOCATION:Universidad Nacional Agraria\, Managua\, km 12 1/2\, Managua\, Nicaragua
CATEGORIES:JORNADA
END:VEVENT
BEGIN:VEVENT
DTSTART;TZID=America/Managua:20250408T090000
DTEND;TZID=America/Managua:20250408T120000
DTSTAMP:20260424T110658
CREATED:20250407T152332Z
LAST-MODIFIED:20250407T152332Z
UID:22625-1744102800-1744113600@www.una.edu.ni
SUMMARY:Jornada médica veterinaria para aplicación de tratamientos antibióticos a porcinos
DESCRIPTION:
URL:https://www.una.edu.ni/event/jornada-medica-veterinaria-para-aplicacion-de-tratamientos-antibioticos-a-porcinos/
LOCATION:Centro Universitario Regional UNA Juigalpa\, Juigapa
CATEGORIES:JORNADA
END:VEVENT
END:VCALENDAR