BEGIN:VCALENDAR
VERSION:2.0
PRODID:-//Universidad Nacional Agraria - ECPv6.15.20//NONSGML v1.0//EN
CALSCALE:GREGORIAN
METHOD:PUBLISH
X-WR-CALNAME:Universidad Nacional Agraria
X-ORIGINAL-URL:https://www.una.edu.ni
X-WR-CALDESC:Eventos para Universidad Nacional Agraria
REFRESH-INTERVAL;VALUE=DURATION:PT1H
X-Robots-Tag:noindex
X-PUBLISHED-TTL:PT1H
BEGIN:VTIMEZONE
TZID:America/Managua
BEGIN:STANDARD
TZOFFSETFROM:-0600
TZOFFSETTO:-0600
TZNAME:CST
DTSTART:20240101T000000
END:STANDARD
END:VTIMEZONE
BEGIN:VEVENT
DTSTART;TZID=America/Managua:20250506T080000
DTEND;TZID=America/Managua:20250506T120000
DTSTAMP:20260425T020938
CREATED:20250505T201747Z
LAST-MODIFIED:20250505T201747Z
UID:23053-1746518400-1746532800@www.una.edu.ni
SUMMARY:Jornada de atención médica veterinaria y bienestar animal
DESCRIPTION:
URL:https://www.una.edu.ni/event/jornada-de-atencion-medica-veterinaria-y-bienestar-animal/
LOCATION:Centro Universitario Regional UNA Juigalpa\, Juigapa
CATEGORIES:JORNADA
END:VEVENT
END:VCALENDAR