BEGIN:VCALENDAR
VERSION:2.0
PRODID:-//Universidad Nacional Agraria - ECPv6.15.20//NONSGML v1.0//EN
CALSCALE:GREGORIAN
METHOD:PUBLISH
X-WR-CALNAME:Universidad Nacional Agraria
X-ORIGINAL-URL:https://www.una.edu.ni
X-WR-CALDESC:Eventos para Universidad Nacional Agraria
REFRESH-INTERVAL;VALUE=DURATION:PT1H
X-Robots-Tag:noindex
X-PUBLISHED-TTL:PT1H
BEGIN:VTIMEZONE
TZID:America/Managua
BEGIN:STANDARD
TZOFFSETFROM:-0600
TZOFFSETTO:-0600
TZNAME:CST
DTSTART:20240101T000000
END:STANDARD
END:VTIMEZONE
BEGIN:VEVENT
DTSTART;TZID=America/Managua:20250911T090000
DTEND;TZID=America/Managua:20250911T120000
DTSTAMP:20260425T220738
CREATED:20250908T200503Z
LAST-MODIFIED:20250908T200503Z
UID:26238-1757581200-1757592000@www.una.edu.ni
SUMMARY:Jornada de reforestación con la siembra de plantas frutales y ornamentales
DESCRIPTION:
URL:https://www.una.edu.ni/event/jornada-de-reforestacion-con-la-siembra-de-plantas-frutales-y-ornamentales/
LOCATION:Fincas Experimentales “Las Mercedes” y “El Plantel”\, Nicaragua
CATEGORIES:JORNADA
END:VEVENT
END:VCALENDAR