BEGIN:VCALENDAR
VERSION:2.0
PRODID:-//Universidad Nacional Agraria - ECPv6.15.20//NONSGML v1.0//EN
CALSCALE:GREGORIAN
METHOD:PUBLISH
X-WR-CALNAME:Universidad Nacional Agraria
X-ORIGINAL-URL:https://www.una.edu.ni
X-WR-CALDESC:Eventos para Universidad Nacional Agraria
REFRESH-INTERVAL;VALUE=DURATION:PT1H
X-Robots-Tag:noindex
X-PUBLISHED-TTL:PT1H
BEGIN:VTIMEZONE
TZID:America/Managua
BEGIN:STANDARD
TZOFFSETFROM:-0600
TZOFFSETTO:-0600
TZNAME:CST
DTSTART:20230101T000000
END:STANDARD
END:VTIMEZONE
BEGIN:VEVENT
DTSTART;TZID=America/Managua:20240813T130000
DTEND;TZID=America/Managua:20240813T150000
DTSTAMP:20260423T141900
CREATED:20240810T172212Z
LAST-MODIFIED:20240812T131549Z
UID:13238-1723554000-1723561200@www.una.edu.ni
SUMMARY:Taller práctico de elaboración de subproductos lácteos
DESCRIPTION:
URL:https://www.una.edu.ni/event/taller-practico-de-elaboracion-de-subproductos-lacteos/
LOCATION:Universidad Nacional Agraria\, Managua\, km 12 1/2\, Managua\, Nicaragua
CATEGORIES:TALLER
ATTACH;FMTTYPE=image/jpeg:https://www.una.edu.ni/wp-content/uploads/2024/08/tallerpratico.jpg
END:VEVENT
BEGIN:VEVENT
DTSTART;TZID=America/Managua:20240826T090000
DTEND;TZID=America/Managua:20240826T120000
DTSTAMP:20260423T141900
CREATED:20240826T161311Z
LAST-MODIFIED:20240826T161311Z
UID:14145-1724662800-1724673600@www.una.edu.ni
SUMMARY:Taller sobre uso de Herramientas de Gestión de la innovación y el emprendimiento
DESCRIPTION:
URL:https://www.una.edu.ni/event/taller-sobre-uso-de-herramientas-de-gestion-de-la-innovacion-y-el-emprendimiento/
LOCATION:UNICAM-UNA El Cuá-Bocay\, Jinotega\, Jinotega\, Nicaragua
CATEGORIES:TALLER
END:VEVENT
BEGIN:VEVENT
DTSTART;TZID=America/Managua:20240828T090000
DTEND;TZID=America/Managua:20240828T120000
DTSTAMP:20260423T141900
CREATED:20240826T161023Z
LAST-MODIFIED:20240828T140256Z
UID:14143-1724835600-1724846400@www.una.edu.ni
SUMMARY:Taller sobre herramientas para mejorar la seguridad cibernética en redes sociales y los entornos educativos
DESCRIPTION:
URL:https://www.una.edu.ni/event/taller-sobre-herramientas-para-mejorar-la-seguridad-cibernetica-en-redes-sociales-y-los-entornos-educativos/
LOCATION:Universidad Nacional Agraria\, Managua\, km 12 1/2\, Managua\, Nicaragua
CATEGORIES:TALLER
ATTACH;FMTTYPE=image/jpeg:https://www.una.edu.ni/wp-content/uploads/2024/08/Seguridad.jpg
END:VEVENT
BEGIN:VEVENT
DTSTART;TZID=America/Managua:20240828T090000
DTEND;TZID=America/Managua:20240828T120000
DTSTAMP:20260423T141900
CREATED:20240827T160620Z
LAST-MODIFIED:20240828T165221Z
UID:14221-1724835600-1724846400@www.una.edu.ni
SUMMARY:Taller sobre uso de Herramientas de Gestión de la innovación y el emprendimiento
DESCRIPTION:
URL:https://www.una.edu.ni/event/taller-sobre-uso-de-herramientas-de-gestion-de-la-innovacion-y-el-emprendimiento-2/
LOCATION:UNICAM-UNA El Castillo Boca de Sábalo\, El Castillo\, Nicaragua
CATEGORIES:TALLER
ATTACH;FMTTYPE=image/jpeg:https://www.una.edu.ni/wp-content/uploads/2024/08/HerramientasGestion.jpg
END:VEVENT
END:VCALENDAR