BEGIN:VCALENDAR
VERSION:2.0
PRODID:-//Universidad Nacional Agraria - ECPv6.15.20//NONSGML v1.0//EN
CALSCALE:GREGORIAN
METHOD:PUBLISH
X-ORIGINAL-URL:https://www.una.edu.ni
X-WR-CALDESC:Eventos para Universidad Nacional Agraria
REFRESH-INTERVAL;VALUE=DURATION:PT1H
X-Robots-Tag:noindex
X-PUBLISHED-TTL:PT1H
BEGIN:VTIMEZONE
TZID:America/Managua
BEGIN:STANDARD
TZOFFSETFROM:-0600
TZOFFSETTO:-0600
TZNAME:CST
DTSTART:20230101T000000
END:STANDARD
END:VTIMEZONE
BEGIN:VEVENT
DTSTART;TZID=America/Managua:20240904T090000
DTEND;TZID=America/Managua:20240904T130000
DTSTAMP:20260423T113226
CREATED:20240903T220759Z
LAST-MODIFIED:20240904T164424Z
UID:14478-1725440400-1725454800@www.una.edu.ni
SUMMARY:Taller de reproducción de aves exóticas mediante incubadoras artesanales
DESCRIPTION:
URL:https://www.una.edu.ni/event/taller-de-reproduccion-de-aves-exoticas-mediante-incubadoras-artesanales/
LOCATION:Centro Universitario Regional UNA Juigalpa\, Juigapa
CATEGORIES:TALLER
ATTACH;FMTTYPE=image/jpeg:https://www.una.edu.ni/wp-content/uploads/2024/09/taller.jpg
END:VEVENT
BEGIN:VEVENT
DTSTART;TZID=America/Managua:20240911T090000
DTEND;TZID=America/Managua:20240911T120000
DTSTAMP:20260423T113226
CREATED:20240907T222233Z
LAST-MODIFIED:20240907T222627Z
UID:14577-1726045200-1726056000@www.una.edu.ni
SUMMARY:Taller sobre técnicas agropecuarias en el manejo del ganado bovino
DESCRIPTION:
URL:https://www.una.edu.ni/event/taller-sobre-tecnicas-agropecuarias-en-el-manejo-del-ganado-bovino/
LOCATION:Centro de apoyo académico y desarrollo tecnológico SINAI\, Nicaragua
CATEGORIES:TALLER
END:VEVENT
BEGIN:VEVENT
DTSTART;TZID=America/Managua:20240912T090000
DTEND;TZID=America/Managua:20240912T120000
DTSTAMP:20260423T113226
CREATED:20240910T142900Z
LAST-MODIFIED:20240912T141555Z
UID:14634-1726131600-1726142400@www.una.edu.ni
SUMMARY:Taller de campo sobre técnicas en granos básicos y forrajes
DESCRIPTION:
URL:https://www.una.edu.ni/event/taller-de-campo-sobre-tecnicas-en-granos-basicos-y-forrajes/
LOCATION:Finca el Cacao\, Acuapa\, Acuapa\, Nicaragua
CATEGORIES:TALLER
ATTACH;FMTTYPE=image/jpeg:https://www.una.edu.ni/wp-content/uploads/2024/09/tallerCampo.jpg
END:VEVENT
BEGIN:VEVENT
DTSTART;TZID=America/Managua:20240912T090000
DTEND;TZID=America/Managua:20240912T120000
DTSTAMP:20260423T113226
CREATED:20240910T143043Z
LAST-MODIFIED:20240912T142231Z
UID:14637-1726131600-1726142400@www.una.edu.ni
SUMMARY:Talleres prácticos sobre técnicas de injerto en hortalizas
DESCRIPTION:
URL:https://www.una.edu.ni/event/tallers-practico-sobre-tecnicas-de-injerto-en-hortalizas/
LOCATION:Universidad Nacional Agraria\, Managua\, km 12 1/2\, Managua\, Nicaragua
CATEGORIES:TALLER
ATTACH;FMTTYPE=image/jpeg:https://www.una.edu.ni/wp-content/uploads/2024/09/tallerInjerto.jpg
END:VEVENT
BEGIN:VEVENT
DTSTART;TZID=America/Managua:20240912T090000
DTEND;TZID=America/Managua:20240912T120000
DTSTAMP:20260423T113226
CREATED:20240912T142201Z
LAST-MODIFIED:20240912T142201Z
UID:14694-1726131600-1726142400@www.una.edu.ni
SUMMARY:Talleres prácticos sobre cortes selectos de ovinos
DESCRIPTION:
URL:https://www.una.edu.ni/event/talleres-practicos-sobre-cortes-selectos-de-ovinos/
LOCATION:Universidad Nacional Agraria\, Managua\, km 12 1/2\, Managua\, Nicaragua
CATEGORIES:TALLER
ATTACH;FMTTYPE=image/jpeg:https://www.una.edu.ni/wp-content/uploads/2024/09/tallerOvinos.jpg
END:VEVENT
BEGIN:VEVENT
DTSTART;TZID=America/Managua:20240926T080000
DTEND;TZID=America/Managua:20240926T120000
DTSTAMP:20260423T113226
CREATED:20240925T162252Z
LAST-MODIFIED:20240925T214008Z
UID:14987-1727337600-1727352000@www.una.edu.ni
SUMMARY:Taller sobre el uso de fertilizantes naturales como alternativa para mejorar la producción de las familias
DESCRIPTION:
URL:https://www.una.edu.ni/event/taller-sobre-el-uso-de-fertilizantes-naturales-como-alternativa-para-mejorar-la-produccion-de-las-familias/
LOCATION:Comunidad Tiktik Kaanu\, municipio de Bluefields\, Bluefields\, Nicaragua
CATEGORIES:TALLER
ATTACH;FMTTYPE=image/jpeg:https://www.una.edu.ni/wp-content/uploads/2024/09/TallerFertilizantes.jpg
END:VEVENT
BEGIN:VEVENT
DTSTART;TZID=America/Managua:20240926T080000
DTEND;TZID=America/Managua:20240926T120000
DTSTAMP:20260423T113226
CREATED:20240925T163304Z
LAST-MODIFIED:20240925T213216Z
UID:14999-1727337600-1727352000@www.una.edu.ni
SUMMARY:Taller “Inclusión de abonos verdes para mejorar la fertilidad del suelo”
DESCRIPTION:
URL:https://www.una.edu.ni/event/taller-inclusion-de-abonos-verdes-para-mejorar-la-fertilidad-del-suelo/
LOCATION:Comunidad El Pilán\, municipio de El Ayote\, El Ayote\, Nicaragua
CATEGORIES:TALLER
ATTACH;FMTTYPE=image/jpeg:https://www.una.edu.ni/wp-content/uploads/2024/09/TallerAbonosVerdes.jpg
END:VEVENT
BEGIN:VEVENT
DTSTART;TZID=America/Managua:20240926T080000
DTEND;TZID=America/Managua:20240926T120000
DTSTAMP:20260423T113226
CREATED:20240925T163645Z
LAST-MODIFIED:20240925T212722Z
UID:15004-1727337600-1727352000@www.una.edu.ni
SUMMARY:Taller sobre prevención y control de garrapatas
DESCRIPTION:
URL:https://www.una.edu.ni/event/taller-sobre-prevencion-y-control-de-garrapatas/
LOCATION:Comunidad La Cruz\, municipio de Morrito\, Morrito\, Nicaragua
CATEGORIES:TALLER
ATTACH;FMTTYPE=image/jpeg:https://www.una.edu.ni/wp-content/uploads/2024/09/TallerPrevencionyControldeGarrapatas.jpg
END:VEVENT
BEGIN:VEVENT
DTSTART;TZID=America/Managua:20240926T100000
DTEND;TZID=America/Managua:20240926T120000
DTSTAMP:20260423T113226
CREATED:20240925T164748Z
LAST-MODIFIED:20240925T213733Z
UID:15007-1727344800-1727352000@www.una.edu.ni
SUMMARY:Taller Práctico sobre Elaboración de incubadoras artesanales para aves
DESCRIPTION:
URL:https://www.una.edu.ni/event/taller-practico-sobre-elaboracion-de-incubadoras-artesanales-para-aves/
LOCATION:UNICAM-UNA-El Plantel\, Nindirí\, Nindirí\, Nicaragua
CATEGORIES:TALLER
ATTACH;FMTTYPE=image/jpeg:https://www.una.edu.ni/wp-content/uploads/2024/09/TallerIncubadorasAves.jpg
END:VEVENT
BEGIN:VEVENT
DTSTART;TZID=America/Managua:20240926T110000
DTEND;TZID=America/Managua:20240926T130000
DTSTAMP:20260423T113226
CREATED:20240925T162838Z
LAST-MODIFIED:20240925T162838Z
UID:14994-1727348400-1727355600@www.una.edu.ni
SUMMARY:Diplomado “TecnoAgro” con el tema Cadena de Valor del Cacao
DESCRIPTION:
URL:https://www.una.edu.ni/event/diplomado-tecnoagro-con-el-tema-cadena-de-valor-del-cacao/
LOCATION:Universidad Nacional Agraria\, Managua\, km 12 1/2\, Managua\, Nicaragua
CATEGORIES:TALLER
END:VEVENT
BEGIN:VEVENT
DTSTART;TZID=America/Managua:20240927T150000
DTEND;TZID=America/Managua:20240927T170000
DTSTAMP:20260423T113226
CREATED:20240926T142536Z
LAST-MODIFIED:20240927T142327Z
UID:15066-1727449200-1727456400@www.una.edu.ni
SUMMARY:Taller en campo sobre las medidas sanitarias para evitar la propagación del gusano barrenador en los animales y personas
DESCRIPTION:
URL:https://www.una.edu.ni/event/taller-en-campo-sobre-las-medidas-sanitarias-para-evitar-la-propagacion-del-gusano-barrenador-en-los-animales-y-personas/
LOCATION:Finca Santa Rosa\, UNA-Managua\, Managua\, Nicaragua
CATEGORIES:TALLER
ATTACH;FMTTYPE=image/jpeg:https://www.una.edu.ni/wp-content/uploads/2024/09/TallerenCampo.jpg
END:VEVENT
BEGIN:VEVENT
DTSTART;TZID=America/Managua:20240928T090000
DTEND;TZID=America/Managua:20240928T120000
DTSTAMP:20260423T113226
CREATED:20240926T142045Z
LAST-MODIFIED:20240926T142045Z
UID:15062-1727514000-1727524800@www.una.edu.ni
SUMMARY:Taller práctico sobre metodologías para la identificación y características de los suelos
DESCRIPTION:
URL:https://www.una.edu.ni/event/taller-practico-sobre-metodologias-para-la-identificacion-y-caracteristicas-de-los-suelos/
LOCATION:UNICAM-UNA El Castillo Boca de Sábalo\, El Castillo\, Nicaragua
CATEGORIES:TALLER
ATTACH;FMTTYPE=image/jpeg:https://www.una.edu.ni/wp-content/uploads/2024/09/tallerpratico.jpg
END:VEVENT
END:VCALENDAR