BEGIN:VCALENDAR
VERSION:2.0
PRODID:-//Universidad Nacional Agraria - ECPv6.15.20//NONSGML v1.0//EN
CALSCALE:GREGORIAN
METHOD:PUBLISH
X-WR-CALNAME:Universidad Nacional Agraria
X-ORIGINAL-URL:https://www.una.edu.ni
X-WR-CALDESC:Eventos para Universidad Nacional Agraria
REFRESH-INTERVAL;VALUE=DURATION:PT1H
X-Robots-Tag:noindex
X-PUBLISHED-TTL:PT1H
BEGIN:VTIMEZONE
TZID:America/Managua
BEGIN:STANDARD
TZOFFSETFROM:-0600
TZOFFSETTO:-0600
TZNAME:CST
DTSTART:20230101T000000
END:STANDARD
END:VTIMEZONE
BEGIN:VTIMEZONE
TZID:Europe/Madrid
BEGIN:DAYLIGHT
TZOFFSETFROM:+0100
TZOFFSETTO:+0200
TZNAME:CEST
DTSTART:20230326T010000
END:DAYLIGHT
BEGIN:STANDARD
TZOFFSETFROM:+0200
TZOFFSETTO:+0100
TZNAME:CET
DTSTART:20231029T010000
END:STANDARD
BEGIN:DAYLIGHT
TZOFFSETFROM:+0100
TZOFFSETTO:+0200
TZNAME:CEST
DTSTART:20240331T010000
END:DAYLIGHT
BEGIN:STANDARD
TZOFFSETFROM:+0200
TZOFFSETTO:+0100
TZNAME:CET
DTSTART:20241027T010000
END:STANDARD
BEGIN:DAYLIGHT
TZOFFSETFROM:+0100
TZOFFSETTO:+0200
TZNAME:CEST
DTSTART:20250330T010000
END:DAYLIGHT
BEGIN:STANDARD
TZOFFSETFROM:+0200
TZOFFSETTO:+0100
TZNAME:CET
DTSTART:20251026T010000
END:STANDARD
END:VTIMEZONE
BEGIN:VEVENT
DTSTART;TZID=America/Managua:20241001T080000
DTEND;TZID=America/Managua:20241001T120000
DTSTAMP:20260423T100814
CREATED:20240930T144734Z
LAST-MODIFIED:20240930T144734Z
UID:15182-1727769600-1727784000@www.una.edu.ni
SUMMARY:Taller de Técnicas de ordeño y Bioseguridad en instalaciones pecuarias
DESCRIPTION:
URL:https://www.una.edu.ni/event/taller-de-tecnicas-de-ordeno-y-bioseguridad-en-instalaciones-pecuarias/
LOCATION:Muelle de los Bueyes\, Comunidad Sombrero Negro\, Nicaragua
CATEGORIES:TALLER
ATTACH;FMTTYPE=image/jpeg:https://www.una.edu.ni/wp-content/uploads/2024/09/TallerTecnicasOrde.jpg
END:VEVENT
BEGIN:VEVENT
DTSTART;TZID=America/Managua:20241003T130000
DTEND;TZID=America/Managua:20241003T170000
DTSTAMP:20260423T100814
CREATED:20241002T215106Z
LAST-MODIFIED:20241002T215114Z
UID:15291-1727960400-1727974800@www.una.edu.ni
SUMMARY:Taller creativo IDEATHON
DESCRIPTION:
URL:https://www.una.edu.ni/event/taller-creativo-ideathon/
LOCATION:Palacio de la cultura Juigalpa\, Juigalpa\, Nicaragua
CATEGORIES:TALLER
ATTACH;FMTTYPE=image/jpeg:https://www.una.edu.ni/wp-content/uploads/2024/10/TallerCreativo.jpg
END:VEVENT
BEGIN:VEVENT
DTSTART;TZID=America/Managua:20241007T080000
DTEND;TZID=America/Managua:20241007T120000
DTSTAMP:20260423T100814
CREATED:20241004T191340Z
LAST-MODIFIED:20241007T222226Z
UID:15376-1728288000-1728302400@www.una.edu.ni
SUMMARY:Taller sobre procesamiento\, transformación y agregación de valor en jengibre para la elaboración de productos cosméticos
DESCRIPTION:
URL:https://www.una.edu.ni/event/taller-sobre-procesamiento-transformacion-y-agregacion-de-valor-en-jengibre-para-la-elaboracion-de-productos-cosmeticos/
LOCATION:Universidad Nacional Agraria\, Managua\, km 12 1/2\, Managua\, Nicaragua
CATEGORIES:TALLER
END:VEVENT
BEGIN:VEVENT
DTSTART;TZID=America/Managua:20241009T080000
DTEND;TZID=America/Managua:20241009T120000
DTSTAMP:20260423T100814
CREATED:20241008T220038Z
LAST-MODIFIED:20241009T171318Z
UID:15502-1728460800-1728475200@www.una.edu.ni
SUMMARY:Taller sobre prevención y control de garrapatas en bovinos
DESCRIPTION:
URL:https://www.una.edu.ni/event/taller-sobre-prevencion-y-control-de-garrapatas-en-bovinos/
LOCATION:Municipio Santo Tomas\, Comunidad: Puertas de Paris
CATEGORIES:TALLER
ATTACH;FMTTYPE=image/jpeg:https://www.una.edu.ni/wp-content/uploads/2024/10/TallerPrevencion.jpg
END:VEVENT
BEGIN:VEVENT
DTSTART;TZID=America/Managua:20241009T080000
DTEND;TZID=America/Managua:20241009T120000
DTSTAMP:20260423T100814
CREATED:20241008T220148Z
LAST-MODIFIED:20241009T172706Z
UID:15505-1728460800-1728475200@www.una.edu.ni
SUMMARY:Taller “Generación de ideas emprendedoras y canales de comercialización”
DESCRIPTION:
URL:https://www.una.edu.ni/event/taller-generacion-de-ideas-emprendedoras-y-canales-de-comercializacion/
LOCATION:Municipio de Santa Teresa\, Carazo\, Nicaragua
CATEGORIES:TALLER
ATTACH;FMTTYPE=image/jpeg:https://www.una.edu.ni/wp-content/uploads/2024/10/TallerComercializacion.jpg
END:VEVENT
BEGIN:VEVENT
DTSTART;TZID=America/Managua:20241009T090000
DTEND;TZID=America/Managua:20241009T120000
DTSTAMP:20260423T100814
CREATED:20241008T220254Z
LAST-MODIFIED:20241009T173052Z
UID:15508-1728464400-1728475200@www.una.edu.ni
SUMMARY:Taller Teórico Práctico de Cortes Selectos de Porcino\, en coordinación con Matadero DISANIC FRESCUT
DESCRIPTION:
URL:https://www.una.edu.ni/event/taller-teorico-practico-de-cortes-selectos-de-porcino-en-coordinacion-con-matadero-disanic-frescut/
LOCATION:Universidad Nacional Agraria\, Managua\, km 12 1/2\, Managua\, Nicaragua
CATEGORIES:TALLER
ATTACH;FMTTYPE=image/jpeg:https://www.una.edu.ni/wp-content/uploads/2024/10/TallerTeoricoPratico.jpg
END:VEVENT
BEGIN:VEVENT
DTSTART;TZID=America/Managua:20241009T103000
DTEND;TZID=America/Managua:20241009T120000
DTSTAMP:20260423T100814
CREATED:20241008T215918Z
LAST-MODIFIED:20241009T172633Z
UID:15500-1728469800-1728475200@www.una.edu.ni
SUMMARY:Taller de análisis de brecha institucional\, como parte de la Estrategia Nacional de Educación Bendiciones y Victorias
DESCRIPTION:
URL:https://www.una.edu.ni/event/taller-de-analisis-de-brecha-institucional-como-parte-de-la-estrategia-nacional-de-educacion-bendiciones-y-victorias/
LOCATION:Universidad Nacional Agraria\, Managua\, km 12 1/2\, Managua\, Nicaragua
CATEGORIES:TALLER
ATTACH;FMTTYPE=image/jpeg:https://www.una.edu.ni/wp-content/uploads/2024/10/TallerAnalisideBrecha.jpg
END:VEVENT
BEGIN:VEVENT
DTSTART;TZID=America/Managua:20241009T140000
DTEND;TZID=America/Managua:20241009T160000
DTSTAMP:20260423T100814
CREATED:20241008T215246Z
LAST-MODIFIED:20241009T172744Z
UID:15490-1728482400-1728489600@www.una.edu.ni
SUMMARY:Taller sobre Manejo de viveros forestales
DESCRIPTION:
URL:https://www.una.edu.ni/event/taller-sobre-manejo-de-viveros-forestales/
LOCATION:Universidad Nacional Agraria\, Managua\, km 12 1/2\, Managua\, Nicaragua
CATEGORIES:TALLER
ATTACH;FMTTYPE=image/jpeg:https://www.una.edu.ni/wp-content/uploads/2024/10/TallerManejo.jpg
END:VEVENT
BEGIN:VEVENT
DTSTART;TZID=Europe/Madrid:20241010T080000
DTEND;TZID=Europe/Madrid:20241010T120000
DTSTAMP:20260423T100814
CREATED:20241009T194349Z
LAST-MODIFIED:20241009T194403Z
UID:15529-1728547200-1728561600@www.una.edu.ni
SUMMARY:Taller de elaboración de alimentos balanceados para aves\, cerdos y bovinos\, en coordinación con INATEC
DESCRIPTION:
URL:https://www.una.edu.ni/event/taller-de-elaboracion-de-alimentos-balanceados-para-aves-cerdos-y-bovinos-en-coordinacion-con-inatec/
LOCATION:INATEC Juigalpa\, Juigalpa\, Nicaragua
CATEGORIES:TALLER
END:VEVENT
BEGIN:VEVENT
DTSTART;TZID=America/Managua:20241010T100000
DTEND;TZID=America/Managua:20241010T120000
DTSTAMP:20260423T100814
CREATED:20241009T194841Z
LAST-MODIFIED:20241009T194841Z
UID:15539-1728554400-1728561600@www.una.edu.ni
SUMMARY:Taller sobre implementación de registros productivos y reproductivos en ganadería
DESCRIPTION:
URL:https://www.una.edu.ni/event/taller-sobre-implementacion-de-registros-productivos-y-reproductivos-en-ganaderia/
LOCATION:Muelle de los Bueyes\, Comunidad: Pilas 2.\, Nicaragua
CATEGORIES:TALLER
END:VEVENT
BEGIN:VEVENT
DTSTART;TZID=America/Managua:20241012T100000
DTEND;TZID=America/Managua:20241012T120000
DTSTAMP:20260423T100814
CREATED:20241011T143123Z
LAST-MODIFIED:20241011T143123Z
UID:15618-1728727200-1728734400@www.una.edu.ni
SUMMARY:Taller Sobre estrategias de prevención del gusano Barrenador en el ganador mayor\, Conmemorando el día Mundial de los animales
DESCRIPTION:
URL:https://www.una.edu.ni/event/taller-sobre-estrategias-de-prevencion-del-gusano-barrenador-en-el-ganador-mayor-conmemorando-el-dia-mundial-de-los-animales/
LOCATION:UNICAM UNA Ocotal\, Ocotal\, Nicaragua
CATEGORIES:TALLER
END:VEVENT
BEGIN:VEVENT
DTSTART;TZID=America/Managua:20241012T103000
DTEND;TZID=America/Managua:20241012T120000
DTSTAMP:20260423T100814
CREATED:20241011T142403Z
LAST-MODIFIED:20241011T142403Z
UID:15599-1728729000-1728734400@www.una.edu.ni
SUMMARY:Taller sobre Emprendimiento Rural
DESCRIPTION:
URL:https://www.una.edu.ni/event/taller-sobre-emprendimiento-rural/
LOCATION:Universidad Nacional Agraria\, Managua\, km 12 1/2\, Managua\, Nicaragua
CATEGORIES:TALLER
END:VEVENT
BEGIN:VEVENT
DTSTART;TZID=America/Managua:20241013T170000
DTEND;TZID=America/Managua:20241013T200000
DTSTAMP:20260423T100814
CREATED:20241011T143408Z
LAST-MODIFIED:20241011T143408Z
UID:15623-1728838800-1728849600@www.una.edu.ni
SUMMARY:Taller de arteterapia composición musical\, pintura y manualidades
DESCRIPTION:
URL:https://www.una.edu.ni/event/taller-de-arteterapia-composicion-musical-pintura-y-manualidades/
LOCATION:Universidad Nacional Agraria\, Managua\, km 12 1/2\, Managua\, Nicaragua
CATEGORIES:TALLER
END:VEVENT
BEGIN:VEVENT
DTSTART;TZID=America/Managua:20241014T090000
DTEND;TZID=America/Managua:20241014T120000
DTSTAMP:20260423T100814
CREATED:20241014T144218Z
LAST-MODIFIED:20241014T144218Z
UID:15714-1728896400-1728907200@www.una.edu.ni
SUMMARY:Taller Farmacología y vías de aplicación de productos veterinarios en la ganadería
DESCRIPTION:
URL:https://www.una.edu.ni/event/taller-farmacologia-y-vias-de-aplicacion-de-productos-veterinarios-en-la-ganaderia/
LOCATION:Comunidad El Rayo\, Juigalpa\, Juigalpa\, Nicaragua
CATEGORIES:TALLER
END:VEVENT
BEGIN:VEVENT
DTSTART;TZID=America/Managua:20241014T090000
DTEND;TZID=America/Managua:20241014T120000
DTSTAMP:20260423T100814
CREATED:20241014T144522Z
LAST-MODIFIED:20241014T144522Z
UID:15719-1728896400-1728907200@www.una.edu.ni
SUMMARY:Taller Diseño en aplicación Canva\, fortaleciendo conocimientos en el uso de herramientas para diseño de imagen de productos
DESCRIPTION:
URL:https://www.una.edu.ni/event/taller-diseno-en-aplicacion-canva-fortaleciendo-conocimientos-en-el-uso-de-herramientas-para-diseno-de-imagen-de-productos/
LOCATION:Universidad Nacional Agraria\, Managua\, km 12 1/2\, Managua\, Nicaragua
CATEGORIES:TALLER
END:VEVENT
BEGIN:VEVENT
DTSTART;TZID=America/Managua:20241014T130000
DTEND;TZID=America/Managua:20241014T170000
DTSTAMP:20260423T100814
CREATED:20241014T145137Z
LAST-MODIFIED:20241014T145137Z
UID:15725-1728910800-1728925200@www.una.edu.ni
SUMMARY:Taller Mediciones zoometrías en bovinos
DESCRIPTION:
URL:https://www.una.edu.ni/event/taller-mediciones-zoometrias-en-bovinos/
LOCATION:Finca Santa Rosa\, Universidad Nacional Agraria\, Nicaragua
CATEGORIES:TALLER
END:VEVENT
BEGIN:VEVENT
DTSTART;TZID=America/Managua:20241015T090000
DTEND;TZID=America/Managua:20241015T120000
DTSTAMP:20260423T100814
CREATED:20241014T143526Z
LAST-MODIFIED:20241014T143954Z
UID:15708-1728982800-1728993600@www.una.edu.ni
SUMMARY:Taller Inducción para prácticas de familiarización en el entorno laboral y profesional para estudiantes de UNICAM Matiguás
DESCRIPTION:
URL:https://www.una.edu.ni/event/taller-induccion-para-practicas-de-familiarizacion-en-el-entorno-laboral-y-profesional-para-estudiantes-de-unicam-matiguas/
LOCATION:UNICAM Matiguás\, Nicaragua
CATEGORIES:TALLER
END:VEVENT
BEGIN:VEVENT
DTSTART;TZID=America/Managua:20241015T090000
DTEND;TZID=America/Managua:20241015T120000
DTSTAMP:20260423T100814
CREATED:20241014T144352Z
LAST-MODIFIED:20241014T144352Z
UID:15717-1728982800-1728993600@www.una.edu.ni
SUMMARY:Taller Establecimiento y manejo de hortalizas
DESCRIPTION:
URL:https://www.una.edu.ni/event/taller-establecimiento-y-manejo-de-hortalizas/
LOCATION:Comunidad El Pilán\, municipio de El Ayote\, El Ayote\, Nicaragua
CATEGORIES:TALLER
END:VEVENT
BEGIN:VEVENT
DTSTART;TZID=America/Managua:20241015T130000
DTEND;TZID=America/Managua:20241015T170000
DTSTAMP:20260423T100814
CREATED:20241014T143718Z
LAST-MODIFIED:20241014T143718Z
UID:15710-1728997200-1729011600@www.una.edu.ni
SUMMARY:Taller Establecimiento de huertos escolares con estudiantes de secundaria del centro escolar Guillermina Guerrero y UNICAM Esquipulas
DESCRIPTION:
URL:https://www.una.edu.ni/event/taller-establecimiento-de-huertos-escolares-con-estudiantes-de-secundaria-del-centro-escolar-guillermina-guerrero-y-unicam-esquipulas/
LOCATION:Comunidad El barro\, Esquipulas
CATEGORIES:TALLER
END:VEVENT
BEGIN:VEVENT
DTSTART;TZID=Europe/Madrid:20241016T090000
DTEND;TZID=Europe/Madrid:20241016T120000
DTSTAMP:20260423T100814
CREATED:20241016T144547Z
LAST-MODIFIED:20241016T144547Z
UID:15945-1729069200-1729080000@www.una.edu.ni
SUMMARY:Taller Ciclos de reproducción del guapote en Nicaragua
DESCRIPTION:
URL:https://www.una.edu.ni/event/taller-ciclos-de-reproduccion-del-guapote-en-nicaragua/
LOCATION:Comunidad La Concha\, Muelle de los Bueyes\, Nicaragua
CATEGORIES:TALLER
END:VEVENT
BEGIN:VEVENT
DTSTART;TZID=America/Managua:20241016T100000
DTEND;TZID=America/Managua:20241016T120000
DTSTAMP:20260423T100814
CREATED:20241016T144350Z
LAST-MODIFIED:20241016T144350Z
UID:15940-1729072800-1729080000@www.una.edu.ni
SUMMARY:Taller Identificación y control de las afectaciones del gusano barrenador
DESCRIPTION:
URL:https://www.una.edu.ni/event/taller-identificacion-y-control-de-las-afectaciones-del-gusano-barrenador/
LOCATION:Comunidad La Concha\, Muelle de los Bueyes\, Nicaragua
CATEGORIES:TALLER
END:VEVENT
BEGIN:VEVENT
DTSTART;TZID=America/Managua:20241017T150000
DTEND;TZID=America/Managua:20241017T170000
DTSTAMP:20260423T100814
CREATED:20241017T133901Z
LAST-MODIFIED:20241017T133901Z
UID:15979-1729177200-1729184400@www.una.edu.ni
SUMMARY:Taller sobre “Inteligencia artificial: Turnitin en el desarrollo de investigaciones
DESCRIPTION:
URL:https://www.una.edu.ni/event/taller-sobre-inteligencia-artificial-turnitin-en-el-desarrollo-de-investigaciones/
LOCATION:Universidad Nacional Agraria\, Managua\, km 12 1/2\, Managua\, Nicaragua
CATEGORIES:TALLER
END:VEVENT
BEGIN:VEVENT
DTSTART;TZID=America/Managua:20241018T083000
DTEND;TZID=America/Managua:20241018T120000
DTSTAMP:20260423T100814
CREATED:20241018T145727Z
LAST-MODIFIED:20241018T145727Z
UID:16037-1729240200-1729252800@www.una.edu.ni
SUMMARY:Taller sobre Calidad Físico Químico de la leche cruda de rumiantes
DESCRIPTION:
URL:https://www.una.edu.ni/event/taller-sobre-calidad-fisico-quimico-de-la-leche-cruda-de-rumiantes/
LOCATION:Universidad Nacional Agraria\, Managua\, km 12 1/2\, Managua\, Nicaragua
CATEGORIES:TALLER
END:VEVENT
BEGIN:VEVENT
DTSTART;TZID=America/Managua:20241018T100000
DTEND;TZID=America/Managua:20241018T120000
DTSTAMP:20260423T100814
CREATED:20241018T144920Z
LAST-MODIFIED:20241018T144920Z
UID:16027-1729245600-1729252800@www.una.edu.ni
SUMMARY:Taller sobre estrategias de incorporación de leguminosas en la alimentación animal
DESCRIPTION:
URL:https://www.una.edu.ni/event/taller-sobre-estrategias-de-incorporacion-de-leguminosas-en-la-alimentacion-animal/
LOCATION:Comunidad Piedra Grande #3\, Juigalpa\, Juigalpa\, Nicaragua
CATEGORIES:TALLER
END:VEVENT
BEGIN:VEVENT
DTSTART;TZID=America/Managua:20241019T090000
DTEND;TZID=America/Managua:20241019T120000
DTSTAMP:20260423T100814
CREATED:20241018T151047Z
LAST-MODIFIED:20241018T151047Z
UID:16047-1729328400-1729339200@www.una.edu.ni
SUMMARY:Taller de elaboración de alimentos balanceados para producción acuícola\, en coordinación con expertos de INPESCA
DESCRIPTION:
URL:https://www.una.edu.ni/event/taller-de-elaboracion-de-alimentos-balanceados-para-produccion-acuicola-en-coordinacion-con-expertos-de-inpesca/
LOCATION:Centro Universitario Regional UNA Juigalpa\, Juigapa
CATEGORIES:TALLER
END:VEVENT
BEGIN:VEVENT
DTSTART;TZID=America/Managua:20241022T090000
DTEND;TZID=America/Managua:20241022T120000
DTSTAMP:20260423T100814
CREATED:20241021T150907Z
LAST-MODIFIED:20241021T150907Z
UID:16117-1729587600-1729598400@www.una.edu.ni
SUMMARY:Taller “Determinación del grado de compactación de suelos agrícolas”\, con demostración práctica en campo
DESCRIPTION:
URL:https://www.una.edu.ni/event/taller-determinacion-del-grado-de-compactacion-de-suelos-agricolas-con-demostracion-practica-en-campo/
LOCATION:Universidad Nacional Agraria\, Managua\, km 12 1/2\, Managua\, Nicaragua
CATEGORIES:TALLER
END:VEVENT
BEGIN:VEVENT
DTSTART;TZID=America/Managua:20241023T090000
DTEND;TZID=America/Managua:20241023T120000
DTSTAMP:20260423T100814
CREATED:20241021T170832Z
LAST-MODIFIED:20241021T170832Z
UID:16139-1729674000-1729684800@www.una.edu.ni
SUMMARY:Taller sobre Medición de la conductividad hidráulica (velocidad de infiltración) en suelos agrícolas\, con demostración práctica en campo
DESCRIPTION:
URL:https://www.una.edu.ni/event/taller-sobre-medicion-de-la-conductividad-hidraulica-velocidad-de-infiltracion-en-suelos-agricolas-con-demostracion-practica-en-campo/
LOCATION:Universidad Nacional Agraria\, Managua\, km 12 1/2\, Managua\, Nicaragua
CATEGORIES:TALLER
END:VEVENT
BEGIN:VEVENT
DTSTART;TZID=America/Managua:20241023T130000
DTEND;TZID=America/Managua:20241023T170000
DTSTAMP:20260423T100814
CREATED:20241021T170730Z
LAST-MODIFIED:20241021T170730Z
UID:16136-1729688400-1729702800@www.una.edu.ni
SUMMARY:Taller de danza nicaragüense con estudiantes del Programa Integral de Educación Superior Agraria- La Esperanza\, Tipitapa
DESCRIPTION:
URL:https://www.una.edu.ni/event/taller-de-danza-nicaraguense-con-estudiantes-del-programa-integral-de-educacion-superior-agraria-la-esperanza-tipitapa/
LOCATION:Sistema Penitenciario Nacional La Esperanza\, Nicaragua
CATEGORIES:TALLER
END:VEVENT
BEGIN:VEVENT
DTSTART;TZID=America/Managua:20241023T133000
DTEND;TZID=America/Managua:20241023T163000
DTSTAMP:20260423T100814
CREATED:20241021T151956Z
LAST-MODIFIED:20241021T151956Z
UID:16125-1729690200-1729701000@www.una.edu.ni
SUMMARY:Taller sobre Validación y Actualización del Programa Estratégico Institucional 2023-2027\, con autoridades académicas y administrativas de la UNA
DESCRIPTION:
URL:https://www.una.edu.ni/event/taller-sobre-validacion-y-actualizacion-del-programa-estrategico-institucional-2023-2027-con-autoridades-academicas-y-administrativas-de-la-una/
LOCATION:Universidad Nacional Agraria\, Managua\, km 12 1/2\, Managua\, Nicaragua
CATEGORIES:TALLER
END:VEVENT
BEGIN:VEVENT
DTSTART;TZID=America/Managua:20241024T090000
DTEND;TZID=America/Managua:20241024T120000
DTSTAMP:20260423T100814
CREATED:20241023T135118Z
LAST-MODIFIED:20241023T135118Z
UID:16190-1729760400-1729771200@www.una.edu.ni
SUMMARY:Taller sobre elaboración de técnicas de conservación de forrajes para época seca\, con productores locales
DESCRIPTION:
URL:https://www.una.edu.ni/event/taller-sobre-elaboracion-de-tecnicas-de-conservacion-de-forrajes-para-epoca-seca-con-productores-locales/
LOCATION:Comunidad San Bartolo\, Morrito-Río San Juan\, Nicaragua
CATEGORIES:TALLER
END:VEVENT
END:VCALENDAR