BEGIN:VCALENDAR
VERSION:2.0
PRODID:-//Universidad Nacional Agraria - ECPv6.15.20//NONSGML v1.0//EN
CALSCALE:GREGORIAN
METHOD:PUBLISH
X-ORIGINAL-URL:https://www.una.edu.ni
X-WR-CALDESC:Eventos para Universidad Nacional Agraria
REFRESH-INTERVAL;VALUE=DURATION:PT1H
X-Robots-Tag:noindex
X-PUBLISHED-TTL:PT1H
BEGIN:VTIMEZONE
TZID:America/Managua
BEGIN:STANDARD
TZOFFSETFROM:-0600
TZOFFSETTO:-0600
TZNAME:CST
DTSTART:20230101T000000
END:STANDARD
END:VTIMEZONE
BEGIN:VTIMEZONE
TZID:Europe/Madrid
BEGIN:DAYLIGHT
TZOFFSETFROM:+0100
TZOFFSETTO:+0200
TZNAME:CEST
DTSTART:20230326T010000
END:DAYLIGHT
BEGIN:STANDARD
TZOFFSETFROM:+0200
TZOFFSETTO:+0100
TZNAME:CET
DTSTART:20231029T010000
END:STANDARD
BEGIN:DAYLIGHT
TZOFFSETFROM:+0100
TZOFFSETTO:+0200
TZNAME:CEST
DTSTART:20240331T010000
END:DAYLIGHT
BEGIN:STANDARD
TZOFFSETFROM:+0200
TZOFFSETTO:+0100
TZNAME:CET
DTSTART:20241027T010000
END:STANDARD
BEGIN:DAYLIGHT
TZOFFSETFROM:+0100
TZOFFSETTO:+0200
TZNAME:CEST
DTSTART:20250330T010000
END:DAYLIGHT
BEGIN:STANDARD
TZOFFSETFROM:+0200
TZOFFSETTO:+0100
TZNAME:CET
DTSTART:20251026T010000
END:STANDARD
END:VTIMEZONE
BEGIN:VEVENT
DTSTART;TZID=America/Managua:20241101T090000
DTEND;TZID=America/Managua:20241101T120000
DTSTAMP:20260423T002936
CREATED:20241031T204400Z
LAST-MODIFIED:20241031T204400Z
UID:16442-1730451600-1730462400@www.una.edu.ni
SUMMARY:Taller para el manejo zoosanitario para aves y cerdos\, promoviendo la sanidad animal y el bienestar productivo en las comunidades rurales
DESCRIPTION:
URL:https://www.una.edu.ni/event/taller-para-el-manejo-zoosanitario-para-aves-y-cerdos-promoviendo-la-sanidad-animal-y-el-bienestar-productivo-en-las-comunidades-rurales/
LOCATION:Comunidad la Calera – Achuapa\, Nicaragua
CATEGORIES:TALLER
END:VEVENT
BEGIN:VEVENT
DTSTART;TZID=America/Managua:20241103T080000
DTEND;TZID=America/Managua:20241103T120000
DTSTAMP:20260423T002936
CREATED:20241031T204239Z
LAST-MODIFIED:20241031T204239Z
UID:16439-1730620800-1730635200@www.una.edu.ni
SUMMARY:Taller sobre elaboración de Subproductos Lácteos
DESCRIPTION:
URL:https://www.una.edu.ni/event/taller-sobre-elaboracion-de-subproductos-lacteos/
LOCATION:Comunidad El Jobito\, RAACS-El Rama\, Nicaragua
CATEGORIES:TALLER
END:VEVENT
BEGIN:VEVENT
DTSTART;TZID=America/Managua:20241105T080000
DTEND;TZID=America/Managua:20241105T120000
DTSTAMP:20260423T002936
CREATED:20241104T145642Z
LAST-MODIFIED:20241104T145642Z
UID:16515-1730793600-1730808000@www.una.edu.ni
SUMMARY:Taller práctico sobre establecimiento “in vitro” de musáceas
DESCRIPTION:
URL:https://www.una.edu.ni/event/taller-practico-sobre-establecimiento-in-vitro-de-musaceas/
LOCATION:Universidad Nacional Agraria\, Managua\, km 12 1/2\, Managua\, Nicaragua
CATEGORIES:TALLER
END:VEVENT
BEGIN:VEVENT
DTSTART;TZID=America/Managua:20241105T100000
DTEND;TZID=America/Managua:20241105T120000
DTSTAMP:20260423T002936
CREATED:20241104T145744Z
LAST-MODIFIED:20241104T145744Z
UID:16517-1730800800-1730808000@www.una.edu.ni
SUMMARY:Taller sobre manejo en la producción porcina tradicional
DESCRIPTION:
URL:https://www.una.edu.ni/event/taller-sobre-manejo-en-la-produccion-porcina-tradicional/
LOCATION:Chontales\, Comunidad La Altura\, Nicaragua
CATEGORIES:TALLER
END:VEVENT
BEGIN:VEVENT
DTSTART;TZID=America/Managua:20241112T080000
DTEND;TZID=America/Managua:20241112T120000
DTSTAMP:20260423T002936
CREATED:20241112T151033Z
LAST-MODIFIED:20241112T151033Z
UID:16991-1731398400-1731412800@www.una.edu.ni
SUMMARY:Taller sobre elaboración de productos a base de cacao
DESCRIPTION:
URL:https://www.una.edu.ni/event/taller-sobre-elaboracion-de-productos-a-base-de-cacao/
LOCATION:Universidad Nacional Agraria\, Managua\, km 12 1/2\, Managua\, Nicaragua
CATEGORIES:TALLER
END:VEVENT
BEGIN:VEVENT
DTSTART;TZID=America/Managua:20241114T090000
DTEND;TZID=America/Managua:20241114T120000
DTSTAMP:20260423T002936
CREATED:20241114T155232Z
LAST-MODIFIED:20241114T155232Z
UID:17023-1731574800-1731585600@www.una.edu.ni
SUMMARY:Inicio de taller dirigido a productores “procesamiento y conservación de productos agropecuarios utilizando técnicas modernas”\, con el objetivo de compartir experiencias adquiridas en la república de China
DESCRIPTION:
URL:https://www.una.edu.ni/event/inicio-de-taller-dirigido-a-productores-procesamiento-y-conservacion-de-productos-agropecuarios-utilizando-tecnicas-modernas-con-el-objetivo-de-compartir-experiencias-adquiridas-en/
LOCATION:Universidad Nacional Agraria\, Managua\, km 12 1/2\, Managua\, Nicaragua
CATEGORIES:TALLER
END:VEVENT
BEGIN:VEVENT
DTSTART;TZID=America/Managua:20241118T083000
DTEND;TZID=America/Managua:20241118T120000
DTSTAMP:20260423T002936
CREATED:20241117T224106Z
LAST-MODIFIED:20241117T225706Z
UID:17141-1731918600-1731931200@www.una.edu.ni
SUMMARY:Taller sobre elaboraciones de Concentrado a base de Moringa para la Alimentación del Ganado
DESCRIPTION:
URL:https://www.una.edu.ni/event/taller-sobre-elaboraciones-de-concentrado-a-base-de-moringa-para-la-alimentacion-del-ganado/
LOCATION:Universidad Nacional Agraria\, Managua\, km 12 1/2\, Managua\, Nicaragua
CATEGORIES:TALLER
END:VEVENT
BEGIN:VEVENT
DTSTART;TZID=America/Managua:20241118T093000
DTEND;TZID=America/Managua:20241118T130000
DTSTAMP:20260423T002936
CREATED:20241117T224714Z
LAST-MODIFIED:20241117T224714Z
UID:17149-1731922200-1731934800@www.una.edu.ni
SUMMARY:Taller de Lectura y Creatividad “Y también enséñenles a leer” en Celebración al Día Internacional del Estudiante
DESCRIPTION:
URL:https://www.una.edu.ni/event/taller-de-lectura-y-creatividad-y-tambien-ensenenles-a-leer-en-celebracion-al-dia-internacional-del-estudiante/
LOCATION:Sistema penitenciario Jorge Navarro\, municipio de Tipitapa\, Nicaragua
CATEGORIES:TALLER
END:VEVENT
BEGIN:VEVENT
DTSTART;TZID=America/Managua:20241120T130000
DTEND;TZID=America/Managua:20241120T170000
DTSTAMP:20260423T002936
CREATED:20241117T230244Z
LAST-MODIFIED:20241117T230244Z
UID:17156-1732107600-1732122000@www.una.edu.ni
SUMMARY:Taller sobre elaboraciones de Concentrado a base de Moringa para la Alimentación del Ganado
DESCRIPTION:
URL:https://www.una.edu.ni/event/taller-sobre-elaboraciones-de-concentrado-a-base-de-moringa-para-la-alimentacion-del-ganado-2/
LOCATION:Universidad Nacional Agraria\, Managua\, km 12 1/2\, Managua\, Nicaragua
CATEGORIES:TALLER
END:VEVENT
BEGIN:VEVENT
DTSTART;TZID=Europe/Madrid:20241122T150000
DTEND;TZID=Europe/Madrid:20241122T170000
DTSTAMP:20260423T002936
CREATED:20241121T221141Z
LAST-MODIFIED:20241121T221141Z
UID:18037-1732287600-1732294800@www.una.edu.ni
SUMMARY:Taller de Pintura\, Muralismo y Arte Urbano
DESCRIPTION:
URL:https://www.una.edu.ni/event/taller-de-pintura-muralismo-y-arte-urbano/
LOCATION:Universidad Nacional Agraria\, Managua\, km 12 1/2\, Managua\, Nicaragua
CATEGORIES:TALLER
END:VEVENT
BEGIN:VEVENT
DTSTART;TZID=Europe/Madrid:20241124T150000
DTEND;TZID=Europe/Madrid:20241124T170000
DTSTAMP:20260423T002936
CREATED:20241121T221348Z
LAST-MODIFIED:20241121T221348Z
UID:18039-1732460400-1732467600@www.una.edu.ni
SUMMARY:III Taller de Barroterapia
DESCRIPTION:
URL:https://www.una.edu.ni/event/iii-taller-de-barroterapia/
LOCATION:Universidad Nacional Agraria\, Managua\, km 12 1/2\, Managua\, Nicaragua
CATEGORIES:TALLER
END:VEVENT
END:VCALENDAR