BEGIN:VCALENDAR
VERSION:2.0
PRODID:-//Universidad Nacional Agraria - ECPv6.15.20//NONSGML v1.0//EN
CALSCALE:GREGORIAN
METHOD:PUBLISH
X-WR-CALNAME:Universidad Nacional Agraria
X-ORIGINAL-URL:https://www.una.edu.ni
X-WR-CALDESC:Eventos para Universidad Nacional Agraria
REFRESH-INTERVAL;VALUE=DURATION:PT1H
X-Robots-Tag:noindex
X-PUBLISHED-TTL:PT1H
BEGIN:VTIMEZONE
TZID:Europe/Madrid
BEGIN:DAYLIGHT
TZOFFSETFROM:+0100
TZOFFSETTO:+0200
TZNAME:CEST
DTSTART:20240331T010000
END:DAYLIGHT
BEGIN:STANDARD
TZOFFSETFROM:+0200
TZOFFSETTO:+0100
TZNAME:CET
DTSTART:20241027T010000
END:STANDARD
BEGIN:DAYLIGHT
TZOFFSETFROM:+0100
TZOFFSETTO:+0200
TZNAME:CEST
DTSTART:20250330T010000
END:DAYLIGHT
BEGIN:STANDARD
TZOFFSETFROM:+0200
TZOFFSETTO:+0100
TZNAME:CET
DTSTART:20251026T010000
END:STANDARD
BEGIN:DAYLIGHT
TZOFFSETFROM:+0100
TZOFFSETTO:+0200
TZNAME:CEST
DTSTART:20260329T010000
END:DAYLIGHT
BEGIN:STANDARD
TZOFFSETFROM:+0200
TZOFFSETTO:+0100
TZNAME:CET
DTSTART:20261025T010000
END:STANDARD
END:VTIMEZONE
BEGIN:VTIMEZONE
TZID:America/Managua
BEGIN:STANDARD
TZOFFSETFROM:-0600
TZOFFSETTO:-0600
TZNAME:CST
DTSTART:20240101T000000
END:STANDARD
END:VTIMEZONE
BEGIN:VEVENT
DTSTART;TZID=Europe/Madrid:20250204T080000
DTEND;TZID=Europe/Madrid:20250204T120000
DTSTAMP:20260422T153928
CREATED:20250204T142211Z
LAST-MODIFIED:20250204T142211Z
UID:20770-1738656000-1738670400@www.una.edu.ni
SUMMARY:Taller práctico “uso adecuado de plantas medicinales”
DESCRIPTION:
URL:https://www.una.edu.ni/event/taller-practico-uso-adecuado-de-plantas-medicinales/
LOCATION:Centro de Desarrollo Moringa Comandante Fidel\, municipio de León\, Nicaragua
CATEGORIES:TALLER
END:VEVENT
BEGIN:VEVENT
DTSTART;TZID=America/Managua:20250212T083000
DTEND;TZID=America/Managua:20250212T120000
DTSTAMP:20260422T153928
CREATED:20250210T110930Z
LAST-MODIFIED:20250210T110930Z
UID:21209-1739349000-1739361600@www.una.edu.ni
SUMMARY:Taller Práctico de selección alevines (pesca y sexado de alevines)
DESCRIPTION:
URL:https://www.una.edu.ni/event/taller-practico-de-seleccion-alevines-pesca-y-sexado-de-alevines/
LOCATION:Universidad Nacional Agraria\, Managua\, km 12 1/2\, Managua\, Nicaragua
CATEGORIES:TALLER
END:VEVENT
BEGIN:VEVENT
DTSTART;TZID=Europe/Madrid:20250212T090000
DTEND;TZID=Europe/Madrid:20250212T120000
DTSTAMP:20260422T153928
CREATED:20250207T222454Z
LAST-MODIFIED:20250207T222454Z
UID:21172-1739350800-1739361600@www.una.edu.ni
SUMMARY:Taller práctico sobre estrategias de alimentación ganadera para la época seca\, dirigido a productores locales
DESCRIPTION:
URL:https://www.una.edu.ni/event/taller-practico-sobre-estrategias-de-alimentacion-ganadera-para-la-epoca-seca-dirigido-a-productores-locales/
LOCATION:UNICAM El Ayote\, Juigalpa\, Nicaragua
CATEGORIES:TALLER
END:VEVENT
BEGIN:VEVENT
DTSTART;TZID=America/Managua:20250213T090000
DTEND;TZID=America/Managua:20250213T120000
DTSTAMP:20260422T153928
CREATED:20250210T111150Z
LAST-MODIFIED:20250210T111150Z
UID:21211-1739437200-1739448000@www.una.edu.ni
SUMMARY:Taller práctico sobre Valoración de la capacidad reproductiva en los toros
DESCRIPTION:
URL:https://www.una.edu.ni/event/taller-practico-sobre-valoracion-de-la-capacidad-reproductiva-en-los-toros/
LOCATION:Universidad Nacional Agraria\, Managua\, km 12 1/2\, Managua\, Nicaragua
CATEGORIES:TALLER
END:VEVENT
BEGIN:VEVENT
DTSTART;TZID=America/Managua:20250225T140000
DTEND;TZID=America/Managua:20250225T170000
DTSTAMP:20260422T153928
CREATED:20250224T204802Z
LAST-MODIFIED:20250224T204802Z
UID:21360-1740492000-1740502800@www.una.edu.ni
SUMMARY:Taller práctico sobre Ovoscopia en la selección de huevos\, técnicas y aplicaciones prácticas
DESCRIPTION:
URL:https://www.una.edu.ni/event/taller-practico-sobre-ovoscopia-en-la-seleccion-de-huevos-tecnicas-y-aplicaciones-practicas/
LOCATION:Universidad Nacional Agraria\, Managua\, km 12 1/2\, Managua\, Nicaragua
CATEGORIES:TALLER
END:VEVENT
BEGIN:VEVENT
DTSTART;TZID=America/Managua:20250227T090000
DTEND;TZID=America/Managua:20250227T120000
DTSTAMP:20260422T153928
CREATED:20250225T144428Z
LAST-MODIFIED:20250225T144445Z
UID:21400-1740646800-1740657600@www.una.edu.ni
SUMMARY:Taller práctico sobre manejo en producción\, e identificación de raza para cruce genético en ovinos caprinos
DESCRIPTION:
URL:https://www.una.edu.ni/event/taller-practico-sobre-manejo-en-produccion-e-identificacion-de-raza-para-cruce-genetico-en-ovinos-caprinos/
LOCATION:UNICAM Morrito\, Nicaragua
CATEGORIES:TALLER
END:VEVENT
END:VCALENDAR