BEGIN:VCALENDAR
VERSION:2.0
PRODID:-//Universidad Nacional Agraria - ECPv6.15.20//NONSGML v1.0//EN
CALSCALE:GREGORIAN
METHOD:PUBLISH
X-ORIGINAL-URL:https://www.una.edu.ni
X-WR-CALDESC:Eventos para Universidad Nacional Agraria
REFRESH-INTERVAL;VALUE=DURATION:PT1H
X-Robots-Tag:noindex
X-PUBLISHED-TTL:PT1H
BEGIN:VTIMEZONE
TZID:America/Managua
BEGIN:STANDARD
TZOFFSETFROM:-0600
TZOFFSETTO:-0600
TZNAME:CST
DTSTART:20240101T000000
END:STANDARD
END:VTIMEZONE
BEGIN:VTIMEZONE
TZID:Europe/Madrid
BEGIN:DAYLIGHT
TZOFFSETFROM:+0100
TZOFFSETTO:+0200
TZNAME:CEST
DTSTART:20240331T010000
END:DAYLIGHT
BEGIN:STANDARD
TZOFFSETFROM:+0200
TZOFFSETTO:+0100
TZNAME:CET
DTSTART:20241027T010000
END:STANDARD
BEGIN:DAYLIGHT
TZOFFSETFROM:+0100
TZOFFSETTO:+0200
TZNAME:CEST
DTSTART:20250330T010000
END:DAYLIGHT
BEGIN:STANDARD
TZOFFSETFROM:+0200
TZOFFSETTO:+0100
TZNAME:CET
DTSTART:20251026T010000
END:STANDARD
BEGIN:DAYLIGHT
TZOFFSETFROM:+0100
TZOFFSETTO:+0200
TZNAME:CEST
DTSTART:20260329T010000
END:DAYLIGHT
BEGIN:STANDARD
TZOFFSETFROM:+0200
TZOFFSETTO:+0100
TZNAME:CET
DTSTART:20261025T010000
END:STANDARD
END:VTIMEZONE
BEGIN:VEVENT
DTSTART;TZID=America/Managua:20250304T080000
DTEND;TZID=America/Managua:20250304T120000
DTSTAMP:20260422T130005
CREATED:20250303T173033Z
LAST-MODIFIED:20250303T173033Z
UID:21794-1741075200-1741089600@www.una.edu.ni
SUMMARY:Taller práctico con productores y emprendedores sobre Diagnóstico y control de enfermedades en los sistemas reproductivos en ovinos y caprinos
DESCRIPTION:
URL:https://www.una.edu.ni/event/taller-practico-con-productores-y-emprendedores-sobre-diagnostico-y-control-de-enfermedades-en-los-sistemas-reproductivos-en-ovinos-y-caprinos/
LOCATION:UNICAM Muelle de los Bueyes\, Nicaragua
CATEGORIES:TALLER
END:VEVENT
BEGIN:VEVENT
DTSTART;TZID=America/Managua:20250304T090000
DTEND;TZID=America/Managua:20250304T120000
DTSTAMP:20260422T130005
CREATED:20250303T173325Z
LAST-MODIFIED:20250303T173325Z
UID:21799-1741078800-1741089600@www.una.edu.ni
SUMMARY:Taller práctico con productores y emprendedores sobre Elaboración de escabeche de raíces de moringa
DESCRIPTION:
URL:https://www.una.edu.ni/event/taller-practico-con-productores-y-emprendedores-sobre-elaboracion-de-escabeche-de-raices-de-moringa/
LOCATION:Centro de Desarrollo Moringa Comandante Fidel\, municipio de León\, Nicaragua
CATEGORIES:TALLER
END:VEVENT
BEGIN:VEVENT
DTSTART;TZID=America/Managua:20250304T140000
DTEND;TZID=America/Managua:20250304T170000
DTSTAMP:20260422T130005
CREATED:20250303T173205Z
LAST-MODIFIED:20250303T173205Z
UID:21796-1741096800-1741107600@www.una.edu.ni
SUMMARY:Taller práctico con productores y emprendedores sobre Diagnóstico de enfermedades reproductivas en ganado bovino
DESCRIPTION:
URL:https://www.una.edu.ni/event/taller-practico-con-productores-y-emprendedores-sobre-diagnostico-de-enfermedades-reproductivas-en-ganado-bovino/
LOCATION:Comunidad El Cobano\, Municipio de Juigalpa\, Nicaragua
CATEGORIES:TALLER
END:VEVENT
BEGIN:VEVENT
DTSTART;TZID=America/Managua:20250305T080000
DTEND;TZID=America/Managua:20250305T120000
DTSTAMP:20260422T130005
CREATED:20250304T172945Z
LAST-MODIFIED:20250304T172945Z
UID:21848-1741161600-1741176000@www.una.edu.ni
SUMMARY:Taller práctico con productores y emprendedores sobre Cortes cárnicos especializados en pollos de patio
DESCRIPTION:
URL:https://www.una.edu.ni/event/taller-practico-con-productores-y-emprendedores-sobre-cortes-carnicos-especializados-en-pollos-de-patio/
LOCATION:Centro Universitario Regional UNA Juigalpa\, Juigapa
CATEGORIES:TALLER
END:VEVENT
BEGIN:VEVENT
DTSTART;TZID=America/Managua:20250305T080000
DTEND;TZID=America/Managua:20250305T120000
DTSTAMP:20260422T130005
CREATED:20250304T173306Z
LAST-MODIFIED:20250304T173306Z
UID:21852-1741161600-1741176000@www.una.edu.ni
SUMMARY:Taller práctico con productores y emprendedores sobre Técnicas de muestreo de plagas asociadas a la producción de harina en el cultivo de maíz
DESCRIPTION:
URL:https://www.una.edu.ni/event/taller-practico-con-productores-y-emprendedores-sobre-tecnicas-de-muestreo-de-plagas-asociadas-a-la-produccion-de-harina-en-el-cultivo-de-maiz/
LOCATION:Estación experimental CUR Juigalpa\, Nicaragua
CATEGORIES:TALLER
END:VEVENT
BEGIN:VEVENT
DTSTART;TZID=America/Managua:20250305T080000
DTEND;TZID=America/Managua:20250305T120000
DTSTAMP:20260422T130005
CREATED:20250304T173452Z
LAST-MODIFIED:20250304T173452Z
UID:21854-1741161600-1741176000@www.una.edu.ni
SUMMARY:Taller práctico con productores y emprendedores sobre Manejo zootécnico y bienestar animal en equinos y conejos
DESCRIPTION:
URL:https://www.una.edu.ni/event/taller-practico-con-productores-y-emprendedores-sobre-manejo-zootecnico-y-bienestar-animal-en-equinos-y-conejos/
LOCATION:Comunidad El Sincoyal\, Nicaragua
CATEGORIES:TALLER
END:VEVENT
BEGIN:VEVENT
DTSTART;TZID=America/Managua:20250305T130000
DTEND;TZID=America/Managua:20250305T170000
DTSTAMP:20260422T130005
CREATED:20250304T173110Z
LAST-MODIFIED:20250304T173110Z
UID:21850-1741179600-1741194000@www.una.edu.ni
SUMMARY:Taller práctico con productores y emprendedores sobre Manejo de plagas emergentes ocasionadas por el cambio climático en el cultivo de maíz
DESCRIPTION:
URL:https://www.una.edu.ni/event/taller-practico-con-productores-y-emprendedores-sobre-manejo-de-plagas-emergentes-ocasionadas-por-el-cambio-climatico-en-el-cultivo-de-maiz/
LOCATION:Estación experimental CUR Juigalpa\, Nicaragua
CATEGORIES:TALLER
END:VEVENT
BEGIN:VEVENT
DTSTART;TZID=America/Managua:20250306T080000
DTEND;TZID=America/Managua:20250306T120000
DTSTAMP:20260422T130005
CREATED:20250305T153154Z
LAST-MODIFIED:20250305T153154Z
UID:21865-1741248000-1741262400@www.una.edu.ni
SUMMARY:Taller práctico con productores y emprendedores sobre Elaboración de sustratos para el establecimiento de viveros forestales
DESCRIPTION:
URL:https://www.una.edu.ni/event/taller-practico-con-productores-y-emprendedores-sobre-elaboracion-de-sustratos-para-el-establecimiento-de-viveros-forestales/
LOCATION:Escuela Mixta San Lorenzo\, Boaco\, Nicaragua
CATEGORIES:TALLER
END:VEVENT
BEGIN:VEVENT
DTSTART;TZID=America/Managua:20250306T080000
DTEND;TZID=America/Managua:20250306T120000
DTSTAMP:20260422T130005
CREATED:20250305T153343Z
LAST-MODIFIED:20250305T153343Z
UID:21868-1741248000-1741262400@www.una.edu.ni
SUMMARY:Taller práctico con productores y emprendedores sobre Establecimiento de parcela demostrativa de variedades del cultivo de tomate
DESCRIPTION:
URL:https://www.una.edu.ni/event/taller-practico-con-productores-y-emprendedores-sobre-establecimiento-de-parcela-demostrativa-de-variedades-del-cultivo-de-tomate/
LOCATION:La Reyna\, Boaco\, Nicaragua
CATEGORIES:TALLER
END:VEVENT
BEGIN:VEVENT
DTSTART;TZID=America/Managua:20250306T140000
DTEND;TZID=America/Managua:20250306T170000
DTSTAMP:20260422T130005
CREATED:20250305T153501Z
LAST-MODIFIED:20250305T153501Z
UID:21871-1741269600-1741280400@www.una.edu.ni
SUMMARY:Taller práctico con productores y emprendedores sobre Elaboración de compostera a base de recursos locales
DESCRIPTION:
URL:https://www.una.edu.ni/event/taller-practico-con-productores-y-emprendedores-sobre-elaboracion-de-compostera-a-base-de-recursos-locales/
LOCATION:Vivero Arlen Siu\, CUR UNA Juigalpa\, Nicaragua
CATEGORIES:TALLER
END:VEVENT
BEGIN:VEVENT
DTSTART;TZID=America/Managua:20250307T080000
DTEND;TZID=America/Managua:20250307T120000
DTSTAMP:20260422T130005
CREATED:20250306T142610Z
LAST-MODIFIED:20250306T142610Z
UID:21890-1741334400-1741348800@www.una.edu.ni
SUMMARY:Taller práctico con productores y emprendedores sobre Análisis de calidad de la leche
DESCRIPTION:
URL:https://www.una.edu.ni/event/taller-practico-con-productores-y-emprendedores-sobre-analisis-de-calidad-de-la-leche/
LOCATION:UNICAM Muelle de los Bueyes\, Nicaragua
CATEGORIES:TALLER
END:VEVENT
BEGIN:VEVENT
DTSTART;TZID=America/Managua:20250307T090000
DTEND;TZID=America/Managua:20250307T120000
DTSTAMP:20260422T130005
CREATED:20250306T142342Z
LAST-MODIFIED:20250306T142342Z
UID:21886-1741338000-1741348800@www.una.edu.ni
SUMMARY:Taller práctico con productores y emprendedores sobre Elaboración de concentrado artesanal para aves de patio
DESCRIPTION:
URL:https://www.una.edu.ni/event/taller-practico-con-productores-y-emprendedores-sobre-elaboracion-de-concentrado-artesanal-para-aves-de-patio/
LOCATION:Universidad Nacional Agraria\, Managua\, km 12 1/2\, Managua\, Nicaragua
CATEGORIES:TALLER
END:VEVENT
BEGIN:VEVENT
DTSTART;TZID=America/Managua:20250307T090000
DTEND;TZID=America/Managua:20250307T120000
DTSTAMP:20260422T130005
CREATED:20250306T142449Z
LAST-MODIFIED:20250306T142449Z
UID:21888-1741338000-1741348800@www.una.edu.ni
SUMMARY:Taller práctico con productores y emprendedores sobre Elaboración de productos medicinales a base de moringa
DESCRIPTION:
URL:https://www.una.edu.ni/event/taller-practico-con-productores-y-emprendedores-sobre-elaboracion-de-productos-medicinales-a-base-de-moringa/
LOCATION:Centro de Desarrollo Moringa Comandante Fidel\, municipio de León\, Nicaragua
CATEGORIES:TALLER
END:VEVENT
BEGIN:VEVENT
DTSTART;TZID=Europe/Madrid:20250307T130000
DTEND;TZID=Europe/Madrid:20250307T170000
DTSTAMP:20260422T130005
CREATED:20250306T142117Z
LAST-MODIFIED:20250306T142117Z
UID:21884-1741352400-1741366800@www.una.edu.ni
SUMMARY:Taller práctico con productores y emprendedores sobre Inseminación artificial porcina
DESCRIPTION:
URL:https://www.una.edu.ni/event/taller-practico-con-productores-y-emprendedores-sobre-inseminacion-artificial-porcina/
LOCATION:Universidad Nacional Agraria\, Managua\, km 12 1/2\, Managua\, Nicaragua
CATEGORIES:TALLER
END:VEVENT
BEGIN:VEVENT
DTSTART;TZID=America/Managua:20250311T080000
DTEND;TZID=America/Managua:20250311T120000
DTSTAMP:20260422T130005
CREATED:20250310T172510Z
LAST-MODIFIED:20250310T172510Z
UID:21962-1741680000-1741694400@www.una.edu.ni
SUMMARY:Taller sobre Elaboración y manejo del abono orgánico
DESCRIPTION:
URL:https://www.una.edu.ni/event/taller-sobre-elaboracion-y-manejo-del-abono-organico/
LOCATION:Universidad Nacional Agraria\, Managua\, km 12 1/2\, Managua\, Nicaragua
CATEGORIES:TALLER
END:VEVENT
BEGIN:VEVENT
DTSTART;TZID=America/Managua:20250311T083000
DTEND;TZID=America/Managua:20250311T120000
DTSTAMP:20260422T130005
CREATED:20250310T171836Z
LAST-MODIFIED:20250310T171836Z
UID:21958-1741681800-1741694400@www.una.edu.ni
SUMMARY:Taller sobre Control efectivo del ciclo reproductivo del ganado bovino
DESCRIPTION:
URL:https://www.una.edu.ni/event/taller-sobre-control-efectivo-del-ciclo-reproductivo-del-ganado-bovino/
LOCATION:Universidad Nacional Agraria\, Managua\, km 12 1/2\, Managua\, Nicaragua
CATEGORIES:TALLER
END:VEVENT
BEGIN:VEVENT
DTSTART;TZID=America/Managua:20250311T083000
DTEND;TZID=America/Managua:20250311T120000
DTSTAMP:20260422T130005
CREATED:20250310T172321Z
LAST-MODIFIED:20250310T172321Z
UID:21960-1741681800-1741694400@www.una.edu.ni
SUMMARY:Taller sobre Identificación de las vías de administración y dosificación de fármacos en bovinos\, cerdos y aves
DESCRIPTION:
URL:https://www.una.edu.ni/event/taller-sobre-identificacion-de-las-vias-de-administracion-y-dosificacion-de-farmacos-en-bovinos-cerdos-y-aves/
LOCATION:Universidad Nacional Agraria\, Managua\, km 12 1/2\, Managua\, Nicaragua
CATEGORIES:TALLER
END:VEVENT
BEGIN:VEVENT
DTSTART;TZID=America/Managua:20250312T130000
DTEND;TZID=America/Managua:20250312T170000
DTSTAMP:20260422T130005
CREATED:20250310T174709Z
LAST-MODIFIED:20250310T174709Z
UID:21978-1741784400-1741798800@www.una.edu.ni
SUMMARY:Taller sobre Aplicación de productos veterinarios en animales domésticos
DESCRIPTION:
URL:https://www.una.edu.ni/event/taller-sobre-aplicacion-de-productos-veterinarios-en-animales-domesticos/
LOCATION:UNICAM/Muelle de los Bueyes\, Nicaragua
CATEGORIES:TALLER
END:VEVENT
BEGIN:VEVENT
DTSTART;TZID=America/Managua:20250314T090000
DTEND;TZID=America/Managua:20250314T120000
DTSTAMP:20260422T130005
CREATED:20250312T145944Z
LAST-MODIFIED:20250312T145944Z
UID:22080-1741942800-1741953600@www.una.edu.ni
SUMMARY:Taller diagnóstico y tratamiento quirúrgico en malformaciones congénitas de terneros
DESCRIPTION:
URL:https://www.una.edu.ni/event/taller-diagnostico-y-tratamiento-quirurgico-en-malformaciones-congenitas-de-terneros/
LOCATION:Universidad Nacional Agraria\, Managua\, km 12 1/2\, Managua\, Nicaragua
CATEGORIES:TALLER
END:VEVENT
BEGIN:VEVENT
DTSTART;TZID=America/Managua:20250314T090000
DTEND;TZID=America/Managua:20250314T120000
DTSTAMP:20260422T130005
CREATED:20250312T150229Z
LAST-MODIFIED:20250312T150229Z
UID:22082-1741942800-1741953600@www.una.edu.ni
SUMMARY:Taller elaboración de productos usando mezcla de cereal a base de maíz con inclusión de harina de marango
DESCRIPTION:
URL:https://www.una.edu.ni/event/taller-elaboracion-de-productos-usando-mezcla-de-cereal-a-base-de-maiz-con-inclusion-de-harina-de-marango/
LOCATION:Centro de Desarrollo Moringa Comandante Fidel\, municipio de León\, Nicaragua
CATEGORIES:TALLER
END:VEVENT
BEGIN:VEVENT
DTSTART;TZID=America/Managua:20250315T080000
DTEND;TZID=America/Managua:20250315T120000
DTSTAMP:20260422T130005
CREATED:20250313T142427Z
LAST-MODIFIED:20250313T142427Z
UID:22101-1742025600-1742040000@www.una.edu.ni
SUMMARY:Taller sobre elaboración de sustratos y el establecimiento de viveros forestales
DESCRIPTION:
URL:https://www.una.edu.ni/event/taller-sobre-elaboracion-de-sustratos-y-el-establecimiento-de-viveros-forestales/
LOCATION:Centro de Apoyo Académico y Desarrollo Tecnológico «La Encantadora»\, Nicaragua
CATEGORIES:TALLER
END:VEVENT
BEGIN:VEVENT
DTSTART;TZID=America/Managua:20250315T090000
DTEND;TZID=America/Managua:20250315T120000
DTSTAMP:20260422T130005
CREATED:20250312T150339Z
LAST-MODIFIED:20250312T150339Z
UID:22084-1742029200-1742040000@www.una.edu.ni
SUMMARY:Taller diagnóstico en fertilidad en toros
DESCRIPTION:
URL:https://www.una.edu.ni/event/taller-diagnostico-en-fertilidad-en-toros/
LOCATION:Centro de investigación Bernardino Diaz Ochoa\, Matiguás\, Nicaragua
CATEGORIES:TALLER
END:VEVENT
BEGIN:VEVENT
DTSTART;TZID=America/Managua:20250315T090000
DTEND;TZID=America/Managua:20250315T120000
DTSTAMP:20260422T130005
CREATED:20250313T142602Z
LAST-MODIFIED:20250313T142602Z
UID:22104-1742029200-1742040000@www.una.edu.ni
SUMMARY:Taller sobre sistemas de alimentación de ovinos y caprinos
DESCRIPTION:
URL:https://www.una.edu.ni/event/taller-sobre-sistemas-de-alimentacion-de-ovinos-y-caprinos/
LOCATION:UNICAM Morrito\, Nicaragua
CATEGORIES:TALLER
END:VEVENT
BEGIN:VEVENT
DTSTART;TZID=America/Managua:20250315T090000
DTEND;TZID=America/Managua:20250315T120000
DTSTAMP:20260422T130005
CREATED:20250313T142701Z
LAST-MODIFIED:20250313T142701Z
UID:22106-1742029200-1742040000@www.una.edu.ni
SUMMARY:Taller sobre implementación de registros productivos en ganado ovino y bovino
DESCRIPTION:
URL:https://www.una.edu.ni/event/taller-sobre-implementacion-de-registros-productivos-en-ganado-ovino-y-bovino/
LOCATION:UNICAM San Pedro de Lóvago\, Nicaragua
CATEGORIES:TALLER
END:VEVENT
BEGIN:VEVENT
DTSTART;TZID=America/Managua:20250315T130000
DTEND;TZID=America/Managua:20250315T170000
DTSTAMP:20260422T130005
CREATED:20250313T142807Z
LAST-MODIFIED:20250313T142807Z
UID:22108-1742043600-1742058000@www.una.edu.ni
SUMMARY:Taller sobre evaluación de características fenotípicas en ganado bovino
DESCRIPTION:
URL:https://www.una.edu.ni/event/taller-sobre-evaluacion-de-caracteristicas-fenotipicas-en-ganado-bovino/
LOCATION:UNICAM San Pedro de Lóvago\, Nicaragua
CATEGORIES:TALLER
END:VEVENT
BEGIN:VEVENT
DTSTART;TZID=America/Managua:20250318T090000
DTEND;TZID=America/Managua:20250318T120000
DTSTAMP:20260422T130005
CREATED:20250318T144247Z
LAST-MODIFIED:20250318T144247Z
UID:22176-1742288400-1742299200@www.una.edu.ni
SUMMARY:Taller sobre Control de parásitos en bovinos utilizando baños de aspersión
DESCRIPTION:
URL:https://www.una.edu.ni/event/taller-sobre-control-de-parasitos-en-bovinos-utilizando-banos-de-aspersion/
LOCATION:Universidad Nacional Agraria\, Managua\, km 12 1/2\, Managua\, Nicaragua
CATEGORIES:TALLER
END:VEVENT
BEGIN:VEVENT
DTSTART;TZID=America/Managua:20250318T090000
DTEND;TZID=America/Managua:20250318T120000
DTSTAMP:20260422T130005
CREATED:20250318T144503Z
LAST-MODIFIED:20250318T144503Z
UID:22178-1742288400-1742299200@www.una.edu.ni
SUMMARY:Taller sobre Sexado genético de codornices
DESCRIPTION:
URL:https://www.una.edu.ni/event/taller-sobre-sexado-genetico-de-codornices/
LOCATION:Universidad Nacional Agraria\, Managua\, km 12 1/2\, Managua\, Nicaragua
CATEGORIES:TALLER
END:VEVENT
BEGIN:VEVENT
DTSTART;TZID=America/Managua:20250318T100000
DTEND;TZID=America/Managua:20250318T120000
DTSTAMP:20260422T130005
CREATED:20250318T144124Z
LAST-MODIFIED:20250318T144124Z
UID:22173-1742292000-1742299200@www.una.edu.ni
SUMMARY:Taller sobre Diagnóstico y control de brucelosis y tuberculosis en el ganado bovino
DESCRIPTION:
URL:https://www.una.edu.ni/event/taller-sobre-diagnostico-y-control-de-brucelosis-y-tuberculosis-en-el-ganado-bovino/
LOCATION:Finca Quinta Martha\, Muelle de los Bueyes\, Nicaragua
CATEGORIES:TALLER
END:VEVENT
BEGIN:VEVENT
DTSTART;TZID=America/Managua:20250319T080000
DTEND;TZID=America/Managua:20250319T120000
DTSTAMP:20260422T130005
CREATED:20250318T144608Z
LAST-MODIFIED:20250318T144608Z
UID:22180-1742371200-1742385600@www.una.edu.ni
SUMMARY:Taller sobre Diagnóstico de gestación en ganado bovino
DESCRIPTION:
URL:https://www.una.edu.ni/event/taller-sobre-diagnostico-de-gestacion-en-ganado-bovino/
LOCATION:Comarca El Espejo\, Juigalpa\, Nicaragua
CATEGORIES:TALLER
END:VEVENT
BEGIN:VEVENT
DTSTART;TZID=America/Managua:20250319T083000
DTEND;TZID=America/Managua:20250319T120000
DTSTAMP:20260422T130005
CREATED:20250318T144710Z
LAST-MODIFIED:20250318T144710Z
UID:22183-1742373000-1742385600@www.una.edu.ni
SUMMARY:Taller sobre Manejo de cultivo de tilapia
DESCRIPTION:
URL:https://www.una.edu.ni/event/taller-sobre-manejo-de-cultivo-de-tilapia/
LOCATION:Universidad Nacional Agraria\, Managua\, km 12 1/2\, Managua\, Nicaragua
CATEGORIES:TALLER
END:VEVENT
END:VCALENDAR