BEGIN:VCALENDAR
VERSION:2.0
PRODID:-//Universidad Nacional Agraria - ECPv6.15.20//NONSGML v1.0//EN
CALSCALE:GREGORIAN
METHOD:PUBLISH
X-WR-CALNAME:Universidad Nacional Agraria
X-ORIGINAL-URL:https://www.una.edu.ni
X-WR-CALDESC:Eventos para Universidad Nacional Agraria
REFRESH-INTERVAL;VALUE=DURATION:PT1H
X-Robots-Tag:noindex
X-PUBLISHED-TTL:PT1H
BEGIN:VTIMEZONE
TZID:America/Managua
BEGIN:STANDARD
TZOFFSETFROM:-0600
TZOFFSETTO:-0600
TZNAME:CST
DTSTART:20240101T000000
END:STANDARD
END:VTIMEZONE
BEGIN:VTIMEZONE
TZID:Europe/Madrid
BEGIN:DAYLIGHT
TZOFFSETFROM:+0100
TZOFFSETTO:+0200
TZNAME:CEST
DTSTART:20240331T010000
END:DAYLIGHT
BEGIN:STANDARD
TZOFFSETFROM:+0200
TZOFFSETTO:+0100
TZNAME:CET
DTSTART:20241027T010000
END:STANDARD
BEGIN:DAYLIGHT
TZOFFSETFROM:+0100
TZOFFSETTO:+0200
TZNAME:CEST
DTSTART:20250330T010000
END:DAYLIGHT
BEGIN:STANDARD
TZOFFSETFROM:+0200
TZOFFSETTO:+0100
TZNAME:CET
DTSTART:20251026T010000
END:STANDARD
BEGIN:DAYLIGHT
TZOFFSETFROM:+0100
TZOFFSETTO:+0200
TZNAME:CEST
DTSTART:20260329T010000
END:DAYLIGHT
BEGIN:STANDARD
TZOFFSETFROM:+0200
TZOFFSETTO:+0100
TZNAME:CET
DTSTART:20261025T010000
END:STANDARD
END:VTIMEZONE
BEGIN:VEVENT
DTSTART;TZID=America/Managua:20250401T080000
DTEND;TZID=America/Managua:20250401T120000
DTSTAMP:20260422T125700
CREATED:20250331T161813Z
LAST-MODIFIED:20250331T161813Z
UID:22466-1743494400-1743508800@www.una.edu.ni
SUMMARY:Taller sobre Prevención y control de enfermedades bovinas
DESCRIPTION:
URL:https://www.una.edu.ni/event/taller-sobre-prevencion-y-control-de-enfermedades-bovinas/
LOCATION:Centro Universitario Regional UNA Juigalpa\, Juigapa
CATEGORIES:TALLER
END:VEVENT
BEGIN:VEVENT
DTSTART;TZID=America/Managua:20250401T090000
DTEND;TZID=America/Managua:20250401T120000
DTSTAMP:20260422T125700
CREATED:20250331T161441Z
LAST-MODIFIED:20250331T161441Z
UID:22462-1743498000-1743508800@www.una.edu.ni
SUMMARY:Taller sobre Análisis e identificación de elementos químicos en alimentos cárnicos
DESCRIPTION:
URL:https://www.una.edu.ni/event/taller-sobre-analisis-e-identificacion-de-elementos-quimicos-en-alimentos-carnicos/
LOCATION:Centro Universitario Regional UNA Juigalpa\, Juigapa
CATEGORIES:TALLER
END:VEVENT
BEGIN:VEVENT
DTSTART;TZID=America/Managua:20250401T100000
DTEND;TZID=America/Managua:20250401T120000
DTSTAMP:20260422T125700
CREATED:20250331T161656Z
LAST-MODIFIED:20250331T161656Z
UID:22464-1743501600-1743508800@www.una.edu.ni
SUMMARY:Taller sobre Identificación de fauna silvestre para el Turismo rural
DESCRIPTION:
URL:https://www.una.edu.ni/event/taller-sobre-identificacion-de-fauna-silvestre-para-el-turismo-rural/
LOCATION:Universidad Nacional Agraria\, Managua\, km 12 1/2\, Managua\, Nicaragua
CATEGORIES:TALLER
END:VEVENT
BEGIN:VEVENT
DTSTART;TZID=America/Managua:20250402T080000
DTEND;TZID=America/Managua:20250402T120000
DTSTAMP:20260422T125700
CREATED:20250401T165008Z
LAST-MODIFIED:20250401T165008Z
UID:22517-1743580800-1743595200@www.una.edu.ni
SUMMARY:Taller sobre Evaluación de calidad seminal en bovinos reproductores
DESCRIPTION:
URL:https://www.una.edu.ni/event/taller-sobre-evaluacion-de-calidad-seminal-en-bovinos-reproductores/
LOCATION:UNICAM San Pedro de Lóvago\, Nicaragua
CATEGORIES:TALLER
END:VEVENT
BEGIN:VEVENT
DTSTART;TZID=America/Managua:20250402T090000
DTEND;TZID=America/Managua:20250402T120000
DTSTAMP:20260422T125700
CREATED:20250401T164819Z
LAST-MODIFIED:20250401T164819Z
UID:22515-1743584400-1743595200@www.una.edu.ni
SUMMARY:Taller sobre Extracción de aceite de semilla de marango
DESCRIPTION:
URL:https://www.una.edu.ni/event/taller-sobre-extraccion-de-aceite-de-semilla-de-marango/
LOCATION:Centro de Desarrollo Moringa Comandante Fidel\, municipio de León\, Nicaragua
CATEGORIES:TALLER
END:VEVENT
BEGIN:VEVENT
DTSTART;TZID=America/Managua:20250402T130000
DTEND;TZID=America/Managua:20250402T170000
DTSTAMP:20260422T125700
CREATED:20250401T164715Z
LAST-MODIFIED:20250401T164715Z
UID:22511-1743598800-1743613200@www.una.edu.ni
SUMMARY:Taller sobre Manejo de residuos orgánicos para compostaje
DESCRIPTION:
URL:https://www.una.edu.ni/event/taller-sobre-manejo-de-residuos-organicos-para-compostaje/
LOCATION:Universidad Nacional Agraria\, Managua\, km 12 1/2\, Managua\, Nicaragua
CATEGORIES:TALLER
END:VEVENT
BEGIN:VEVENT
DTSTART;TZID=America/Managua:20250402T140000
DTEND;TZID=America/Managua:20250402T170000
DTSTAMP:20260422T125700
CREATED:20250401T165158Z
LAST-MODIFIED:20250401T165158Z
UID:22519-1743602400-1743613200@www.una.edu.ni
SUMMARY:Taller sobre Manejo agronómico del cultivo de frijol
DESCRIPTION:
URL:https://www.una.edu.ni/event/taller-sobre-manejo-agronomico-del-cultivo-de-frijol/
LOCATION:Centro Universitario Regional UNA Juigalpa\, Juigapa
CATEGORIES:TALLER
END:VEVENT
BEGIN:VEVENT
DTSTART;TZID=America/Managua:20250403T080000
DTEND;TZID=America/Managua:20250403T120000
DTSTAMP:20260422T125700
CREATED:20250401T165612Z
LAST-MODIFIED:20250401T165612Z
UID:22521-1743667200-1743681600@www.una.edu.ni
SUMMARY:Taller sobre Recolección de datos biofísicos para la gestión integral de cuencas hidrográficas
DESCRIPTION:
URL:https://www.una.edu.ni/event/taller-sobre-recoleccion-de-datos-biofisicos-para-la-gestion-integral-de-cuencas-hidrograficas/
LOCATION:Comunidad El Ocote\, Matagalpa\, Nicaragua
CATEGORIES:TALLER
END:VEVENT
BEGIN:VEVENT
DTSTART;TZID=America/Managua:20250407T080000
DTEND;TZID=America/Managua:20250407T120000
DTSTAMP:20260422T125700
CREATED:20250407T150010Z
LAST-MODIFIED:20250407T150010Z
UID:22611-1744012800-1744027200@www.una.edu.ni
SUMMARY:Taller sobre Manejo nutricional y veterinario en equinos
DESCRIPTION:
URL:https://www.una.edu.ni/event/taller-sobre-manejo-nutricional-y-veterinario-en-equinos/
LOCATION:Centro Universitario Regional UNA Camoapa\, Camoapa
CATEGORIES:TALLER
END:VEVENT
BEGIN:VEVENT
DTSTART;TZID=America/Managua:20250407T090000
DTEND;TZID=America/Managua:20250407T120000
DTSTAMP:20260422T125700
CREATED:20250407T150207Z
LAST-MODIFIED:20250407T150207Z
UID:22613-1744016400-1744027200@www.una.edu.ni
SUMMARY:Taller sobre Métodos de sujeción en animales domésticos
DESCRIPTION:
URL:https://www.una.edu.ni/event/taller-sobre-metodos-de-sujecion-en-animales-domesticos/
LOCATION:Universidad Nacional Agraria\, Managua\, km 12 1/2\, Managua\, Nicaragua
CATEGORIES:TALLER
END:VEVENT
BEGIN:VEVENT
DTSTART;TZID=America/Managua:20250407T123000
DTEND;TZID=America/Managua:20250407T170000
DTSTAMP:20260422T125700
CREATED:20250407T145538Z
LAST-MODIFIED:20250407T145538Z
UID:22609-1744029000-1744045200@www.una.edu.ni
SUMMARY:Taller sobre Manejo agro técnico de los sistemas de pasturas
DESCRIPTION:
URL:https://www.una.edu.ni/event/taller-sobre-manejo-agro-tecnico-de-los-sistemas-de-pasturas/
LOCATION:Universidad Nacional Agraria\, Managua\, km 12 1/2\, Managua\, Nicaragua
CATEGORIES:TALLER
END:VEVENT
BEGIN:VEVENT
DTSTART;TZID=America/Managua:20250408T080000
DTEND;TZID=America/Managua:20250408T120000
DTSTAMP:20260422T125700
CREATED:20250408T160106Z
LAST-MODIFIED:20250408T160106Z
UID:22672-1744099200-1744113600@www.una.edu.ni
SUMMARY:Taller sobre Manejo agronómico de variedades de maíz
DESCRIPTION:
URL:https://www.una.edu.ni/event/taller-sobre-manejo-agronomico-de-variedades-de-maiz/
LOCATION:Universidad Nacional Agraria\, Managua\, km 12 1/2\, Managua\, Nicaragua
CATEGORIES:TALLER
END:VEVENT
BEGIN:VEVENT
DTSTART;TZID=America/Managua:20250408T090000
DTEND;TZID=America/Managua:20250408T120000
DTSTAMP:20260422T125700
CREATED:20250408T155032Z
LAST-MODIFIED:20250408T155032Z
UID:22665-1744102800-1744113600@www.una.edu.ni
SUMMARY:Taller sobre Elaboración de jugo a base de marango y control de calidad previo al proceso de envasado
DESCRIPTION:
URL:https://www.una.edu.ni/event/taller-sobre-elaboracion-de-jugo-a-base-de-marango-y-control-de-calidad-previo-al-proceso-de-envasado/
LOCATION:Centro de Desarrollo Moringa Comandante Fidel\, municipio de León\, Nicaragua
CATEGORIES:TALLER
END:VEVENT
BEGIN:VEVENT
DTSTART;TZID=Europe/Madrid:20250408T100000
DTEND;TZID=Europe/Madrid:20250408T120000
DTSTAMP:20260422T125700
CREATED:20250408T155728Z
LAST-MODIFIED:20250408T155728Z
UID:22667-1744106400-1744113600@www.una.edu.ni
SUMMARY:Taller sobre Proyección de negocios agropecuarios
DESCRIPTION:
URL:https://www.una.edu.ni/event/taller-sobre-proyeccion-de-negocios-agropecuarios/
LOCATION:Universidad Nacional Agraria\, Managua\, km 12 1/2\, Managua\, Nicaragua
CATEGORIES:TALLER
END:VEVENT
BEGIN:VEVENT
DTSTART;TZID=America/Managua:20250408T130000
DTEND;TZID=America/Managua:20250408T170000
DTSTAMP:20260422T125700
CREATED:20250408T155947Z
LAST-MODIFIED:20250408T155947Z
UID:22669-1744117200-1744131600@www.una.edu.ni
SUMMARY:Taller sobre Elaboración de alternativas alimentarias para ganado bovino en época seca
DESCRIPTION:
URL:https://www.una.edu.ni/event/taller-sobre-elaboracion-de-alternativas-alimentarias-para-ganado-bovino-en-epoca-seca/
LOCATION:Finca San Pedro Reyes\, Esquipulas Matagalpa\, Nicaragua
CATEGORIES:TALLER
END:VEVENT
BEGIN:VEVENT
DTSTART;TZID=America/Managua:20250409T100000
DTEND;TZID=America/Managua:20250409T120000
DTSTAMP:20260422T125700
CREATED:20250408T153103Z
LAST-MODIFIED:20250408T153103Z
UID:22659-1744192800-1744200000@www.una.edu.ni
SUMMARY:Taller “Potenciando talentos para innovar y emprender con inteligencia artificial en las ciencias agrarias”
DESCRIPTION:
URL:https://www.una.edu.ni/event/taller-potenciando-talentos-para-innovar-y-emprender-con-inteligencia-artificial-en-las-ciencias-agrarias/
LOCATION:Universidad Nacional Agraria\, Managua\, km 12 1/2\, Managua\, Nicaragua
CATEGORIES:TALLER
END:VEVENT
BEGIN:VEVENT
DTSTART;TZID=America/Managua:20250409T100000
DTEND;TZID=America/Managua:20250409T120000
DTSTAMP:20260422T125700
CREATED:20250408T160227Z
LAST-MODIFIED:20250408T160227Z
UID:22674-1744192800-1744200000@www.una.edu.ni
SUMMARY:Taller sobre Manejo Adecuado de Lechones
DESCRIPTION:
URL:https://www.una.edu.ni/event/taller-sobre-manejo-adecuado-de-lechones/
LOCATION:Universidad Nacional Agraria\, Managua\, km 12 1/2\, Managua\, Nicaragua
CATEGORIES:TALLER
END:VEVENT
BEGIN:VEVENT
DTSTART;TZID=America/Managua:20250409T130000
DTEND;TZID=America/Managua:20250409T170000
DTSTAMP:20260422T125700
CREATED:20250408T160903Z
LAST-MODIFIED:20250408T160903Z
UID:22678-1744203600-1744218000@www.una.edu.ni
SUMMARY:Taller sobre Diagnóstico geoespacial del riesgo climático
DESCRIPTION:
URL:https://www.una.edu.ni/event/taller-sobre-diagnostico-geoespacial-del-riesgo-climatico/
LOCATION:Universidad Nacional Agraria\, Managua\, km 12 1/2\, Managua\, Nicaragua
CATEGORIES:TALLER
END:VEVENT
BEGIN:VEVENT
DTSTART;TZID=America/Managua:20250409T140000
DTEND;TZID=America/Managua:20250409T170000
DTSTAMP:20260422T125700
CREATED:20250408T160750Z
LAST-MODIFIED:20250408T160750Z
UID:22676-1744207200-1744218000@www.una.edu.ni
SUMMARY:Caracterización forrajera en variedades criollas de maíz
DESCRIPTION:
URL:https://www.una.edu.ni/event/caracterizacion-forrajera-en-variedades-criollas-de-maiz/
LOCATION:Centro Universitario Regional UNA Juigalpa\, Juigapa
CATEGORIES:TALLER
END:VEVENT
BEGIN:VEVENT
DTSTART;TZID=America/Managua:20250410T080000
DTEND;TZID=America/Managua:20250410T120000
DTSTAMP:20260422T125700
CREATED:20250409T161422Z
LAST-MODIFIED:20250409T161422Z
UID:22740-1744272000-1744286400@www.una.edu.ni
SUMMARY:Taller sobre Producción de maíz para elaboración de ensilaje en ganadería
DESCRIPTION:
URL:https://www.una.edu.ni/event/taller-sobre-produccion-de-maiz-para-elaboracion-de-ensilaje-en-ganaderia/
LOCATION:UNICAM El Rama\, Nicaragua
CATEGORIES:TALLER
END:VEVENT
BEGIN:VEVENT
DTSTART;TZID=America/Managua:20250410T080000
DTEND;TZID=America/Managua:20250410T120000
DTSTAMP:20260422T125700
CREATED:20250409T161610Z
LAST-MODIFIED:20250409T161610Z
UID:22742-1744272000-1744286400@www.una.edu.ni
SUMMARY:Taller sobre Valor agregado de carne porcina
DESCRIPTION:
URL:https://www.una.edu.ni/event/taller-sobre-valor-agregado-de-carne-porcina/
LOCATION:Comunidad Santa Elisa\, Bluefields\, Nicaragua
CATEGORIES:TALLER
END:VEVENT
BEGIN:VEVENT
DTSTART;TZID=America/Managua:20250410T090000
DTEND;TZID=America/Managua:20250410T120000
DTSTAMP:20260422T125700
CREATED:20250409T161723Z
LAST-MODIFIED:20250409T161723Z
UID:22745-1744275600-1744286400@www.una.edu.ni
SUMMARY:Taller sobre Proceso de pesado y descortezado de la semilla de marango
DESCRIPTION:
URL:https://www.una.edu.ni/event/taller-sobre-proceso-de-pesado-y-descortezado-de-la-semilla-de-marango/
LOCATION:Centro de Desarrollo Moringa Comandante Fidel\, municipio de León\, Nicaragua
CATEGORIES:TALLER
END:VEVENT
BEGIN:VEVENT
DTSTART;TZID=Europe/Madrid:20250411T080000
DTEND;TZID=Europe/Madrid:20250411T120000
DTSTAMP:20260422T125700
CREATED:20250410T145019Z
LAST-MODIFIED:20250410T145019Z
UID:22751-1744358400-1744372800@www.una.edu.ni
SUMMARY:Taller sobre Elaboración de bloques multinutricionales para alimentación de ovinos y caprinos
DESCRIPTION:
URL:https://www.una.edu.ni/event/taller-sobre-elaboracion-de-bloques-multinutricionales-para-alimentacion-de-ovinos-y-caprinos/
LOCATION:UNICAM Morrito\, Nicaragua
CATEGORIES:TALLER
END:VEVENT
BEGIN:VEVENT
DTSTART;TZID=America/Managua:20250411T080000
DTEND;TZID=America/Managua:20250411T120000
DTSTAMP:20260422T125700
CREATED:20250410T145239Z
LAST-MODIFIED:20250410T145239Z
UID:22753-1744358400-1744372800@www.una.edu.ni
SUMMARY:Taller sobre Manejo Nutricional Porcino
DESCRIPTION:
URL:https://www.una.edu.ni/event/taller-sobre-manejo-nutricional-porcino/
LOCATION:Programa Porcino “Cocibolca”\, Nicaragua
CATEGORIES:TALLER
END:VEVENT
BEGIN:VEVENT
DTSTART;TZID=Europe/Madrid:20250412T090000
DTEND;TZID=Europe/Madrid:20250412T120000
DTSTAMP:20260422T125700
CREATED:20250410T145336Z
LAST-MODIFIED:20250410T145336Z
UID:22755-1744448400-1744459200@www.una.edu.ni
SUMMARY:Taller sobre Genética y Selección de Cerdas Reproductoras
DESCRIPTION:
URL:https://www.una.edu.ni/event/taller-sobre-genetica-y-seleccion-de-cerdas-reproductoras/
LOCATION:Programa Porcino “Cocibolca”\, Nicaragua
CATEGORIES:TALLER
END:VEVENT
BEGIN:VEVENT
DTSTART;TZID=America/Managua:20250428T090000
DTEND;TZID=America/Managua:20250428T120000
DTSTAMP:20260422T125700
CREATED:20250428T163033Z
LAST-MODIFIED:20250428T163033Z
UID:22888-1745830800-1745841600@www.una.edu.ni
SUMMARY:Taller sobre Análisis de inocuidad y calidad de agua en estanques de peces de tilapia
DESCRIPTION:
URL:https://www.una.edu.ni/event/taller-sobre-analisis-de-inocuidad-y-calidad-de-agua-en-estanques-de-peces-de-tilapia/
LOCATION:Centro Universitario Regional UNA Juigalpa\, Juigapa
CATEGORIES:TALLER
END:VEVENT
BEGIN:VEVENT
DTSTART;TZID=America/Managua:20250429T130000
DTEND;TZID=America/Managua:20250429T170000
DTSTAMP:20260422T125700
CREATED:20250428T163136Z
LAST-MODIFIED:20250428T163136Z
UID:22890-1745931600-1745946000@www.una.edu.ni
SUMMARY:Taller sobre Fertilización química y orgánica de variedades de maíz en parcelas experimentales
DESCRIPTION:
URL:https://www.una.edu.ni/event/taller-sobre-fertilizacion-quimica-y-organica-de-variedades-de-maiz-en-parcelas-experimentales/
LOCATION:Universidad Nacional Agraria\, Managua\, km 12 1/2\, Managua\, Nicaragua
CATEGORIES:TALLER
END:VEVENT
BEGIN:VEVENT
DTSTART;TZID=America/Managua:20250430T090000
DTEND;TZID=America/Managua:20250430T120000
DTSTAMP:20260422T125700
CREATED:20250428T163300Z
LAST-MODIFIED:20250428T163300Z
UID:22892-1746003600-1746014400@www.una.edu.ni
SUMMARY:Taller sobre Crianza\, manejo y reproducción de codornices
DESCRIPTION:
URL:https://www.una.edu.ni/event/taller-sobre-crianza-manejo-y-reproduccion-de-codornices/
LOCATION:Centro Universitario Regional UNA Juigalpa\, Juigapa
CATEGORIES:TALLER
END:VEVENT
END:VCALENDAR