BEGIN:VCALENDAR
VERSION:2.0
PRODID:-//Universidad Nacional Agraria - ECPv6.15.20//NONSGML v1.0//EN
CALSCALE:GREGORIAN
METHOD:PUBLISH
X-WR-CALNAME:Universidad Nacional Agraria
X-ORIGINAL-URL:https://www.una.edu.ni
X-WR-CALDESC:Eventos para Universidad Nacional Agraria
REFRESH-INTERVAL;VALUE=DURATION:PT1H
X-Robots-Tag:noindex
X-PUBLISHED-TTL:PT1H
BEGIN:VTIMEZONE
TZID:America/Managua
BEGIN:STANDARD
TZOFFSETFROM:-0600
TZOFFSETTO:-0600
TZNAME:CST
DTSTART:20240101T000000
END:STANDARD
END:VTIMEZONE
BEGIN:VEVENT
DTSTART;TZID=America/Managua:20250701T080000
DTEND;TZID=America/Managua:20250701T120000
DTSTAMP:20260422T012650
CREATED:20250701T143441Z
LAST-MODIFIED:20250701T143441Z
UID:24436-1751356800-1751371200@www.una.edu.ni
SUMMARY:Taller sobre Preparación de áreas para la producción de hortalizas
DESCRIPTION:
URL:https://www.una.edu.ni/event/taller-sobre-preparacion-de-areas-para-la-produccion-de-hortalizas/
LOCATION:Centro Regional “Don Orlando”\, Niquinohomo\, Nicaragua
CATEGORIES:TALLER
END:VEVENT
BEGIN:VEVENT
DTSTART;TZID=America/Managua:20250701T090000
DTEND;TZID=America/Managua:20250701T120000
DTSTAMP:20260422T012650
CREATED:20250701T143649Z
LAST-MODIFIED:20250701T143649Z
UID:24441-1751360400-1751371200@www.una.edu.ni
SUMMARY:Taller sobre Fertilización de bancos de forraje
DESCRIPTION:
URL:https://www.una.edu.ni/event/taller-sobre-fertilizacion-de-bancos-de-forraje/
LOCATION:Universidad Nacional Agraria\, Managua\, km 12 1/2\, Managua\, Nicaragua
CATEGORIES:TALLER
END:VEVENT
BEGIN:VEVENT
DTSTART;TZID=America/Managua:20250701T130000
DTEND;TZID=America/Managua:20250701T170000
DTSTAMP:20260422T012650
CREATED:20250701T143547Z
LAST-MODIFIED:20250701T143547Z
UID:24439-1751374800-1751389200@www.una.edu.ni
SUMMARY:Taller sobre Establecimiento de maíz amarillo como alternativa de alimentación de ganado bovino en época seca
DESCRIPTION:
URL:https://www.una.edu.ni/event/taller-sobre-establecimiento-de-maiz-amarillo-como-alternativa-de-alimentacion-de-ganado-bovino-en-epoca-seca/
LOCATION:UNICAM Muelle de los Bueyes\, Nicaragua
CATEGORIES:TALLER
END:VEVENT
BEGIN:VEVENT
DTSTART;TZID=America/Managua:20250702T080000
DTEND;TZID=America/Managua:20250702T120000
DTSTAMP:20260422T012650
CREATED:20250701T143805Z
LAST-MODIFIED:20250701T143805Z
UID:24443-1751443200-1751457600@www.una.edu.ni
SUMMARY:Taller sobre Manejo reproductivo de alevines
DESCRIPTION:
URL:https://www.una.edu.ni/event/taller-sobre-manejo-reproductivo-de-alevines/
LOCATION:Centro de práctica acuícola\, Nicaragua
CATEGORIES:TALLER
END:VEVENT
BEGIN:VEVENT
DTSTART;TZID=America/Managua:20250702T090000
DTEND;TZID=America/Managua:20250702T120000
DTSTAMP:20260422T012650
CREATED:20250701T144005Z
LAST-MODIFIED:20250701T144005Z
UID:24447-1751446800-1751457600@www.una.edu.ni
SUMMARY:Taller sobre Establecimiento de banco de proteínas a base de marango
DESCRIPTION:
URL:https://www.una.edu.ni/event/taller-sobre-establecimiento-de-banco-de-proteinas-a-base-de-marango/
LOCATION:Universidad Nacional Agraria\, Managua\, km 12 1/2\, Managua\, Nicaragua
CATEGORIES:TALLER
END:VEVENT
BEGIN:VEVENT
DTSTART;TZID=America/Managua:20250702T140000
DTEND;TZID=America/Managua:20250702T170000
DTSTAMP:20260422T012650
CREATED:20250701T143916Z
LAST-MODIFIED:20250701T143916Z
UID:24445-1751464800-1751475600@www.una.edu.ni
SUMMARY:Taller sobre Injertación en acodos y plantas frutales
DESCRIPTION:
URL:https://www.una.edu.ni/event/taller-sobre-injertacion-en-acodos-y-plantas-frutales/
LOCATION:Universidad Nacional Agraria\, Managua\, km 12 1/2\, Managua\, Nicaragua
CATEGORIES:TALLER
END:VEVENT
BEGIN:VEVENT
DTSTART;TZID=America/Managua:20250703T100000
DTEND;TZID=America/Managua:20250703T120000
DTSTAMP:20260422T012650
CREATED:20250701T144108Z
LAST-MODIFIED:20250701T144108Z
UID:24449-1751536800-1751544000@www.una.edu.ni
SUMMARY:Taller sobre Uso de plataforma tecnológica para el monitoreo y seguimiento de incendios forestales
DESCRIPTION:
URL:https://www.una.edu.ni/event/taller-sobre-uso-de-plataforma-tecnologica-para-el-monitoreo-y-seguimiento-de-incendios-forestales/
LOCATION:Universidad Nacional Agraria\, Managua\, km 12 1/2\, Managua\, Nicaragua
CATEGORIES:TALLER
END:VEVENT
BEGIN:VEVENT
DTSTART;TZID=America/Managua:20250707T100000
DTEND;TZID=America/Managua:20250707T120000
DTSTAMP:20260422T012650
CREATED:20250707T143342Z
LAST-MODIFIED:20250707T143342Z
UID:24558-1751882400-1751889600@www.una.edu.ni
SUMMARY:Taller sobre Elaboración de forraje verde hidropónico como alternativa nutricional bovina
DESCRIPTION:
URL:https://www.una.edu.ni/event/taller-sobre-elaboracion-de-forraje-verde-hidroponico-como-alternativa-nutricional-bovina/
LOCATION:Centro de prácticas acuícola\, Nicaragua
CATEGORIES:TALLER
END:VEVENT
BEGIN:VEVENT
DTSTART;TZID=America/Managua:20250708T090000
DTEND;TZID=America/Managua:20250708T120000
DTSTAMP:20260422T012650
CREATED:20250707T163910Z
LAST-MODIFIED:20250707T163910Z
UID:24590-1751965200-1751976000@www.una.edu.ni
SUMMARY:Taller sobre Elaboración de variedades de quesos y derivados lácteos
DESCRIPTION:
URL:https://www.una.edu.ni/event/taller-sobre-elaboracion-de-variedades-de-quesos-y-derivados-lacteos/
LOCATION:Finca Experimental El Plantel\, Nicaragua
CATEGORIES:TALLER
END:VEVENT
BEGIN:VEVENT
DTSTART;TZID=America/Managua:20250709T080000
DTEND;TZID=America/Managua:20250709T120000
DTSTAMP:20260422T012650
CREATED:20250707T163756Z
LAST-MODIFIED:20250707T163756Z
UID:24588-1752048000-1752062400@www.una.edu.ni
SUMMARY:Taller sobre Fertilización del cultivo de maíz
DESCRIPTION:
URL:https://www.una.edu.ni/event/taller-sobre-fertilizacion-del-cultivo-de-maiz/
LOCATION:Universidad Nacional Agraria\, Managua\, km 12 1/2\, Managua\, Nicaragua
CATEGORIES:TALLER
END:VEVENT
BEGIN:VEVENT
DTSTART;TZID=America/Managua:20250709T080000
DTEND;TZID=America/Managua:20250709T120000
DTSTAMP:20260422T012650
CREATED:20250707T164025Z
LAST-MODIFIED:20250707T164025Z
UID:24592-1752048000-1752062400@www.una.edu.ni
SUMMARY:Taller sobre Establecimiento de cultivos tropicales
DESCRIPTION:
URL:https://www.una.edu.ni/event/taller-sobre-establecimiento-de-cultivos-tropicales/
LOCATION:Finca Experimental El Plantel\, Nicaragua
CATEGORIES:TALLER
END:VEVENT
BEGIN:VEVENT
DTSTART;TZID=America/Managua:20250709T080000
DTEND;TZID=America/Managua:20250709T120000
DTSTAMP:20260422T012650
CREATED:20250707T164127Z
LAST-MODIFIED:20250707T164127Z
UID:24594-1752048000-1752062400@www.una.edu.ni
SUMMARY:Taller sobre Nutrición alternativa para gallinas ponedoras y pollos de engorde
DESCRIPTION:
URL:https://www.una.edu.ni/event/taller-sobre-nutricion-alternativa-para-gallinas-ponedoras-y-pollos-de-engorde/
LOCATION:Universidad Nacional Agraria\, Managua\, km 12 1/2\, Managua\, Nicaragua
CATEGORIES:TALLER
END:VEVENT
BEGIN:VEVENT
DTSTART;TZID=America/Managua:20250709T100000
DTEND;TZID=America/Managua:20250709T120000
DTSTAMP:20260422T012650
CREATED:20250707T164254Z
LAST-MODIFIED:20250707T164254Z
UID:24596-1752055200-1752062400@www.una.edu.ni
SUMMARY:Taller sobre Cosecha de agua como alternativa para mejorar la producción
DESCRIPTION:
URL:https://www.una.edu.ni/event/taller-sobre-cosecha-de-agua-como-alternativa-para-mejorar-la-produccion/
LOCATION:UNICAM Morrito\, Nicaragua
CATEGORIES:TALLER
END:VEVENT
BEGIN:VEVENT
DTSTART;TZID=America/Managua:20250711T090000
DTEND;TZID=America/Managua:20250711T120000
DTSTAMP:20260422T012650
CREATED:20250707T164352Z
LAST-MODIFIED:20250707T164352Z
UID:24598-1752224400-1752235200@www.una.edu.ni
SUMMARY:Taller sobre Manejo zootécnico en porcinos
DESCRIPTION:
URL:https://www.una.edu.ni/event/taller-sobre-manejo-zootecnico-en-porcinos/
LOCATION:UNICAM Esquipulas\, Nicaragua
CATEGORIES:TALLER
END:VEVENT
BEGIN:VEVENT
DTSTART;TZID=America/Managua:20250712T100000
DTEND;TZID=America/Managua:20250712T120000
DTSTAMP:20260422T012650
CREATED:20250707T164504Z
LAST-MODIFIED:20250707T164504Z
UID:24600-1752314400-1752321600@www.una.edu.ni
SUMMARY:Taller sobre Manejo zootécnico en porcinos
DESCRIPTION:
URL:https://www.una.edu.ni/event/taller-sobre-manejo-zootecnico-en-porcinos-2/
LOCATION:UNICAM Mulukukú\, Nicaragua
CATEGORIES:TALLER
END:VEVENT
BEGIN:VEVENT
DTSTART;TZID=America/Managua:20250715T080000
DTEND;TZID=America/Managua:20250715T120000
DTSTAMP:20260422T012650
CREATED:20250714T145317Z
LAST-MODIFIED:20250714T145317Z
UID:24834-1752566400-1752580800@www.una.edu.ni
SUMMARY:Taller sobre Establecimiento de semilleros de hortalizas
DESCRIPTION:
URL:https://www.una.edu.ni/event/taller-sobre-establecimiento-de-semilleros-de-hortalizas/
LOCATION:Centro Regional “Don Orlando”\, Niquinohomo\, Nicaragua
CATEGORIES:TALLER
END:VEVENT
BEGIN:VEVENT
DTSTART;TZID=America/Managua:20250715T080000
DTEND;TZID=America/Managua:20250715T120000
DTSTAMP:20260422T012650
CREATED:20250714T145516Z
LAST-MODIFIED:20250714T145516Z
UID:24836-1752566400-1752580800@www.una.edu.ni
SUMMARY:Taller sobre Establecimiento de nuevas variedades de frijol y maíz
DESCRIPTION:
URL:https://www.una.edu.ni/event/taller-sobre-establecimiento-de-nuevas-variedades-de-frijol-y-maiz/
LOCATION:Centro Regional “Don Orlando”\, Niquinohomo\, Nicaragua
CATEGORIES:TALLER
END:VEVENT
BEGIN:VEVENT
DTSTART;TZID=America/Managua:20250715T090000
DTEND;TZID=America/Managua:20250715T120000
DTSTAMP:20260422T012650
CREATED:20250714T152514Z
LAST-MODIFIED:20250714T152514Z
UID:24846-1752570000-1752580800@www.una.edu.ni
SUMMARY:Taller sobre Procesamiento de hoja de marango
DESCRIPTION:
URL:https://www.una.edu.ni/event/taller-sobre-procesamiento-de-hoja-de-marango/
LOCATION:Centro de Desarrollo Moringa Comandante Fidel\, municipio de León\, Nicaragua
CATEGORIES:TALLER
END:VEVENT
BEGIN:VEVENT
DTSTART;TZID=America/Managua:20250716T083000
DTEND;TZID=America/Managua:20250716T120000
DTSTAMP:20260422T012650
CREATED:20250714T154116Z
LAST-MODIFIED:20250714T154116Z
UID:24849-1752654600-1752667200@www.una.edu.ni
SUMMARY:Taller sobre Manejo agronómico de cultivos tropicales
DESCRIPTION:
URL:https://www.una.edu.ni/event/taller-sobre-manejo-agronomico-de-cultivos-tropicales/
LOCATION:Finca Experimental El Plantel\, Nicaragua
CATEGORIES:TALLER
END:VEVENT
BEGIN:VEVENT
DTSTART;TZID=America/Managua:20250716T083000
DTEND;TZID=America/Managua:20250716T120000
DTSTAMP:20260422T012650
CREATED:20250714T154226Z
LAST-MODIFIED:20250714T154226Z
UID:24851-1752654600-1752667200@www.una.edu.ni
SUMMARY:Taller sobre Establecimiento de huertos familiares
DESCRIPTION:
URL:https://www.una.edu.ni/event/taller-sobre-establecimiento-de-huertos-familiares/
LOCATION:Municipio de Tisma\, Masaya\, Nicaragua
CATEGORIES:TALLER
END:VEVENT
BEGIN:VEVENT
DTSTART;TZID=America/Managua:20250717T080000
DTEND;TZID=America/Managua:20250717T120000
DTSTAMP:20260422T012650
CREATED:20250714T162415Z
LAST-MODIFIED:20250714T162415Z
UID:24855-1752739200-1752753600@www.una.edu.ni
SUMMARY:Taller sobre Manejo agronómico de hortalizas
DESCRIPTION:
URL:https://www.una.edu.ni/event/taller-sobre-manejo-agronomico-de-hortalizas/
LOCATION:Centro Regional “Don Orlando”\, Niquinohomo\, Nicaragua
CATEGORIES:TALLER
END:VEVENT
BEGIN:VEVENT
DTSTART;TZID=America/Managua:20250718T080000
DTEND;TZID=America/Managua:20250718T120000
DTSTAMP:20260422T012650
CREATED:20250714T162511Z
LAST-MODIFIED:20250714T162511Z
UID:24857-1752825600-1752840000@www.una.edu.ni
SUMMARY:Taller sobre Elaboración de alternativas alimenticias para ganado bovino en época seca
DESCRIPTION:
URL:https://www.una.edu.ni/event/taller-sobre-elaboracion-de-alternativas-alimenticias-para-ganado-bovino-en-epoca-seca/
LOCATION:Centro Universitario Regional UNA Camoapa\, Camoapa
CATEGORIES:TALLER
END:VEVENT
BEGIN:VEVENT
DTSTART;TZID=America/Managua:20250721T130000
DTEND;TZID=America/Managua:20250721T170000
DTSTAMP:20260422T012650
CREATED:20250721T165627Z
LAST-MODIFIED:20250721T165627Z
UID:25080-1753102800-1753117200@www.una.edu.ni
SUMMARY:Taller sobre Fertilización de cultivos de cítricos
DESCRIPTION:
URL:https://www.una.edu.ni/event/taller-sobre-fertilizacion-de-cultivos-de-citricos/
LOCATION:Universidad Nacional Agraria\, Managua\, km 12 1/2\, Managua\, Nicaragua
CATEGORIES:TALLER
END:VEVENT
BEGIN:VEVENT
DTSTART;TZID=America/Managua:20250722T080000
DTEND;TZID=America/Managua:20250722T120000
DTSTAMP:20260422T012650
CREATED:20250721T170312Z
LAST-MODIFIED:20250721T170312Z
UID:25086-1753171200-1753185600@www.una.edu.ni
SUMMARY:Taller sobre Transplante de cultivos de hortalizas
DESCRIPTION:
URL:https://www.una.edu.ni/event/taller-sobre-transplante-de-cultivos-de-hortalizas/
LOCATION:Centro Universitario “Don Orlando”\, Niquinohomo\, Nicaragua
CATEGORIES:TALLER
END:VEVENT
BEGIN:VEVENT
DTSTART;TZID=America/Managua:20250722T083000
DTEND;TZID=America/Managua:20250722T120000
DTSTAMP:20260422T012650
CREATED:20250721T165754Z
LAST-MODIFIED:20250721T165754Z
UID:25082-1753173000-1753185600@www.una.edu.ni
SUMMARY:Taller sobre  Manejo zoosanitario de granjas porcinas
DESCRIPTION:
URL:https://www.una.edu.ni/event/taller-sobre-manejo-zoosanitario-de-granjas-porcinas/
LOCATION:Finca Experimental El Plantel\, Nicaragua
CATEGORIES:TALLER
END:VEVENT
BEGIN:VEVENT
DTSTART;TZID=America/Managua:20250722T090000
DTEND;TZID=America/Managua:20250722T120000
DTSTAMP:20260422T012650
CREATED:20250721T170154Z
LAST-MODIFIED:20250721T170154Z
UID:25084-1753174800-1753185600@www.una.edu.ni
SUMMARY:Taller sobre Técnicas de Preservación de harina de marango
DESCRIPTION:
URL:https://www.una.edu.ni/event/taller-sobre-tecnicas-de-preservacion-de-harina-de-marango/
LOCATION:Centro de Desarrollo Moringa Comandante Fidel\, municipio de León\, Nicaragua
CATEGORIES:TALLER
END:VEVENT
BEGIN:VEVENT
DTSTART;TZID=America/Managua:20250723T090000
DTEND;TZID=America/Managua:20250723T120000
DTSTAMP:20260422T012650
CREATED:20250721T170512Z
LAST-MODIFIED:20250721T170512Z
UID:25088-1753261200-1753272000@www.una.edu.ni
SUMMARY:Taller sobre Establecimiento de cultivos tropicales y oleaginosos
DESCRIPTION:
URL:https://www.una.edu.ni/event/taller-sobre-establecimiento-de-cultivos-tropicales-y-oleaginosos/
LOCATION:Finca Experimental El Plantel\, Nicaragua
CATEGORIES:TALLER
END:VEVENT
BEGIN:VEVENT
DTSTART;TZID=America/Managua:20250728T090000
DTEND;TZID=America/Managua:20250728T120000
DTSTAMP:20260422T012650
CREATED:20250727T220238Z
LAST-MODIFIED:20250727T220238Z
UID:25184-1753693200-1753704000@www.una.edu.ni
SUMMARY:Taller sobre Monitoreo de calidad de agua en sistemas de producción acuícola
DESCRIPTION:
URL:https://www.una.edu.ni/event/taller-sobre-monitoreo-de-calidad-de-agua-en-sistemas-de-produccion-acuicola/
LOCATION:Universidad Nacional Agraria\, Managua\, km 12 1/2\, Managua\, Nicaragua
CATEGORIES:TALLER
END:VEVENT
BEGIN:VEVENT
DTSTART;TZID=America/Managua:20250729T090000
DTEND;TZID=America/Managua:20250729T120000
DTSTAMP:20260422T012650
CREATED:20250727T221043Z
LAST-MODIFIED:20250727T221043Z
UID:25196-1753779600-1753790400@www.una.edu.ni
SUMMARY:Taller sobre Diagnóstico de enfermedades en ganado bovino
DESCRIPTION:
URL:https://www.una.edu.ni/event/taller-sobre-diagnostico-de-enfermedades-en-ganado-bovino/
LOCATION:Centro Universitario Regional UNA Juigalpa\, Juigapa
CATEGORIES:TALLER
END:VEVENT
BEGIN:VEVENT
DTSTART;TZID=America/Managua:20250729T090000
DTEND;TZID=America/Managua:20250729T120000
DTSTAMP:20260422T012650
CREATED:20250727T221206Z
LAST-MODIFIED:20250727T221206Z
UID:25198-1753779600-1753790400@www.una.edu.ni
SUMMARY:Taller sobre Agrotransformación de harina de marango
DESCRIPTION:
URL:https://www.una.edu.ni/event/taller-sobre-agrotransformacion-de-harina-de-marango/
LOCATION:Centro de Desarrollo Moringa Comandante Fidel\, municipio de León\, Nicaragua
CATEGORIES:TALLER
END:VEVENT
END:VCALENDAR