BEGIN:VCALENDAR
VERSION:2.0
PRODID:-//Universidad Nacional Agraria - ECPv6.15.20//NONSGML v1.0//EN
CALSCALE:GREGORIAN
METHOD:PUBLISH
X-WR-CALNAME:Universidad Nacional Agraria
X-ORIGINAL-URL:https://www.una.edu.ni
X-WR-CALDESC:Eventos para Universidad Nacional Agraria
REFRESH-INTERVAL;VALUE=DURATION:PT1H
X-Robots-Tag:noindex
X-PUBLISHED-TTL:PT1H
BEGIN:VTIMEZONE
TZID:America/Managua
BEGIN:STANDARD
TZOFFSETFROM:-0600
TZOFFSETTO:-0600
TZNAME:CST
DTSTART:20240101T000000
END:STANDARD
END:VTIMEZONE
BEGIN:VEVENT
DTSTART;TZID=America/Managua:20250903T090000
DTEND;TZID=America/Managua:20250903T120000
DTSTAMP:20260421T192428
CREATED:20250902T144137Z
LAST-MODIFIED:20250902T144137Z
UID:26082-1756890000-1756900800@www.una.edu.ni
SUMMARY:Taller sobre Técnicas de dosificación y administración de fármacos en ganado bovino
DESCRIPTION:
URL:https://www.una.edu.ni/event/taller-sobre-tecnicas-de-dosificacion-y-administracion-de-farmacos-en-ganado-bovino/
LOCATION:Centro Universitario Regional UNA Camoapa\, Camoapa
CATEGORIES:TALLER
END:VEVENT
BEGIN:VEVENT
DTSTART;TZID=America/Managua:20250905T080000
DTEND;TZID=America/Managua:20250905T120000
DTSTAMP:20260421T192428
CREATED:20250904T203257Z
LAST-MODIFIED:20250904T203257Z
UID:26125-1757059200-1757073600@www.una.edu.ni
SUMMARY:Taller sobre Investigación científica agropecuaria
DESCRIPTION:
URL:https://www.una.edu.ni/event/taller-sobre-investigacion-cientifica-agropecuaria/
LOCATION:Sistemas penitenciarios de Matagalpa\, Tipitapa y Granada
CATEGORIES:TALLER
END:VEVENT
BEGIN:VEVENT
DTSTART;TZID=America/Managua:20250906T080000
DTEND;TZID=America/Managua:20250906T120000
DTSTAMP:20260421T192428
CREATED:20250905T161010Z
LAST-MODIFIED:20250905T161010Z
UID:26150-1757145600-1757160000@www.una.edu.ni
SUMMARY:Taller sobre Buenas prácticas de ordeño
DESCRIPTION:
URL:https://www.una.edu.ni/event/taller-sobre-buenas-practicas-de-ordeno-2/
LOCATION:Centro Universitario Regional UNA Juigalpa\, Juigapa
CATEGORIES:TALLER
END:VEVENT
BEGIN:VEVENT
DTSTART;TZID=America/Managua:20250907T080000
DTEND;TZID=America/Managua:20250907T120000
DTSTAMP:20260421T192428
CREATED:20250905T161126Z
LAST-MODIFIED:20250905T161126Z
UID:26152-1757232000-1757246400@www.una.edu.ni
SUMMARY:Taller sobre Manejo agronómico de hortalizas
DESCRIPTION:
URL:https://www.una.edu.ni/event/taller-sobre-manejo-agronomico-de-hortalizas-2/
LOCATION:Centro Integral de mujeres y Sistema Penitenciario de Granada\, Nicaragua
CATEGORIES:TALLER
END:VEVENT
BEGIN:VEVENT
DTSTART;TZID=America/Managua:20250908T080000
DTEND;TZID=America/Managua:20250908T120000
DTSTAMP:20260421T192428
CREATED:20250908T161855Z
LAST-MODIFIED:20250908T161855Z
UID:26186-1757318400-1757332800@www.una.edu.ni
SUMMARY:Taller sobre Análisis en enfermedades en aves
DESCRIPTION:
URL:https://www.una.edu.ni/event/taller-sobre-analisis-en-enfermedades-en-aves/
LOCATION:Centro Universitario Regional UNA Juigalpa\, Juigapa
CATEGORIES:TALLER
END:VEVENT
BEGIN:VEVENT
DTSTART;TZID=America/Managua:20250908T083000
DTEND;TZID=America/Managua:20250908T120000
DTSTAMP:20260421T192428
CREATED:20250908T161750Z
LAST-MODIFIED:20250908T161750Z
UID:26184-1757320200-1757332800@www.una.edu.ni
SUMMARY:Taller sobre Establecimiento de huertos medicinales
DESCRIPTION:
URL:https://www.una.edu.ni/event/taller-sobre-establecimiento-de-huertos-medicinales/
LOCATION:Sistemas Penitenciarios de Juigalpa y Tipitapa\, Nicaragua
CATEGORIES:TALLER
END:VEVENT
BEGIN:VEVENT
DTSTART;TZID=America/Managua:20250911T080000
DTEND;TZID=America/Managua:20250911T120000
DTSTAMP:20260421T192428
CREATED:20250908T200336Z
LAST-MODIFIED:20250908T200336Z
UID:26236-1757577600-1757592000@www.una.edu.ni
SUMMARY:Taller sobre Manejo agronómico del cultivo de café
DESCRIPTION:
URL:https://www.una.edu.ni/event/taller-sobre-manejo-agronomico-del-cultivo-de-cafe/
LOCATION:Centro Universitario Regional UNA Camoapa\, Camoapa
CATEGORIES:TALLER
END:VEVENT
BEGIN:VEVENT
DTSTART;TZID=America/Managua:20250912T080000
DTEND;TZID=America/Managua:20250912T120000
DTSTAMP:20260421T192428
CREATED:20250909T154605Z
LAST-MODIFIED:20250909T154605Z
UID:26251-1757664000-1757678400@www.una.edu.ni
SUMMARY:Taller sobre Detección y control de enfermedades en ovinos y caprinos
DESCRIPTION:
URL:https://www.una.edu.ni/event/taller-sobre-deteccion-y-control-de-enfermedades-en-ovinos-y-caprinos/
LOCATION:Centro Universitario Regional UNA Juigalpa\, Juigapa
CATEGORIES:TALLER
END:VEVENT
BEGIN:VEVENT
DTSTART;TZID=America/Managua:20250922T080000
DTEND;TZID=America/Managua:20250922T120000
DTSTAMP:20260421T192428
CREATED:20250922T142851Z
LAST-MODIFIED:20250922T142851Z
UID:26345-1758528000-1758542400@www.una.edu.ni
SUMMARY:Taller sobre Establecimiento de viveros
DESCRIPTION:
URL:https://www.una.edu.ni/event/taller-sobre-establecimiento-de-viveros/
LOCATION:Centro Universitario “Don Orlando”\, Niquinohomo\, Nicaragua
CATEGORIES:TALLER
END:VEVENT
BEGIN:VEVENT
DTSTART;TZID=America/Managua:20250923T090000
DTEND;TZID=America/Managua:20250924T160000
DTSTAMP:20260421T192428
CREATED:20250922T164446Z
LAST-MODIFIED:20250922T164446Z
UID:26386-1758618000-1758729600@www.una.edu.ni
SUMMARY:Taller sobre Técnicas para valor agregado de marango
DESCRIPTION:
URL:https://www.una.edu.ni/event/taller-sobre-tecnicas-para-valor-agregado-de-marango/
LOCATION:Centro de Desarrollo Moringa Comandante Fidel\, municipio de León\, Nicaragua
CATEGORIES:TALLER
END:VEVENT
BEGIN:VEVENT
DTSTART;TZID=America/Managua:20250924T090000
DTEND;TZID=America/Managua:20250924T120000
DTSTAMP:20260421T192428
CREATED:20250922T164552Z
LAST-MODIFIED:20250922T164552Z
UID:26388-1758704400-1758715200@www.una.edu.ni
SUMMARY:Taller sobre Polinización en cultivos de cacao
DESCRIPTION:
URL:https://www.una.edu.ni/event/taller-sobre-polinizacion-en-cultivos-de-cacao/
LOCATION:Centro Universitario Regional UNA Juigalpa\, Juigapa
CATEGORIES:TALLER
END:VEVENT
BEGIN:VEVENT
DTSTART;TZID=America/Managua:20250925T080000
DTEND;TZID=America/Managua:20250925T120000
DTSTAMP:20260421T192428
CREATED:20250922T164836Z
LAST-MODIFIED:20250922T164836Z
UID:26394-1758787200-1758801600@www.una.edu.ni
SUMMARY:Taller sobre Cosecha y acondicionamiento de semillas de hortalizas
DESCRIPTION:
URL:https://www.una.edu.ni/event/taller-sobre-cosecha-y-acondicionamiento-de-semillas-de-hortalizas/
LOCATION:Centro Universitario “Don Orlando”\, Niquinohomo\, Nicaragua
CATEGORIES:TALLER
END:VEVENT
BEGIN:VEVENT
DTSTART;TZID=America/Managua:20250925T100000
DTEND;TZID=America/Managua:20250925T120000
DTSTAMP:20260421T192428
CREATED:20250922T164938Z
LAST-MODIFIED:20250922T164938Z
UID:26396-1758794400-1758801600@www.una.edu.ni
SUMMARY:Taller sobre Identificación de mastitis en ganado lechero
DESCRIPTION:
URL:https://www.una.edu.ni/event/taller-sobre-identificacion-de-mastitis-en-ganado-lechero/
LOCATION:UNICAM Muelle de los Bueyes\, Nicaragua
CATEGORIES:TALLER
END:VEVENT
BEGIN:VEVENT
DTSTART;TZID=America/Managua:20250926T090000
DTEND;TZID=America/Managua:20250926T120000
DTSTAMP:20260421T192428
CREATED:20250922T164737Z
LAST-MODIFIED:20250922T164737Z
UID:26392-1758877200-1758888000@www.una.edu.ni
SUMMARY:Taller sobre Polinización en cultivos de cacao
DESCRIPTION:
URL:https://www.una.edu.ni/event/taller-sobre-polinizacion-en-cultivos-de-cacao-2/
LOCATION:Centro Universitario Regional UNA Juigalpa\, Juigapa
CATEGORIES:TALLER
END:VEVENT
BEGIN:VEVENT
DTSTART;TZID=America/Managua:20250927T090000
DTEND;TZID=America/Managua:20250927T120000
DTSTAMP:20260421T192428
CREATED:20250922T164647Z
LAST-MODIFIED:20250922T164647Z
UID:26390-1758963600-1758974400@www.una.edu.ni
SUMMARY:Taller sobre Técnicas para valor agregado de marango
DESCRIPTION:
URL:https://www.una.edu.ni/event/taller-sobre-tecnicas-para-valor-agregado-de-marango-2/
LOCATION:Centro de Desarrollo Moringa Comandante Fidel\, municipio de León\, Nicaragua
CATEGORIES:TALLER
END:VEVENT
BEGIN:VEVENT
DTSTART;TZID=America/Managua:20250929T080000
DTEND;TZID=America/Managua:20250929T120000
DTSTAMP:20260421T192428
CREATED:20250929T145620Z
LAST-MODIFIED:20250929T145620Z
UID:26489-1759132800-1759147200@www.una.edu.ni
SUMMARY:Taller sobre Establecimiento de ensayos de variedades mejoradas genéticamente del cultivo de frijol
DESCRIPTION:
URL:https://www.una.edu.ni/event/taller-sobre-establecimiento-de-ensayos-de-variedades-mejoradas-geneticamente-del-cultivo-de-frijol/
LOCATION:Centro Universitario “Don Orlando”\, Niquinohomo\, Nicaragua
CATEGORIES:TALLER
END:VEVENT
BEGIN:VEVENT
DTSTART;TZID=America/Managua:20250930T080000
DTEND;TZID=America/Managua:20250930T120000
DTSTAMP:20260421T192428
CREATED:20250929T150413Z
LAST-MODIFIED:20250929T150413Z
UID:26495-1759219200-1759233600@www.una.edu.ni
SUMMARY:Taller sobre Manejo zootécnico de sistemas pecuarios
DESCRIPTION:
URL:https://www.una.edu.ni/event/taller-sobre-manejo-zootecnico-de-sistemas-pecuarios/
LOCATION:Universidad Nacional Agraria\, Managua\, km 12 1/2\, Managua\, Nicaragua
CATEGORIES:TALLER
END:VEVENT
BEGIN:VEVENT
DTSTART;TZID=America/Managua:20250930T140000
DTEND;TZID=America/Managua:20250930T170000
DTSTAMP:20260421T192428
CREATED:20250929T150509Z
LAST-MODIFIED:20250929T150509Z
UID:26497-1759240800-1759251600@www.una.edu.ni
SUMMARY:Taller sobre Manejo de plantas forestales
DESCRIPTION:
URL:https://www.una.edu.ni/event/taller-sobre-manejo-de-plantas-forestales/
LOCATION:UNICAM El Ayote\, Juigalpa\, Nicaragua
CATEGORIES:TALLER
END:VEVENT
END:VCALENDAR