BEGIN:VCALENDAR
VERSION:2.0
PRODID:-//Universidad Nacional Agraria - ECPv6.15.20//NONSGML v1.0//EN
CALSCALE:GREGORIAN
METHOD:PUBLISH
X-WR-CALNAME:Universidad Nacional Agraria
X-ORIGINAL-URL:https://www.una.edu.ni
X-WR-CALDESC:Eventos para Universidad Nacional Agraria
REFRESH-INTERVAL;VALUE=DURATION:PT1H
X-Robots-Tag:noindex
X-PUBLISHED-TTL:PT1H
BEGIN:VTIMEZONE
TZID:America/Managua
BEGIN:STANDARD
TZOFFSETFROM:-0600
TZOFFSETTO:-0600
TZNAME:CST
DTSTART:20230101T000000
END:STANDARD
END:VTIMEZONE
BEGIN:VEVENT
DTSTART;TZID=America/Managua:20241009T080000
DTEND;TZID=America/Managua:20241009T120000
DTSTAMP:20260423T143844
CREATED:20241008T220038Z
LAST-MODIFIED:20241009T171318Z
UID:15502-1728460800-1728475200@www.una.edu.ni
SUMMARY:Taller sobre prevención y control de garrapatas en bovinos
DESCRIPTION:
URL:https://www.una.edu.ni/event/taller-sobre-prevencion-y-control-de-garrapatas-en-bovinos/
LOCATION:Municipio Santo Tomas\, Comunidad: Puertas de Paris
CATEGORIES:TALLER
ATTACH;FMTTYPE=image/jpeg:https://www.una.edu.ni/wp-content/uploads/2024/10/TallerPrevencion.jpg
END:VEVENT
BEGIN:VEVENT
DTSTART;TZID=America/Managua:20241009T080000
DTEND;TZID=America/Managua:20241009T120000
DTSTAMP:20260423T143844
CREATED:20241008T220148Z
LAST-MODIFIED:20241009T172706Z
UID:15505-1728460800-1728475200@www.una.edu.ni
SUMMARY:Taller “Generación de ideas emprendedoras y canales de comercialización”
DESCRIPTION:
URL:https://www.una.edu.ni/event/taller-generacion-de-ideas-emprendedoras-y-canales-de-comercializacion/
LOCATION:Municipio de Santa Teresa\, Carazo\, Nicaragua
CATEGORIES:TALLER
ATTACH;FMTTYPE=image/jpeg:https://www.una.edu.ni/wp-content/uploads/2024/10/TallerComercializacion.jpg
END:VEVENT
BEGIN:VEVENT
DTSTART;TZID=America/Managua:20241009T090000
DTEND;TZID=America/Managua:20241009T120000
DTSTAMP:20260423T143844
CREATED:20241008T220254Z
LAST-MODIFIED:20241009T173052Z
UID:15508-1728464400-1728475200@www.una.edu.ni
SUMMARY:Taller Teórico Práctico de Cortes Selectos de Porcino\, en coordinación con Matadero DISANIC FRESCUT
DESCRIPTION:
URL:https://www.una.edu.ni/event/taller-teorico-practico-de-cortes-selectos-de-porcino-en-coordinacion-con-matadero-disanic-frescut/
LOCATION:Universidad Nacional Agraria\, Managua\, km 12 1/2\, Managua\, Nicaragua
CATEGORIES:TALLER
ATTACH;FMTTYPE=image/jpeg:https://www.una.edu.ni/wp-content/uploads/2024/10/TallerTeoricoPratico.jpg
END:VEVENT
BEGIN:VEVENT
DTSTART;TZID=America/Managua:20241009T103000
DTEND;TZID=America/Managua:20241009T120000
DTSTAMP:20260423T143844
CREATED:20241008T215918Z
LAST-MODIFIED:20241009T172633Z
UID:15500-1728469800-1728475200@www.una.edu.ni
SUMMARY:Taller de análisis de brecha institucional\, como parte de la Estrategia Nacional de Educación Bendiciones y Victorias
DESCRIPTION:
URL:https://www.una.edu.ni/event/taller-de-analisis-de-brecha-institucional-como-parte-de-la-estrategia-nacional-de-educacion-bendiciones-y-victorias/
LOCATION:Universidad Nacional Agraria\, Managua\, km 12 1/2\, Managua\, Nicaragua
CATEGORIES:TALLER
ATTACH;FMTTYPE=image/jpeg:https://www.una.edu.ni/wp-content/uploads/2024/10/TallerAnalisideBrecha.jpg
END:VEVENT
BEGIN:VEVENT
DTSTART;TZID=America/Managua:20241009T140000
DTEND;TZID=America/Managua:20241009T160000
DTSTAMP:20260423T143844
CREATED:20241008T215246Z
LAST-MODIFIED:20241009T172744Z
UID:15490-1728482400-1728489600@www.una.edu.ni
SUMMARY:Taller sobre Manejo de viveros forestales
DESCRIPTION:
URL:https://www.una.edu.ni/event/taller-sobre-manejo-de-viveros-forestales/
LOCATION:Universidad Nacional Agraria\, Managua\, km 12 1/2\, Managua\, Nicaragua
CATEGORIES:TALLER
ATTACH;FMTTYPE=image/jpeg:https://www.una.edu.ni/wp-content/uploads/2024/10/TallerManejo.jpg
END:VEVENT
END:VCALENDAR