BEGIN:VCALENDAR
VERSION:2.0
PRODID:-//Universidad Nacional Agraria - ECPv6.15.20//NONSGML v1.0//EN
CALSCALE:GREGORIAN
METHOD:PUBLISH
X-WR-CALNAME:Universidad Nacional Agraria
X-ORIGINAL-URL:https://www.una.edu.ni
X-WR-CALDESC:Eventos para Universidad Nacional Agraria
REFRESH-INTERVAL;VALUE=DURATION:PT1H
X-Robots-Tag:noindex
X-PUBLISHED-TTL:PT1H
BEGIN:VTIMEZONE
TZID:America/Managua
BEGIN:STANDARD
TZOFFSETFROM:-0600
TZOFFSETTO:-0600
TZNAME:CST
DTSTART:20230101T000000
END:STANDARD
END:VTIMEZONE
BEGIN:VEVENT
DTSTART;TZID=America/Managua:20241120T130000
DTEND;TZID=America/Managua:20241120T170000
DTSTAMP:20260423T101008
CREATED:20241117T230244Z
LAST-MODIFIED:20241117T230244Z
UID:17156-1732107600-1732122000@www.una.edu.ni
SUMMARY:Taller sobre elaboraciones de Concentrado a base de Moringa para la Alimentación del Ganado
DESCRIPTION:
URL:https://www.una.edu.ni/event/taller-sobre-elaboraciones-de-concentrado-a-base-de-moringa-para-la-alimentacion-del-ganado-2/
LOCATION:Universidad Nacional Agraria\, Managua\, km 12 1/2\, Managua\, Nicaragua
CATEGORIES:TALLER
END:VEVENT
END:VCALENDAR