BEGIN:VCALENDAR
VERSION:2.0
PRODID:-//Universidad Nacional Agraria - ECPv6.15.20//NONSGML v1.0//EN
CALSCALE:GREGORIAN
METHOD:PUBLISH
X-WR-CALNAME:Universidad Nacional Agraria
X-ORIGINAL-URL:https://www.una.edu.ni
X-WR-CALDESC:Eventos para Universidad Nacional Agraria
REFRESH-INTERVAL;VALUE=DURATION:PT1H
X-Robots-Tag:noindex
X-PUBLISHED-TTL:PT1H
BEGIN:VTIMEZONE
TZID:America/Managua
BEGIN:STANDARD
TZOFFSETFROM:-0600
TZOFFSETTO:-0600
TZNAME:CST
DTSTART:20230101T000000
END:STANDARD
END:VTIMEZONE
BEGIN:VEVENT
DTSTART;TZID=America/Managua:20241210T100000
DTEND;TZID=America/Managua:20241210T120000
DTSTAMP:20260423T045036
CREATED:20241210T144454Z
LAST-MODIFIED:20241210T144454Z
UID:19169-1733824800-1733832000@www.una.edu.ni
SUMMARY:Taller “Calibración y mantenimiento de equipos de campo”
DESCRIPTION:
URL:https://www.una.edu.ni/event/taller-calibracion-y-mantenimiento-de-equipos-de-campo/
LOCATION:Universidad Nacional Agraria\, Managua\, km 12 1/2\, Managua\, Nicaragua
CATEGORIES:TALLER
END:VEVENT
END:VCALENDAR