BEGIN:VCALENDAR
VERSION:2.0
PRODID:-//Universidad Nacional Agraria - ECPv6.15.20//NONSGML v1.0//EN
CALSCALE:GREGORIAN
METHOD:PUBLISH
X-WR-CALNAME:Universidad Nacional Agraria
X-ORIGINAL-URL:https://www.una.edu.ni
X-WR-CALDESC:Eventos para Universidad Nacional Agraria
REFRESH-INTERVAL;VALUE=DURATION:PT1H
X-Robots-Tag:noindex
X-PUBLISHED-TTL:PT1H
BEGIN:VTIMEZONE
TZID:America/Managua
BEGIN:STANDARD
TZOFFSETFROM:-0600
TZOFFSETTO:-0600
TZNAME:CST
DTSTART:20240101T000000
END:STANDARD
END:VTIMEZONE
BEGIN:VEVENT
DTSTART;TZID=America/Managua:20250304T080000
DTEND;TZID=America/Managua:20250304T120000
DTSTAMP:20260422T193648
CREATED:20250303T173033Z
LAST-MODIFIED:20250303T173033Z
UID:21794-1741075200-1741089600@www.una.edu.ni
SUMMARY:Taller práctico con productores y emprendedores sobre Diagnóstico y control de enfermedades en los sistemas reproductivos en ovinos y caprinos
DESCRIPTION:
URL:https://www.una.edu.ni/event/taller-practico-con-productores-y-emprendedores-sobre-diagnostico-y-control-de-enfermedades-en-los-sistemas-reproductivos-en-ovinos-y-caprinos/
LOCATION:UNICAM Muelle de los Bueyes\, Nicaragua
CATEGORIES:TALLER
END:VEVENT
BEGIN:VEVENT
DTSTART;TZID=America/Managua:20250304T090000
DTEND;TZID=America/Managua:20250304T120000
DTSTAMP:20260422T193648
CREATED:20250303T173325Z
LAST-MODIFIED:20250303T173325Z
UID:21799-1741078800-1741089600@www.una.edu.ni
SUMMARY:Taller práctico con productores y emprendedores sobre Elaboración de escabeche de raíces de moringa
DESCRIPTION:
URL:https://www.una.edu.ni/event/taller-practico-con-productores-y-emprendedores-sobre-elaboracion-de-escabeche-de-raices-de-moringa/
LOCATION:Centro de Desarrollo Moringa Comandante Fidel\, municipio de León\, Nicaragua
CATEGORIES:TALLER
END:VEVENT
BEGIN:VEVENT
DTSTART;TZID=America/Managua:20250304T140000
DTEND;TZID=America/Managua:20250304T170000
DTSTAMP:20260422T193648
CREATED:20250303T173205Z
LAST-MODIFIED:20250303T173205Z
UID:21796-1741096800-1741107600@www.una.edu.ni
SUMMARY:Taller práctico con productores y emprendedores sobre Diagnóstico de enfermedades reproductivas en ganado bovino
DESCRIPTION:
URL:https://www.una.edu.ni/event/taller-practico-con-productores-y-emprendedores-sobre-diagnostico-de-enfermedades-reproductivas-en-ganado-bovino/
LOCATION:Comunidad El Cobano\, Municipio de Juigalpa\, Nicaragua
CATEGORIES:TALLER
END:VEVENT
END:VCALENDAR