BEGIN:VCALENDAR
VERSION:2.0
PRODID:-//Universidad Nacional Agraria - ECPv6.15.20//NONSGML v1.0//EN
CALSCALE:GREGORIAN
METHOD:PUBLISH
X-WR-CALNAME:Universidad Nacional Agraria
X-ORIGINAL-URL:https://www.una.edu.ni
X-WR-CALDESC:Eventos para Universidad Nacional Agraria
REFRESH-INTERVAL;VALUE=DURATION:PT1H
X-Robots-Tag:noindex
X-PUBLISHED-TTL:PT1H
BEGIN:VTIMEZONE
TZID:America/Managua
BEGIN:STANDARD
TZOFFSETFROM:-0600
TZOFFSETTO:-0600
TZNAME:CST
DTSTART:20240101T000000
END:STANDARD
END:VTIMEZONE
BEGIN:VEVENT
DTSTART;TZID=America/Managua:20250327T080000
DTEND;TZID=America/Managua:20250327T120000
DTSTAMP:20260423T142412
CREATED:20250327T153327Z
LAST-MODIFIED:20250327T153343Z
UID:22399-1743062400-1743076800@www.una.edu.ni
SUMMARY:Taller sobre Elaboración de cereal de maíz con inclusión de harina de marango
DESCRIPTION:
URL:https://www.una.edu.ni/event/taller-sobre-elaboracion-de-cereal-de-maiz-con-inclusion-de-harina-de-marango/
LOCATION:Centro de Desarrollo Moringa Comandante Fidel\, municipio de León\, Nicaragua
CATEGORIES:TALLER
END:VEVENT
BEGIN:VEVENT
DTSTART;TZID=America/Managua:20250327T100000
DTEND;TZID=America/Managua:20250327T120000
DTSTAMP:20260423T142412
CREATED:20250327T152940Z
LAST-MODIFIED:20250327T152940Z
UID:22396-1743069600-1743076800@www.una.edu.ni
SUMMARY:Taller sobre Manejo de posturas y elaboración de ensilaje
DESCRIPTION:
URL:https://www.una.edu.ni/event/taller-sobre-manejo-de-posturas-y-elaboracion-de-ensilaje/
LOCATION:UNICAM El Rama\, Nicaragua
CATEGORIES:TALLER
END:VEVENT
END:VCALENDAR