BEGIN:VCALENDAR
VERSION:2.0
PRODID:-//Universidad Nacional Agraria - ECPv6.15.20//NONSGML v1.0//EN
CALSCALE:GREGORIAN
METHOD:PUBLISH
X-WR-CALNAME:Universidad Nacional Agraria
X-ORIGINAL-URL:https://www.una.edu.ni
X-WR-CALDESC:Eventos para Universidad Nacional Agraria
REFRESH-INTERVAL;VALUE=DURATION:PT1H
X-Robots-Tag:noindex
X-PUBLISHED-TTL:PT1H
BEGIN:VTIMEZONE
TZID:America/Managua
BEGIN:STANDARD
TZOFFSETFROM:-0600
TZOFFSETTO:-0600
TZNAME:CST
DTSTART:20240101T000000
END:STANDARD
END:VTIMEZONE
BEGIN:VEVENT
DTSTART;TZID=America/Managua:20250526T080000
DTEND;TZID=America/Managua:20250526T120000
DTSTAMP:20260423T032956
CREATED:20250526T152901Z
LAST-MODIFIED:20250526T152901Z
UID:23718-1748246400-1748260800@www.una.edu.ni
SUMMARY:Taller sobre Restauración de suelos para plantaciones forestales
DESCRIPTION:
URL:https://www.una.edu.ni/event/taller-sobre-restauracion-de-suelos-para-plantaciones-forestales/
LOCATION:Finca Experimental El Plantel\, Nicaragua
CATEGORIES:TALLER
END:VEVENT
END:VCALENDAR