BEGIN:VCALENDAR
VERSION:2.0
PRODID:-//Universidad Nacional Agraria - ECPv6.15.20//NONSGML v1.0//EN
CALSCALE:GREGORIAN
METHOD:PUBLISH
X-WR-CALNAME:Universidad Nacional Agraria
X-ORIGINAL-URL:https://www.una.edu.ni
X-WR-CALDESC:Eventos para Universidad Nacional Agraria
REFRESH-INTERVAL;VALUE=DURATION:PT1H
X-Robots-Tag:noindex
X-PUBLISHED-TTL:PT1H
BEGIN:VTIMEZONE
TZID:America/Managua
BEGIN:STANDARD
TZOFFSETFROM:-0600
TZOFFSETTO:-0600
TZNAME:CST
DTSTART:20240101T000000
END:STANDARD
END:VTIMEZONE
BEGIN:VEVENT
DTSTART;TZID=America/Managua:20250603T090000
DTEND;TZID=America/Managua:20250603T120000
DTSTAMP:20260423T001846
CREATED:20250603T162421Z
LAST-MODIFIED:20250603T162421Z
UID:23867-1748941200-1748952000@www.una.edu.ni
SUMMARY:Taller sobre Control de calidad del proceso de elaboración de harina de marango
DESCRIPTION:
URL:https://www.una.edu.ni/event/taller-sobre-control-de-calidad-del-proceso-de-elaboracion-de-harina-de-marango/
LOCATION:Centro de Desarrollo Moringa Comandante Fidel\, municipio de León\, Nicaragua
CATEGORIES:TALLER
END:VEVENT
BEGIN:VEVENT
DTSTART;TZID=America/Managua:20250603T100000
DTEND;TZID=America/Managua:20250603T130000
DTSTAMP:20260423T001846
CREATED:20250603T162917Z
LAST-MODIFIED:20250603T162917Z
UID:23873-1748944800-1748955600@www.una.edu.ni
SUMMARY:Taller sobre Manejo eficiente de los fármacos de uso veterinario
DESCRIPTION:
URL:https://www.una.edu.ni/event/taller-sobre-manejo-eficiente-de-los-farmacos-de-uso-veterinario/
LOCATION:Centro Universitario Regional UNA Juigalpa\, Juigapa
CATEGORIES:TALLER
END:VEVENT
BEGIN:VEVENT
DTSTART;TZID=America/Managua:20250603T130000
DTEND;TZID=America/Managua:20250603T170000
DTSTAMP:20260423T001846
CREATED:20250603T162518Z
LAST-MODIFIED:20250603T162518Z
UID:23869-1748955600-1748970000@www.una.edu.ni
SUMMARY:Taller sobre Aplicación de protocolos de inseminación para mejorar la eficiencia reproductiva en ganado bovino
DESCRIPTION:
URL:https://www.una.edu.ni/event/taller-sobre-aplicacion-de-protocolos-de-inseminacion-para-mejorar-la-eficiencia-reproductiva-en-ganado-bovino/
LOCATION:Universidad Nacional Agraria\, Managua\, km 12 1/2\, Managua\, Nicaragua
CATEGORIES:TALLER
END:VEVENT
BEGIN:VEVENT
DTSTART;TZID=America/Managua:20250603T140000
DTEND;TZID=America/Managua:20250603T170000
DTSTAMP:20260423T001846
CREATED:20250603T162812Z
LAST-MODIFIED:20250603T162812Z
UID:23871-1748959200-1748970000@www.una.edu.ni
SUMMARY:Taller sobre Elaboración de biofertilizante líquido utilizando recursos locales de fincas de productores
DESCRIPTION:
URL:https://www.una.edu.ni/event/taller-sobre-elaboracion-de-biofertilizante-liquido-utilizando-recursos-locales-de-fincas-de-productores/
LOCATION:Municipio de Masatepe\, Nicaragua
CATEGORIES:TALLER
END:VEVENT
END:VCALENDAR