BEGIN:VCALENDAR
VERSION:2.0
PRODID:-//Universidad Nacional Agraria - ECPv6.15.20//NONSGML v1.0//EN
CALSCALE:GREGORIAN
METHOD:PUBLISH
X-WR-CALNAME:Universidad Nacional Agraria
X-ORIGINAL-URL:https://www.una.edu.ni
X-WR-CALDESC:Eventos para Universidad Nacional Agraria
REFRESH-INTERVAL;VALUE=DURATION:PT1H
X-Robots-Tag:noindex
X-PUBLISHED-TTL:PT1H
BEGIN:VTIMEZONE
TZID:America/Managua
BEGIN:STANDARD
TZOFFSETFROM:-0600
TZOFFSETTO:-0600
TZNAME:CST
DTSTART:20240101T000000
END:STANDARD
END:VTIMEZONE
BEGIN:VEVENT
DTSTART;TZID=America/Managua:20250608T090000
DTEND;TZID=America/Managua:20250608T120000
DTSTAMP:20260422T164356
CREATED:20250606T145243Z
LAST-MODIFIED:20250606T145243Z
UID:23977-1749373200-1749384000@www.una.edu.ni
SUMMARY:Taller sobre Diagnóstico clínico en animales domésticos
DESCRIPTION:
URL:https://www.una.edu.ni/event/taller-sobre-diagnostico-clinico-en-animales-domesticos/
LOCATION:UNICAM Coyanchigüe\, Nicaragua
CATEGORIES:TALLER
END:VEVENT
BEGIN:VEVENT
DTSTART;TZID=America/Managua:20250608T100000
DTEND;TZID=America/Managua:20250608T120000
DTSTAMP:20260422T164356
CREATED:20250606T150301Z
LAST-MODIFIED:20250606T150301Z
UID:23986-1749376800-1749384000@www.una.edu.ni
SUMMARY:Taller sobre Técnicas de reproducción vegetal
DESCRIPTION:
URL:https://www.una.edu.ni/event/taller-sobre-tecnicas-de-reproduccion-vegetal/
LOCATION:UNICAM San Lorenzo\, Boaco\, Nicaragua
CATEGORIES:TALLER
END:VEVENT
END:VCALENDAR