BEGIN:VCALENDAR
VERSION:2.0
PRODID:-//Universidad Nacional Agraria - ECPv6.15.20//NONSGML v1.0//EN
CALSCALE:GREGORIAN
METHOD:PUBLISH
X-WR-CALNAME:Universidad Nacional Agraria
X-ORIGINAL-URL:https://www.una.edu.ni
X-WR-CALDESC:Eventos para Universidad Nacional Agraria
REFRESH-INTERVAL;VALUE=DURATION:PT1H
X-Robots-Tag:noindex
X-PUBLISHED-TTL:PT1H
BEGIN:VTIMEZONE
TZID:America/Managua
BEGIN:STANDARD
TZOFFSETFROM:-0600
TZOFFSETTO:-0600
TZNAME:CST
DTSTART:20240101T000000
END:STANDARD
END:VTIMEZONE
BEGIN:VEVENT
DTSTART;TZID=America/Managua:20250717T080000
DTEND;TZID=America/Managua:20250717T120000
DTSTAMP:20260422T120437
CREATED:20250714T162415Z
LAST-MODIFIED:20250714T162415Z
UID:24855-1752739200-1752753600@www.una.edu.ni
SUMMARY:Taller sobre Manejo agronómico de hortalizas
DESCRIPTION:
URL:https://www.una.edu.ni/event/taller-sobre-manejo-agronomico-de-hortalizas/
LOCATION:Centro Regional “Don Orlando”\, Niquinohomo\, Nicaragua
CATEGORIES:TALLER
END:VEVENT
END:VCALENDAR