BEGIN:VCALENDAR
VERSION:2.0
PRODID:-//Universidad Nacional Agraria - ECPv6.15.20//NONSGML v1.0//EN
CALSCALE:GREGORIAN
METHOD:PUBLISH
X-WR-CALNAME:Universidad Nacional Agraria
X-ORIGINAL-URL:https://www.una.edu.ni
X-WR-CALDESC:Eventos para Universidad Nacional Agraria
REFRESH-INTERVAL;VALUE=DURATION:PT1H
X-Robots-Tag:noindex
X-PUBLISHED-TTL:PT1H
BEGIN:VTIMEZONE
TZID:America/Managua
BEGIN:STANDARD
TZOFFSETFROM:-0600
TZOFFSETTO:-0600
TZNAME:CST
DTSTART:20240101T000000
END:STANDARD
END:VTIMEZONE
BEGIN:VEVENT
DTSTART;TZID=America/Managua:20250723T090000
DTEND;TZID=America/Managua:20250723T120000
DTSTAMP:20260423T055244
CREATED:20250721T170512Z
LAST-MODIFIED:20250721T170512Z
UID:25088-1753261200-1753272000@www.una.edu.ni
SUMMARY:Taller sobre Establecimiento de cultivos tropicales y oleaginosos
DESCRIPTION:
URL:https://www.una.edu.ni/event/taller-sobre-establecimiento-de-cultivos-tropicales-y-oleaginosos/
LOCATION:Finca Experimental El Plantel\, Nicaragua
CATEGORIES:TALLER
END:VEVENT
END:VCALENDAR