BEGIN:VCALENDAR
VERSION:2.0
PRODID:-//Universidad Nacional Agraria - ECPv6.15.20//NONSGML v1.0//EN
CALSCALE:GREGORIAN
METHOD:PUBLISH
X-WR-CALNAME:Universidad Nacional Agraria
X-ORIGINAL-URL:https://www.una.edu.ni
X-WR-CALDESC:Eventos para Universidad Nacional Agraria
REFRESH-INTERVAL;VALUE=DURATION:PT1H
X-Robots-Tag:noindex
X-PUBLISHED-TTL:PT1H
BEGIN:VTIMEZONE
TZID:America/Managua
BEGIN:STANDARD
TZOFFSETFROM:-0600
TZOFFSETTO:-0600
TZNAME:CST
DTSTART:20240101T000000
END:STANDARD
END:VTIMEZONE
BEGIN:VEVENT
DTSTART;TZID=America/Managua:20251028T080000
DTEND;TZID=America/Managua:20251028T120000
DTSTAMP:20260423T000738
CREATED:20251027T215557Z
LAST-MODIFIED:20251027T215557Z
UID:27591-1761638400-1761652800@www.una.edu.ni
SUMMARY:Taller sobre Identificación y control de plagas en cultivos
DESCRIPTION:
URL:https://www.una.edu.ni/event/taller-sobre-identificacion-y-control-de-plagas-en-cultivos/
LOCATION:Universidad Nacional Agraria\, Managua\, km 12 1/2\, Managua\, Nicaragua
CATEGORIES:TALLER
END:VEVENT
BEGIN:VEVENT
DTSTART;TZID=America/Managua:20251028T100000
DTEND;TZID=America/Managua:20251028T130000
DTSTAMP:20260423T000738
CREATED:20251027T215702Z
LAST-MODIFIED:20251027T215702Z
UID:27593-1761645600-1761656400@www.una.edu.ni
SUMMARY:Taller sobre Elaboración de suplementos nutricionales
DESCRIPTION:
URL:https://www.una.edu.ni/event/taller-sobre-elaboracion-de-suplementos-nutricionales/
LOCATION:UNICAM Muelle de los Bueyes\, Nicaragua
CATEGORIES:TALLER
END:VEVENT
BEGIN:VEVENT
DTSTART;TZID=America/Managua:20251028T130000
DTEND;TZID=America/Managua:20251028T170000
DTSTAMP:20260423T000738
CREATED:20251027T215852Z
LAST-MODIFIED:20251027T215852Z
UID:27595-1761656400-1761670800@www.una.edu.ni
SUMMARY:Taller sobre Establecimiento de hortalizas en sistemas hidropónicos
DESCRIPTION:
URL:https://www.una.edu.ni/event/taller-sobre-establecimiento-de-hortalizas-en-sistemas-hidroponicos/
LOCATION:Centro Integral de mujeres/ Granada\, Nicaragua
CATEGORIES:TALLER
END:VEVENT
END:VCALENDAR