BEGIN:VCALENDAR
VERSION:2.0
PRODID:-//Universidad Nacional Agraria - ECPv6.15.20//NONSGML v1.0//EN
CALSCALE:GREGORIAN
METHOD:PUBLISH
X-WR-CALNAME:Universidad Nacional Agraria
X-ORIGINAL-URL:https://www.una.edu.ni
X-WR-CALDESC:Eventos para Universidad Nacional Agraria
REFRESH-INTERVAL;VALUE=DURATION:PT1H
X-Robots-Tag:noindex
X-PUBLISHED-TTL:PT1H
BEGIN:VTIMEZONE
TZID:America/Managua
BEGIN:STANDARD
TZOFFSETFROM:-0600
TZOFFSETTO:-0600
TZNAME:CST
DTSTART:20240101T000000
END:STANDARD
END:VTIMEZONE
BEGIN:VEVENT
DTSTART;TZID=America/Managua:20251217T100000
DTEND;TZID=America/Managua:20251217T120000
DTSTAMP:20260422T174004
CREATED:20251215T170550Z
LAST-MODIFIED:20251215T170550Z
UID:28844-1765965600-1765972800@www.una.edu.ni
SUMMARY:Taller sobre Análisis bromatológico de harina de marango
DESCRIPTION:
URL:https://www.una.edu.ni/event/taller-sobre-analisis-bromatologico-de-harina-de-marango/
LOCATION:Centro de Desarrollo Moringa Comandante Fidel\, municipio de León\, Nicaragua
CATEGORIES:TALLER
END:VEVENT
END:VCALENDAR