BEGIN:VCALENDAR
VERSION:2.0
PRODID:-//Universidad Nacional Agraria - ECPv6.15.20//NONSGML v1.0//EN
CALSCALE:GREGORIAN
METHOD:PUBLISH
X-WR-CALNAME:Universidad Nacional Agraria
X-ORIGINAL-URL:https://www.una.edu.ni
X-WR-CALDESC:Eventos para Universidad Nacional Agraria
REFRESH-INTERVAL;VALUE=DURATION:PT1H
X-Robots-Tag:noindex
X-PUBLISHED-TTL:PT1H
BEGIN:VTIMEZONE
TZID:America/Managua
BEGIN:STANDARD
TZOFFSETFROM:-0600
TZOFFSETTO:-0600
TZNAME:CST
DTSTART:20230101T000000
END:STANDARD
END:VTIMEZONE
BEGIN:VEVENT
DTSTART;TZID=America/Managua:20240927T080000
DTEND;TZID=America/Managua:20240927T120000
DTSTAMP:20260422T142200
CREATED:20240926T142824Z
LAST-MODIFIED:20240927T142613Z
UID:15070-1727424000-1727438400@www.una.edu.ni
SUMMARY:Establecimiento de Huertos Escolares
DESCRIPTION:
URL:https://www.una.edu.ni/event/establecimiento-de-huertos-escolares/
LOCATION:Colegio Flor Esmilda\, municipio de Juigalpa\, Juigalpa\, Nicaragua
CATEGORIES:OTROS
ATTACH;FMTTYPE=image/jpeg:https://www.una.edu.ni/wp-content/uploads/2024/09/HuertosEscolares.jpg
END:VEVENT
BEGIN:VEVENT
DTSTART;TZID=America/Managua:20240927T080000
DTEND;TZID=America/Managua:20240927T120000
DTSTAMP:20260422T142200
CREATED:20240926T143203Z
LAST-MODIFIED:20240926T143203Z
UID:15074-1727424000-1727438400@www.una.edu.ni
SUMMARY:Festival de Turismo Rural y Comunitario “Turismo y Paz”
DESCRIPTION:
URL:https://www.una.edu.ni/event/festival-de-turismo-rural-y-comunitario-turismo-y-paz/
LOCATION:Universidad Nacional Agraria\, Managua\, km 12 1/2\, Managua\, Nicaragua
CATEGORIES:FESTIVAL
ATTACH;FMTTYPE=image/jpeg:https://www.una.edu.ni/wp-content/uploads/2024/09/FestivalTurismoRural.jpg
END:VEVENT
BEGIN:VEVENT
DTSTART;TZID=America/Managua:20240927T150000
DTEND;TZID=America/Managua:20240927T170000
DTSTAMP:20260422T142200
CREATED:20240926T142536Z
LAST-MODIFIED:20240927T142327Z
UID:15066-1727449200-1727456400@www.una.edu.ni
SUMMARY:Taller en campo sobre las medidas sanitarias para evitar la propagación del gusano barrenador en los animales y personas
DESCRIPTION:
URL:https://www.una.edu.ni/event/taller-en-campo-sobre-las-medidas-sanitarias-para-evitar-la-propagacion-del-gusano-barrenador-en-los-animales-y-personas/
LOCATION:Finca Santa Rosa\, UNA-Managua\, Managua\, Nicaragua
CATEGORIES:TALLER
ATTACH;FMTTYPE=image/jpeg:https://www.una.edu.ni/wp-content/uploads/2024/09/TallerenCampo.jpg
END:VEVENT
BEGIN:VEVENT
DTSTART;TZID=America/Managua:20240927T150000
DTEND;TZID=America/Managua:20240927T170000
DTSTAMP:20260422T142200
CREATED:20240926T143715Z
LAST-MODIFIED:20240927T142515Z
UID:15077-1727449200-1727456400@www.una.edu.ni
SUMMARY:Jornada de reforestación y limpieza
DESCRIPTION:
URL:https://www.una.edu.ni/event/jornada-de-reforestacion-y-limpieza/
LOCATION:Finca Santa Rosa\, UNA-Managua\, Managua\, Nicaragua
CATEGORIES:JORNADA
ATTACH;FMTTYPE=image/jpeg:https://www.una.edu.ni/wp-content/uploads/2024/09/JornadadeReforestacion.jpg
END:VEVENT
BEGIN:VEVENT
DTSTART;TZID=America/Managua:20240928T090000
DTEND;TZID=America/Managua:20240928T120000
DTSTAMP:20260422T142200
CREATED:20240925T170344Z
LAST-MODIFIED:20240925T170344Z
UID:15012-1727514000-1727524800@www.una.edu.ni
SUMMARY:Foro sobre técnicas para el aseguramiento de la calidad e inocuidad en los procesos de beneficio del café
DESCRIPTION:
URL:https://www.una.edu.ni/event/foro-sobre-tecnicas-para-el-aseguramiento-de-la-calidad-e-inocuidad-en-los-procesos-de-beneficio-del-cafe/
LOCATION:UNICAM-UNA Jinotega\, Jinotega\, Nicaragua
CATEGORIES:FORO
END:VEVENT
BEGIN:VEVENT
DTSTART;TZID=America/Managua:20240928T090000
DTEND;TZID=America/Managua:20240928T120000
DTSTAMP:20260422T142200
CREATED:20240926T142045Z
LAST-MODIFIED:20240926T142045Z
UID:15062-1727514000-1727524800@www.una.edu.ni
SUMMARY:Taller práctico sobre metodologías para la identificación y características de los suelos
DESCRIPTION:
URL:https://www.una.edu.ni/event/taller-practico-sobre-metodologias-para-la-identificacion-y-caracteristicas-de-los-suelos/
LOCATION:UNICAM-UNA El Castillo Boca de Sábalo\, El Castillo\, Nicaragua
CATEGORIES:TALLER
ATTACH;FMTTYPE=image/jpeg:https://www.una.edu.ni/wp-content/uploads/2024/09/tallerpratico.jpg
END:VEVENT
BEGIN:VEVENT
DTSTART;TZID=America/Managua:20240930T093000
DTEND;TZID=America/Managua:20240930T120000
DTSTAMP:20260422T142200
CREATED:20240930T144240Z
LAST-MODIFIED:20240930T144240Z
UID:15173-1727688600-1727697600@www.una.edu.ni
SUMMARY:Inicio de la Olimpiada del saber interuniversitaria bajo el lema "Con la antorcha del saber\, encendemos la llama de la Revolución"
DESCRIPTION:
URL:https://www.una.edu.ni/event/inicio-de-la-olimpiada-del-saber-interuniversitaria-bajo-el-lema-con-la-antorcha-del-saber-encendemos-la-llama-de-la-revolucion/
LOCATION:UNAN CUR Chontales\, Nicaragua
CATEGORIES:OTROS
ATTACH;FMTTYPE=image/jpeg:https://www.una.edu.ni/wp-content/uploads/2024/09/Olimpiadas.jpg
END:VEVENT
BEGIN:VEVENT
DTSTART;TZID=America/Managua:20240930T100000
DTEND;TZID=America/Managua:20240930T120000
DTSTAMP:20260422T142200
CREATED:20240930T143935Z
LAST-MODIFIED:20240930T143935Z
UID:15170-1727690400-1727697600@www.una.edu.ni
SUMMARY:Jornadas de reforestación y conferencias
DESCRIPTION:
URL:https://www.una.edu.ni/event/jornadas-de-reforestacion-y-conferencias/
LOCATION:Centro Universitario Regional UNA Juigalpa\, Juigapa
CATEGORIES:JORNADA
ATTACH;FMTTYPE=image/jpeg:https://www.una.edu.ni/wp-content/uploads/2024/09/JornadaReforestacion.jpg
END:VEVENT
BEGIN:VEVENT
DTSTART;TZID=America/Managua:20241001T080000
DTEND;TZID=America/Managua:20241001T120000
DTSTAMP:20260422T142200
CREATED:20240930T143351Z
LAST-MODIFIED:20240930T220123Z
UID:15166-1727769600-1727784000@www.una.edu.ni
SUMMARY:Conferencias sobre certificación en buenas prácticas agrícolas
DESCRIPTION:
URL:https://www.una.edu.ni/event/conferencias-sobre-certificacion-en-buenas-practicas-agricolas/
LOCATION:Finca Modelo Modesto Duarte\, INTA de Camoapa\, Camoapa\, Nicaragua
CATEGORIES:CONFERENCIA
ATTACH;FMTTYPE=image/jpeg:https://www.una.edu.ni/wp-content/uploads/2024/09/ConferenciaCertificacion-1.jpg
END:VEVENT
BEGIN:VEVENT
DTSTART;TZID=America/Managua:20241001T080000
DTEND;TZID=America/Managua:20241001T120000
DTSTAMP:20260422T142200
CREATED:20240930T144517Z
LAST-MODIFIED:20241001T144320Z
UID:15178-1727769600-1727784000@www.una.edu.ni
SUMMARY:Conferencia sobre zootecnia en la producción pecuaria
DESCRIPTION:
URL:https://www.una.edu.ni/event/conferencia-sobre-zootecnia-en-la-produccion-pecuaria/
LOCATION:Instituto José Santos Zelaya Matiguás\, Nicaragua
CATEGORIES:CONFERENCIA
ATTACH;FMTTYPE=image/jpeg:https://www.una.edu.ni/wp-content/uploads/2024/09/conferenciazootecnia.jpg
END:VEVENT
BEGIN:VEVENT
DTSTART;TZID=America/Managua:20241001T080000
DTEND;TZID=America/Managua:20241001T120000
DTSTAMP:20260422T142200
CREATED:20240930T144734Z
LAST-MODIFIED:20240930T144734Z
UID:15182-1727769600-1727784000@www.una.edu.ni
SUMMARY:Taller de Técnicas de ordeño y Bioseguridad en instalaciones pecuarias
DESCRIPTION:
URL:https://www.una.edu.ni/event/taller-de-tecnicas-de-ordeno-y-bioseguridad-en-instalaciones-pecuarias/
LOCATION:Muelle de los Bueyes\, Comunidad Sombrero Negro\, Nicaragua
CATEGORIES:TALLER
ATTACH;FMTTYPE=image/jpeg:https://www.una.edu.ni/wp-content/uploads/2024/09/TallerTecnicasOrde.jpg
END:VEVENT
BEGIN:VEVENT
DTSTART;TZID=America/Managua:20241002T080000
DTEND;TZID=America/Managua:20241002T120000
DTSTAMP:20260422T142200
CREATED:20240930T145943Z
LAST-MODIFIED:20241001T143721Z
UID:15191-1727856000-1727870400@www.una.edu.ni
SUMMARY:Encuentro Regional de Maestros Innovadores
DESCRIPTION:
URL:https://www.una.edu.ni/event/encuentro-regional-de-maestros-innovadores/
LOCATION:Centro Universitario Regional UNA Juigalpa\, Juigapa
CATEGORIES:ENCUENTRO
ATTACH;FMTTYPE=image/jpeg:https://www.una.edu.ni/wp-content/uploads/2024/09/EncuentroRegional.jpg
END:VEVENT
BEGIN:VEVENT
DTSTART;TZID=America/Managua:20241002T080000
DTEND;TZID=America/Managua:20241002T120000
DTSTAMP:20260422T142200
CREATED:20240930T150325Z
LAST-MODIFIED:20240930T150325Z
UID:15195-1727856000-1727870400@www.una.edu.ni
SUMMARY:Jornada en Huertos Escolares en coordinación con colegios de secundaria del municipio de Juigalpa
DESCRIPTION:
URL:https://www.una.edu.ni/event/jornada-en-huertos-escolares-en-coordinacion-con-colegios-de-secundaria-del-municipio-de-juigalpa/
LOCATION:Escuela Normal Regional Gregorio Aguilar Varea\, Nicaragua
CATEGORIES:JORNADA
END:VEVENT
BEGIN:VEVENT
DTSTART;TZID=America/Managua:20241002T090000
DTEND;TZID=America/Managua:20241002T120000
DTSTAMP:20260422T142200
CREATED:20240930T145802Z
LAST-MODIFIED:20241002T215850Z
UID:15189-1727859600-1727870400@www.una.edu.ni
SUMMARY:Lanzamiento de la escuela de producción porcina\, en homenaje al General Benjamín Zeledón
DESCRIPTION:
URL:https://www.una.edu.ni/event/lanzamiento-de-la-escuela-de-produccion-porcina-en-homenaje-al-general-benjamin-zeledon/
LOCATION:Centro Universitario Regional UNA Juigalpa\, Juigapa
CATEGORIES:LANZAMIENTO
ATTACH;FMTTYPE=image/jpeg:https://www.una.edu.ni/wp-content/uploads/2024/09/LanzamientoEscuelaPorcina.jpg
END:VEVENT
BEGIN:VEVENT
DTSTART;TZID=America/Managua:20241002T090000
DTEND;TZID=America/Managua:20241002T120000
DTSTAMP:20260422T142200
CREATED:20240930T150120Z
LAST-MODIFIED:20241001T143633Z
UID:15193-1727859600-1727870400@www.una.edu.ni
SUMMARY:Conferencia sobre Estrategias para un manejo de plagas en agricultura sostenible
DESCRIPTION:
URL:https://www.una.edu.ni/event/conferencia-sobre-estrategias-para-un-manejo-de-plagas-en-agricultura-sostenible/
LOCATION:Universidad Nacional Agraria\, Managua\, km 12 1/2\, Managua\, Nicaragua
CATEGORIES:CONFERENCIA
ATTACH;FMTTYPE=image/jpeg:https://www.una.edu.ni/wp-content/uploads/2024/09/ConferenciaManejoPlagas.jpg
END:VEVENT
BEGIN:VEVENT
DTSTART;TZID=America/Managua:20241003T090000
DTEND;TZID=America/Managua:20241003T120000
DTSTAMP:20260422T142200
CREATED:20241001T144712Z
LAST-MODIFIED:20241001T144712Z
UID:15232-1727946000-1727956800@www.una.edu.ni
SUMMARY:Jornada de bienestar animal
DESCRIPTION:
URL:https://www.una.edu.ni/event/jornada-de-bienestar-animal/
LOCATION:Zoológico Thomas Belt\, Nicaragua
CATEGORIES:JORNADA
ATTACH;FMTTYPE=image/jpeg:https://www.una.edu.ni/wp-content/uploads/2024/10/JornadaBienestas.jpg
END:VEVENT
BEGIN:VEVENT
DTSTART;TZID=America/Managua:20241003T090000
DTEND;TZID=America/Managua:20241003T120000
DTSTAMP:20260422T142200
CREATED:20241002T214739Z
LAST-MODIFIED:20241002T214739Z
UID:15288-1727946000-1727956800@www.una.edu.ni
SUMMARY:Encuentro sobre establecimiento y manejo de viveros de plantas medicinales y ornamentales
DESCRIPTION:
URL:https://www.una.edu.ni/event/encuentro-sobre-establecimiento-y-manejo-de-viveros-de-plantas-medicinales-y-ornamentales/
LOCATION:Centro Universitario Regional UNA Juigalpa\, Juigapa
CATEGORIES:ENCUENTRO
ATTACH;FMTTYPE=image/jpeg:https://www.una.edu.ni/wp-content/uploads/2024/10/EncuentroSobreEstablecimiento.jpg
END:VEVENT
BEGIN:VEVENT
DTSTART;TZID=America/Managua:20241003T093000
DTEND;TZID=America/Managua:20241003T120000
DTSTAMP:20260422T142200
CREATED:20240930T145614Z
LAST-MODIFIED:20241002T223545Z
UID:15186-1727947800-1727956800@www.una.edu.ni
SUMMARY:Lanzamiento de la Escuela de producción del cultivo de plátano
DESCRIPTION:
URL:https://www.una.edu.ni/event/lanzamiento-de-la-escuela-de-produccion-del-cultivo-de-platano/
LOCATION:Ojo de agua- Municipio de Altagracia\, Altagracia\, Nicaragua
CATEGORIES:LANZAMIENTO
ATTACH;FMTTYPE=image/jpeg:https://www.una.edu.ni/wp-content/uploads/2024/09/LanzamientoEscuelaPlatano-1.jpg
END:VEVENT
BEGIN:VEVENT
DTSTART;TZID=America/Managua:20241003T130000
DTEND;TZID=America/Managua:20241003T170000
DTSTAMP:20260422T142200
CREATED:20241002T215106Z
LAST-MODIFIED:20241002T215114Z
UID:15291-1727960400-1727974800@www.una.edu.ni
SUMMARY:Taller creativo IDEATHON
DESCRIPTION:
URL:https://www.una.edu.ni/event/taller-creativo-ideathon/
LOCATION:Palacio de la cultura Juigalpa\, Juigalpa\, Nicaragua
CATEGORIES:TALLER
ATTACH;FMTTYPE=image/jpeg:https://www.una.edu.ni/wp-content/uploads/2024/10/TallerCreativo.jpg
END:VEVENT
BEGIN:VEVENT
DTSTART;TZID=America/Managua:20241003T150000
DTEND;TZID=America/Managua:20241003T170000
DTSTAMP:20260422T142200
CREATED:20241001T144207Z
LAST-MODIFIED:20241003T224406Z
UID:15228-1727967600-1727974800@www.una.edu.ni
SUMMARY:Conferencia científica "cacaos de Nicaragua"
DESCRIPTION:
URL:https://www.una.edu.ni/event/conferencia-cientifica-cacaos-de-nicaragua/
LOCATION:Universidad Nacional Agraria\, Managua\, km 12 1/2\, Managua\, Nicaragua
CATEGORIES:CONFERENCIA
ATTACH;FMTTYPE=image/jpeg:https://www.una.edu.ni/wp-content/uploads/2024/10/ConferenciaCienti.jpg
END:VEVENT
BEGIN:VEVENT
DTSTART;TZID=America/Managua:20241004T093000
DTEND;TZID=America/Managua:20241004T113000
DTSTAMP:20260422T142200
CREATED:20241002T215611Z
LAST-MODIFIED:20241002T215611Z
UID:15295-1728034200-1728041400@www.una.edu.ni
SUMMARY:Foro Regional de Café
DESCRIPTION:
URL:https://www.una.edu.ni/event/foro-regional-de-cafe/
LOCATION:Centro Universitario Regional UNA Juigalpa\, Juigapa
CATEGORIES:FORO
ATTACH;FMTTYPE=image/jpeg:https://www.una.edu.ni/wp-content/uploads/2024/10/ForoRegional.jpg
END:VEVENT
BEGIN:VEVENT
DTSTART;TZID=America/Managua:20241004T100000
DTEND;TZID=America/Managua:20241004T120000
DTSTAMP:20260422T142200
CREATED:20241004T142026Z
LAST-MODIFIED:20241004T142026Z
UID:15329-1728036000-1728043200@www.una.edu.ni
SUMMARY:Lanzamiento del programa de investigación en mejoramiento genético de ganado de raza reyna
DESCRIPTION:
URL:https://www.una.edu.ni/event/lanzamiento-del-programa-de-investigacion-en-mejoramiento-genetico-de-ganado-de-raza-reyna/
LOCATION:Dirección de Ciencia Animal- UNA\, Nicaragua
CATEGORIES:LANZAMIENTO
END:VEVENT
BEGIN:VEVENT
DTSTART;TZID=America/Managua:20241007T080000
DTEND;TZID=America/Managua:20241007T120000
DTSTAMP:20260422T142200
CREATED:20241004T191340Z
LAST-MODIFIED:20241007T222226Z
UID:15376-1728288000-1728302400@www.una.edu.ni
SUMMARY:Taller sobre procesamiento\, transformación y agregación de valor en jengibre para la elaboración de productos cosméticos
DESCRIPTION:
URL:https://www.una.edu.ni/event/taller-sobre-procesamiento-transformacion-y-agregacion-de-valor-en-jengibre-para-la-elaboracion-de-productos-cosmeticos/
LOCATION:Universidad Nacional Agraria\, Managua\, km 12 1/2\, Managua\, Nicaragua
CATEGORIES:TALLER
END:VEVENT
BEGIN:VEVENT
DTSTART;TZID=America/Managua:20241007T170000
DTEND;TZID=America/Managua:20241007T210000
DTSTAMP:20260422T142200
CREATED:20241004T191612Z
LAST-MODIFIED:20241004T191612Z
UID:15378-1728320400-1728334800@www.una.edu.ni
SUMMARY:Torneos deportivos con participación de docentes y estudiantes
DESCRIPTION:
URL:https://www.una.edu.ni/event/torneos-deportivos-con-participacion-de-docentes-y-estudiantes/
LOCATION:Universidad Nacional Agraria\, Managua\, km 12 1/2\, Managua\, Nicaragua
CATEGORIES:OTROS
END:VEVENT
BEGIN:VEVENT
DTSTART;TZID=America/Managua:20241008T083000
DTEND;TZID=America/Managua:20241008T120000
DTSTAMP:20260422T142200
CREATED:20241007T212113Z
LAST-MODIFIED:20241007T213358Z
UID:15427-1728376200-1728388800@www.una.edu.ni
SUMMARY:Conferencia “Enseñanza y aprendizaje de la anatomía veterinaria a través de un enfoque didáctico multimodal”
DESCRIPTION:
URL:https://www.una.edu.ni/event/conferencia-ensenanza-y-aprendizaje-de-la-anatomia-veterinaria-a-traves-de-un-enfoque-didactico-multimodal/
LOCATION:Finca Santa Rosa\, Universidad Nacional Agraria\, Nicaragua
CATEGORIES:CONFERENCIA
END:VEVENT
BEGIN:VEVENT
DTSTART;TZID=America/Managua:20241008T090000
DTEND;TZID=America/Managua:20241008T120000
DTSTAMP:20260422T142200
CREATED:20241004T191817Z
LAST-MODIFIED:20241004T191817Z
UID:15380-1728378000-1728388800@www.una.edu.ni
SUMMARY:Ponencia sobre producción de alimentos a pequeña escala
DESCRIPTION:
URL:https://www.una.edu.ni/event/ponencia-sobre-produccion-de-alimentos-a-pequena-escala/
LOCATION:Universidad Nacional Agraria\, Managua\, km 12 1/2\, Managua\, Nicaragua
CATEGORIES:PONENCIA
END:VEVENT
BEGIN:VEVENT
DTSTART;TZID=America/Managua:20241008T090000
DTEND;TZID=America/Managua:20241008T120000
DTSTAMP:20260422T142200
CREATED:20241004T192127Z
LAST-MODIFIED:20241007T154616Z
UID:15384-1728378000-1728388800@www.una.edu.ni
SUMMARY:Feria de la Lectura "Rescatando Nuestra Identidad Nacional”
DESCRIPTION:
URL:https://www.una.edu.ni/event/feria-de-la-lectura-rescatando-nuestra-identidad-nacional/
LOCATION:Universidad Nacional Agraria\, Managua\, km 12 1/2\, Managua\, Nicaragua
CATEGORIES:FERIA
END:VEVENT
BEGIN:VEVENT
DTSTART;TZID=America/Managua:20241008T100000
DTEND;TZID=America/Managua:20241008T130000
DTSTAMP:20260422T142200
CREATED:20241004T192017Z
LAST-MODIFIED:20241007T222630Z
UID:15382-1728381600-1728392400@www.una.edu.ni
SUMMARY:Foro sobre Análisis fisicoquímico de suelo
DESCRIPTION:
URL:https://www.una.edu.ni/event/foro-sobre-analisis-fisicoquimico-de-suelo/
LOCATION:Universidad Nacional Agraria\, Managua\, km 12 1/2\, Managua\, Nicaragua
CATEGORIES:FORO
END:VEVENT
BEGIN:VEVENT
DTSTART;TZID=America/Managua:20241008T130000
DTEND;TZID=America/Managua:20241008T160000
DTSTAMP:20260422T142200
CREATED:20241007T222837Z
LAST-MODIFIED:20241007T222837Z
UID:15434-1728392400-1728403200@www.una.edu.ni
SUMMARY:Jornada de embellecimiento de ambientes educativos
DESCRIPTION:
URL:https://www.una.edu.ni/event/jornada-de-embellecimiento-de-ambientes-educativos/
LOCATION:Universidad Nacional Agraria\, Managua\, km 12 1/2\, Managua\, Nicaragua
CATEGORIES:JORNADA
END:VEVENT
BEGIN:VEVENT
DTSTART;TZID=America/Managua:20241008T140000
DTEND;TZID=America/Managua:20241008T160000
DTSTAMP:20260422T142200
CREATED:20241004T192314Z
LAST-MODIFIED:20241007T154718Z
UID:15386-1728396000-1728403200@www.una.edu.ni
SUMMARY:Charlas sobre producción agropecuaria y seguridad alimentaria
DESCRIPTION:
URL:https://www.una.edu.ni/event/charlas-sobre-produccion-agropecuaria-y-seguridad-alimentaria/
LOCATION:Municipio de Matiguás\, Nicaragua
CATEGORIES:CHARLA
END:VEVENT
END:VCALENDAR