BEGIN:VCALENDAR
VERSION:2.0
PRODID:-//Universidad Nacional Agraria - ECPv6.15.20//NONSGML v1.0//EN
CALSCALE:GREGORIAN
METHOD:PUBLISH
X-WR-CALNAME:Universidad Nacional Agraria
X-ORIGINAL-URL:https://www.una.edu.ni
X-WR-CALDESC:Eventos para Universidad Nacional Agraria
REFRESH-INTERVAL;VALUE=DURATION:PT1H
X-Robots-Tag:noindex
X-PUBLISHED-TTL:PT1H
BEGIN:VTIMEZONE
TZID:Europe/Madrid
BEGIN:DAYLIGHT
TZOFFSETFROM:+0100
TZOFFSETTO:+0200
TZNAME:CEST
DTSTART:20230326T010000
END:DAYLIGHT
BEGIN:STANDARD
TZOFFSETFROM:+0200
TZOFFSETTO:+0100
TZNAME:CET
DTSTART:20231029T010000
END:STANDARD
BEGIN:DAYLIGHT
TZOFFSETFROM:+0100
TZOFFSETTO:+0200
TZNAME:CEST
DTSTART:20240331T010000
END:DAYLIGHT
BEGIN:STANDARD
TZOFFSETFROM:+0200
TZOFFSETTO:+0100
TZNAME:CET
DTSTART:20241027T010000
END:STANDARD
BEGIN:DAYLIGHT
TZOFFSETFROM:+0100
TZOFFSETTO:+0200
TZNAME:CEST
DTSTART:20250330T010000
END:DAYLIGHT
BEGIN:STANDARD
TZOFFSETFROM:+0200
TZOFFSETTO:+0100
TZNAME:CET
DTSTART:20251026T010000
END:STANDARD
END:VTIMEZONE
BEGIN:VTIMEZONE
TZID:America/Managua
BEGIN:STANDARD
TZOFFSETFROM:-0600
TZOFFSETTO:-0600
TZNAME:CST
DTSTART:20230101T000000
END:STANDARD
END:VTIMEZONE
BEGIN:VEVENT
DTSTART;TZID=Europe/Madrid:20241010T080000
DTEND;TZID=Europe/Madrid:20241010T120000
DTSTAMP:20260422T003434
CREATED:20241009T194349Z
LAST-MODIFIED:20241009T194403Z
UID:15529-1728547200-1728561600@www.una.edu.ni
SUMMARY:Taller de elaboración de alimentos balanceados para aves\, cerdos y bovinos\, en coordinación con INATEC
DESCRIPTION:
URL:https://www.una.edu.ni/event/taller-de-elaboracion-de-alimentos-balanceados-para-aves-cerdos-y-bovinos-en-coordinacion-con-inatec/
LOCATION:INATEC Juigalpa\, Juigalpa\, Nicaragua
CATEGORIES:TALLER
END:VEVENT
BEGIN:VEVENT
DTSTART;TZID=America/Managua:20241010T083000
DTEND;TZID=America/Managua:20241010T120000
DTSTAMP:20260422T003434
CREATED:20241009T194514Z
LAST-MODIFIED:20241009T194539Z
UID:15532-1728549000-1728561600@www.una.edu.ni
SUMMARY:Práctica de clínica de venta productos de Agronegocios\, fortaleciendo competencias de estudiantes de III año de agronegocios en atención al cliente\, estrategias de venta y aplicación de técnicas de comercialización
DESCRIPTION:
URL:https://www.una.edu.ni/event/practica-de-clinica-de-venta-productos-de-agronegocios/
LOCATION:Universidad Nacional Agraria\, Managua\, km 12 1/2\, Managua\, Nicaragua
CATEGORIES:OTROS
END:VEVENT
BEGIN:VEVENT
DTSTART;TZID=America/Managua:20241010T083000
DTEND;TZID=America/Managua:20241010T120000
DTSTAMP:20260422T003434
CREATED:20241009T194744Z
LAST-MODIFIED:20241009T194744Z
UID:15537-1728549000-1728561600@www.una.edu.ni
SUMMARY:Presentación del Informe Autoevaluación del proceso de acreditación y preparación para visita de Pares en Centros Regionales de la UNA
DESCRIPTION:
URL:https://www.una.edu.ni/event/presentacion-del-informe-autoevaluacion-del-proceso-de-acreditacion-y-preparacion-para-visita-de-pares-en-centros-regionales-de-la-una/
LOCATION:Centro Universitario Regional UNA Juigalpa\, Juigapa
CATEGORIES:PRESENTACIÓN
END:VEVENT
BEGIN:VEVENT
DTSTART;TZID=America/Managua:20241010T090000
DTEND;TZID=America/Managua:20241010T120000
DTSTAMP:20260422T003434
CREATED:20241009T194644Z
LAST-MODIFIED:20241009T194644Z
UID:15535-1728550800-1728561600@www.una.edu.ni
SUMMARY:Práctica de control de malezas en huerto\, con estudiantes de IV año de Desarrollo Rural
DESCRIPTION:
URL:https://www.una.edu.ni/event/practica-de-control-de-malezas-en-huerto-con-estudiantes-de-iv-ano-de-desarrollo-rural/
LOCATION:Universidad Nacional Agraria\, Managua\, km 12 1/2\, Managua\, Nicaragua
CATEGORIES:OTROS
END:VEVENT
BEGIN:VEVENT
DTSTART;TZID=America/Managua:20241010T090000
DTEND;TZID=America/Managua:20241010T120000
DTSTAMP:20260422T003434
CREATED:20241009T194932Z
LAST-MODIFIED:20241009T194932Z
UID:15542-1728550800-1728561600@www.una.edu.ni
SUMMARY:Conferencia sobre manejo sostenible de los suelos
DESCRIPTION:
URL:https://www.una.edu.ni/event/conferencia-sobre-manejo-sostenible-de-los-suelos/
LOCATION:Universidad Nacional Agraria\, Managua\, km 12 1/2\, Managua\, Nicaragua
CATEGORIES:CONFERENCIA
END:VEVENT
BEGIN:VEVENT
DTSTART;TZID=America/Managua:20241010T100000
DTEND;TZID=America/Managua:20241010T120000
DTSTAMP:20260422T003434
CREATED:20241009T193407Z
LAST-MODIFIED:20241009T193407Z
UID:15527-1728554400-1728561600@www.una.edu.ni
SUMMARY:Inauguración de áreas didácticas de cultivos
DESCRIPTION:
URL:https://www.una.edu.ni/event/inauguracion-de-areas-didacticas-de-cultivos/
LOCATION:UNICAM-UNA-El Plantel\, Nindirí\, Nindirí\, Nicaragua
CATEGORIES:INAUGURACIÓN
END:VEVENT
BEGIN:VEVENT
DTSTART;TZID=America/Managua:20241010T100000
DTEND;TZID=America/Managua:20241010T120000
DTSTAMP:20260422T003434
CREATED:20241009T194841Z
LAST-MODIFIED:20241009T194841Z
UID:15539-1728554400-1728561600@www.una.edu.ni
SUMMARY:Taller sobre implementación de registros productivos y reproductivos en ganadería
DESCRIPTION:
URL:https://www.una.edu.ni/event/taller-sobre-implementacion-de-registros-productivos-y-reproductivos-en-ganaderia/
LOCATION:Muelle de los Bueyes\, Comunidad: Pilas 2.\, Nicaragua
CATEGORIES:TALLER
END:VEVENT
BEGIN:VEVENT
DTSTART;TZID=America/Managua:20241011T080000
DTEND;TZID=America/Managua:20241011T120000
DTSTAMP:20260422T003434
CREATED:20241011T141945Z
LAST-MODIFIED:20241011T142143Z
UID:15590-1728633600-1728648000@www.una.edu.ni
SUMMARY:Gira de campo proyecto de Investigación “Las mujeres rurales\, factor clave para el fortalecimiento de nuevos emprendimientos en comunidades El Quinal y Aguas calientes\, municipio de Santa Teresa\, Carazo. 2024-2025”
DESCRIPTION:
URL:https://www.una.edu.ni/event/gira-de-campo-proyecto-de-investigacion-las-mujeres-rurales-factor-clave-para-el-fortalecimiento-de-nuevos-emprendimientos-en-comunidades-el-quinal-y-aguas-calientes-municipio-de-santa-tere/
LOCATION:Municipio de Santa Teresa\, Carazo.\, Santa Teresa\, Nicaragua
CATEGORIES:OTROS
END:VEVENT
BEGIN:VEVENT
DTSTART;TZID=America/Managua:20241011T083000
DTEND;TZID=America/Managua:20241011T120000
DTSTAMP:20260422T003434
CREATED:20241011T141451Z
LAST-MODIFIED:20241011T141451Z
UID:15578-1728635400-1728648000@www.una.edu.ni
SUMMARY:Emisión del Diplomado en Entornos Virtuales de Aprendizaje EVA
DESCRIPTION:
URL:https://www.una.edu.ni/event/emision-del-diplomado-en-entornos-virtuales-de-aprendizaje-eva/
LOCATION:Universidad Nacional Agraria\, Managua\, km 12 1/2\, Managua\, Nicaragua
CATEGORIES:DIPLOMADO
END:VEVENT
BEGIN:VEVENT
DTSTART;TZID=America/Managua:20241011T090000
DTEND;TZID=America/Managua:20241011T120000
DTSTAMP:20260422T003434
CREATED:20241011T141713Z
LAST-MODIFIED:20241011T141713Z
UID:15584-1728637200-1728648000@www.una.edu.ni
SUMMARY:Ponencia “Legado del comandante Che Guevara en América latina”
DESCRIPTION:
URL:https://www.una.edu.ni/event/ponencia-legado-del-comandante-che-guevara-en-america-latina/
LOCATION:Universidad Nacional Agraria\, Managua\, km 12 1/2\, Managua\, Nicaragua
CATEGORIES:PONENCIA
END:VEVENT
BEGIN:VEVENT
DTSTART;TZID=America/Managua:20241011T090000
DTEND;TZID=America/Managua:20241011T120000
DTSTAMP:20260422T003434
CREATED:20241011T141827Z
LAST-MODIFIED:20241011T141827Z
UID:15586-1728637200-1728648000@www.una.edu.ni
SUMMARY:Práctica construcción de enramadas\, con estudiantes de III año de Agronegocios
DESCRIPTION:
URL:https://www.una.edu.ni/event/practica-construccion-de-enramadas-con-estudiantes-de-iii-ano-de-agronegocios/
LOCATION:Universidad Nacional Agraria\, Managua\, km 12 1/2\, Managua\, Nicaragua
CATEGORIES:OTROS
END:VEVENT
BEGIN:VEVENT
DTSTART;TZID=America/Managua:20241011T090000
DTEND;TZID=America/Managua:20241011T120000
DTSTAMP:20260422T003434
CREATED:20241011T142110Z
LAST-MODIFIED:20241011T142110Z
UID:15592-1728637200-1728648000@www.una.edu.ni
SUMMARY:Taller de Formulación y elaboración de premezcla alimenticia para cerdos y aves utilizando recursos locales para fortalecer la seguridad alimentaria y mejorar la productividad en las comunidades rurales
DESCRIPTION:
URL:https://www.una.edu.ni/event/taller-de-formulacion-y-elaboracion-de-premezcla-alimenticia-para-cerdos-y-aves-utilizando-recursos-locales-para-fortalecer-la-seguridad-alimentaria-y-mejorar-la-productividad-en-las-comunidades-rural/
LOCATION:Comunidad La Perla\, Achuapa.\, Nicaragua
CATEGORIES:OTROS
END:VEVENT
BEGIN:VEVENT
DTSTART;TZID=America/Managua:20241012T080000
DTEND;TZID=America/Managua:20241012T120000
DTSTAMP:20260422T003434
CREATED:20241011T142910Z
LAST-MODIFIED:20241011T142910Z
UID:15611-1728720000-1728734400@www.una.edu.ni
SUMMARY:Jornada deportiva en coordinación con juventud sandinista y UNEN
DESCRIPTION:
URL:https://www.una.edu.ni/event/jornada-deportiva-en-coordinacion-con-juventud-sandinista-y-unen/
LOCATION:Cancha INPAC Esquipulas\, Nicaragua
CATEGORIES:JORNADA
END:VEVENT
BEGIN:VEVENT
DTSTART;TZID=America/Managua:20241012T100000
DTEND;TZID=America/Managua:20241012T120000
DTSTAMP:20260422T003434
CREATED:20241011T142255Z
LAST-MODIFIED:20241011T142255Z
UID:15596-1728727200-1728734400@www.una.edu.ni
SUMMARY:Capacitación a Estudiantes sobre medidas de prevención y control del gusano barrenador\, desarrollada por el IPSA
DESCRIPTION:
URL:https://www.una.edu.ni/event/capacitacion-a-estudiantes-sobre-medidas-de-prevencion-y-control-del-gusano-barrenador-desarrollada-por-el-ipsa/
LOCATION:Municipio de Boaco\, Nicaragua
CATEGORIES:CAPACITACION
END:VEVENT
BEGIN:VEVENT
DTSTART;TZID=America/Managua:20241012T100000
DTEND;TZID=America/Managua:20241012T120000
DTSTAMP:20260422T003434
CREATED:20241011T142555Z
LAST-MODIFIED:20241011T142555Z
UID:15602-1728727200-1728734400@www.una.edu.ni
SUMMARY:Jornada de limpieza y reforestación en el marco de la Campaña “Verde que te quiero Verde”.
DESCRIPTION:
URL:https://www.una.edu.ni/event/jornada-de-limpieza-y-reforestacion-en-el-marco-de-la-campana-verde-que-te-quiero-verde/
LOCATION:UNICAM UNA “Heroínas de la Revolución”\, Nicaragua
CATEGORIES:JORNADA
END:VEVENT
BEGIN:VEVENT
DTSTART;TZID=America/Managua:20241012T100000
DTEND;TZID=America/Managua:20241012T120000
DTSTAMP:20260422T003434
CREATED:20241011T142805Z
LAST-MODIFIED:20241011T142805Z
UID:15608-1728727200-1728734400@www.una.edu.ni
SUMMARY:Charla sobre medidas de prevención y control de del gusano barrenador\, impartida por expertos del IPSA
DESCRIPTION:
URL:https://www.una.edu.ni/event/charla-sobre-medidas-de-prevencion-y-control-de-del-gusano-barrenador-impartida-por-expertos-del-ipsa/
LOCATION:UNICAM\, Boaco viejo\, Boaco\, Nicaragua
CATEGORIES:CHARLA
END:VEVENT
BEGIN:VEVENT
DTSTART;TZID=America/Managua:20241012T100000
DTEND;TZID=America/Managua:20241012T120000
DTSTAMP:20260422T003434
CREATED:20241011T143018Z
LAST-MODIFIED:20241011T143018Z
UID:15616-1728727200-1728734400@www.una.edu.ni
SUMMARY:Foro Sobre el rescate de la historia nicaragüense
DESCRIPTION:
URL:https://www.una.edu.ni/event/foro-sobre-el-rescate-de-la-historia-nicaraguense/
LOCATION:Centro Universitario Regional UNA Juigalpa\, Juigapa
CATEGORIES:FORO
END:VEVENT
BEGIN:VEVENT
DTSTART;TZID=America/Managua:20241012T100000
DTEND;TZID=America/Managua:20241012T120000
DTSTAMP:20260422T003434
CREATED:20241011T143123Z
LAST-MODIFIED:20241011T143123Z
UID:15618-1728727200-1728734400@www.una.edu.ni
SUMMARY:Taller Sobre estrategias de prevención del gusano Barrenador en el ganador mayor\, Conmemorando el día Mundial de los animales
DESCRIPTION:
URL:https://www.una.edu.ni/event/taller-sobre-estrategias-de-prevencion-del-gusano-barrenador-en-el-ganador-mayor-conmemorando-el-dia-mundial-de-los-animales/
LOCATION:UNICAM UNA Ocotal\, Ocotal\, Nicaragua
CATEGORIES:TALLER
END:VEVENT
BEGIN:VEVENT
DTSTART;TZID=America/Managua:20241012T103000
DTEND;TZID=America/Managua:20241012T120000
DTSTAMP:20260422T003434
CREATED:20241011T142403Z
LAST-MODIFIED:20241011T142403Z
UID:15599-1728729000-1728734400@www.una.edu.ni
SUMMARY:Taller sobre Emprendimiento Rural
DESCRIPTION:
URL:https://www.una.edu.ni/event/taller-sobre-emprendimiento-rural/
LOCATION:Universidad Nacional Agraria\, Managua\, km 12 1/2\, Managua\, Nicaragua
CATEGORIES:TALLER
END:VEVENT
BEGIN:VEVENT
DTSTART;TZID=America/Managua:20241012T140000
DTEND;TZID=America/Managua:20241012T170000
DTSTAMP:20260422T003434
CREATED:20241011T142651Z
LAST-MODIFIED:20241011T142651Z
UID:15606-1728741600-1728752400@www.una.edu.ni
SUMMARY:Encuentro universitario “Adoptando un árbol”
DESCRIPTION:
URL:https://www.una.edu.ni/event/encuentro-universitario-adoptando-un-arbol/
LOCATION:Centro Universitario Regional UNA Juigalpa\, Juigapa
CATEGORIES:ENCUENTRO
END:VEVENT
BEGIN:VEVENT
DTSTART;TZID=America/Managua:20241013T100000
DTEND;TZID=America/Managua:20241013T120000
DTSTAMP:20260422T003434
CREATED:20241011T143245Z
LAST-MODIFIED:20241011T143255Z
UID:15621-1728813600-1728820800@www.una.edu.ni
SUMMARY:Conferencia sobre pastos y forrajes como alimentación alternativa para mejorar el rendimiento en la producción animal de carne y leche bovina
DESCRIPTION:
URL:https://www.una.edu.ni/event/conferencia-sobre-pastos-y-forrajes-como-alimentacion-alternativa-para-mejorar-el-rendimiento-en-la-produccion-animal-de-carne-y-leche-bovina/
LOCATION:UNICAM-UNA-El Plantel\, Nindirí\, Nindirí\, Nicaragua
CATEGORIES:CONFERENCIA
END:VEVENT
BEGIN:VEVENT
DTSTART;TZID=America/Managua:20241013T170000
DTEND;TZID=America/Managua:20241013T200000
DTSTAMP:20260422T003434
CREATED:20241011T143408Z
LAST-MODIFIED:20241011T143408Z
UID:15623-1728838800-1728849600@www.una.edu.ni
SUMMARY:Taller de arteterapia composición musical\, pintura y manualidades
DESCRIPTION:
URL:https://www.una.edu.ni/event/taller-de-arteterapia-composicion-musical-pintura-y-manualidades/
LOCATION:Universidad Nacional Agraria\, Managua\, km 12 1/2\, Managua\, Nicaragua
CATEGORIES:TALLER
END:VEVENT
BEGIN:VEVENT
DTSTART;TZID=America/Managua:20241014T080000
DTEND;TZID=America/Managua:20241015T120000
DTSTAMP:20260422T003434
CREATED:20241014T145007Z
LAST-MODIFIED:20241014T145007Z
UID:15723-1728892800-1728993600@www.una.edu.ni
SUMMARY:Sesión Universidades miembros del CNU\, continúan el trabajo de armonización de la carrera de Licenciatura en Agronegocios
DESCRIPTION:
URL:https://www.una.edu.ni/event/sesion-universidades-miembros-del-cnu-continuan-el-trabajo-de-armonizacion-de-la-carrera-de-licenciatura-en-agronegocios/
LOCATION:Universidad Nacional Agraria\, Managua\, km 12 1/2\, Managua\, Nicaragua
CATEGORIES:OTROS
END:VEVENT
BEGIN:VEVENT
DTSTART;TZID=America/Managua:20241014T083000
DTEND;TZID=America/Managua:20241014T120000
DTSTAMP:20260422T003434
CREATED:20241014T143009Z
LAST-MODIFIED:20241014T143009Z
UID:15702-1728894600-1728907200@www.una.edu.ni
SUMMARY:Conferencia "Marco legal vigente: Certificación fitosanitaria de productos y subproductos vegetales de exportación"
DESCRIPTION:
URL:https://www.una.edu.ni/event/conferencia-marco-legal-vigente-certificacion-fitosanitaria-de-productos-y-subproductos-vegetales-de-exportacion/
LOCATION:Universidad Nacional Agraria\, Managua\, km 12 1/2\, Managua\, Nicaragua
CATEGORIES:CONFERENCIA
END:VEVENT
BEGIN:VEVENT
DTSTART;TZID=America/Managua:20241014T083000
DTEND;TZID=America/Managua:20241014T120000
DTSTAMP:20260422T003434
CREATED:20241014T143213Z
LAST-MODIFIED:20241014T143213Z
UID:15704-1728894600-1728907200@www.una.edu.ni
SUMMARY:Conferencia "Registro\, implementación\, control y certificación de Buenas Prácticas Agrícolas (BPA)\, a nivel nacional"
DESCRIPTION:
URL:https://www.una.edu.ni/event/conferencia-registro-implementacion-control-y-certificacion-de-buenas-practicas-agricolas-bpa-a-nivel-nacional/
LOCATION:Universidad Nacional Agraria\, Managua\, km 12 1/2\, Managua\, Nicaragua
CATEGORIES:CONFERENCIA
END:VEVENT
BEGIN:VEVENT
DTSTART;TZID=America/Managua:20241014T090000
DTEND;TZID=America/Managua:20241014T120000
DTSTAMP:20260422T003434
CREATED:20241014T144218Z
LAST-MODIFIED:20241014T144218Z
UID:15714-1728896400-1728907200@www.una.edu.ni
SUMMARY:Taller Farmacología y vías de aplicación de productos veterinarios en la ganadería
DESCRIPTION:
URL:https://www.una.edu.ni/event/taller-farmacologia-y-vias-de-aplicacion-de-productos-veterinarios-en-la-ganaderia/
LOCATION:Comunidad El Rayo\, Juigalpa\, Juigalpa\, Nicaragua
CATEGORIES:TALLER
END:VEVENT
BEGIN:VEVENT
DTSTART;TZID=America/Managua:20241014T090000
DTEND;TZID=America/Managua:20241014T120000
DTSTAMP:20260422T003434
CREATED:20241014T144522Z
LAST-MODIFIED:20241014T144522Z
UID:15719-1728896400-1728907200@www.una.edu.ni
SUMMARY:Taller Diseño en aplicación Canva\, fortaleciendo conocimientos en el uso de herramientas para diseño de imagen de productos
DESCRIPTION:
URL:https://www.una.edu.ni/event/taller-diseno-en-aplicacion-canva-fortaleciendo-conocimientos-en-el-uso-de-herramientas-para-diseno-de-imagen-de-productos/
LOCATION:Universidad Nacional Agraria\, Managua\, km 12 1/2\, Managua\, Nicaragua
CATEGORIES:TALLER
END:VEVENT
BEGIN:VEVENT
DTSTART;TZID=America/Managua:20241014T130000
DTEND;TZID=America/Managua:20241014T170000
DTSTAMP:20260422T003434
CREATED:20241014T145137Z
LAST-MODIFIED:20241014T145137Z
UID:15725-1728910800-1728925200@www.una.edu.ni
SUMMARY:Taller Mediciones zoometrías en bovinos
DESCRIPTION:
URL:https://www.una.edu.ni/event/taller-mediciones-zoometrias-en-bovinos/
LOCATION:Finca Santa Rosa\, Universidad Nacional Agraria\, Nicaragua
CATEGORIES:TALLER
END:VEVENT
BEGIN:VEVENT
DTSTART;TZID=Europe/Madrid:20241015T080000
DTEND;TZID=Europe/Madrid:20241015T120000
DTSTAMP:20260422T003434
CREATED:20241014T144745Z
LAST-MODIFIED:20241014T144745Z
UID:15721-1728979200-1728993600@www.una.edu.ni
SUMMARY:Encuentro Mujeres rurales y estudiantes mujeres "Voces de la Mujer Rural"
DESCRIPTION:
URL:https://www.una.edu.ni/event/encuentro-mujeres-rurales-y-estudiantes-mujeres-voces-de-la-mujer-rural/
LOCATION:Universidad Nacional Agraria\, Managua\, km 12 1/2\, Managua\, Nicaragua
CATEGORIES:ENCUENTRO
END:VEVENT
BEGIN:VEVENT
DTSTART;TZID=America/Managua:20241015T090000
DTEND;TZID=America/Managua:20241015T120000
DTSTAMP:20260422T003434
CREATED:20241014T143351Z
LAST-MODIFIED:20241014T143351Z
UID:15706-1728982800-1728993600@www.una.edu.ni
SUMMARY:Conferencia "Usos y aplicaciones de Google Earth Engine para monitoreo agrícola"
DESCRIPTION:
URL:https://www.una.edu.ni/event/conferencia-usos-y-aplicaciones-de-google-earth-engine-para-monitoreo-agricola/
LOCATION:Universidad Nacional Agraria\, Managua\, km 12 1/2\, Managua\, Nicaragua
CATEGORIES:CONFERENCIA
END:VEVENT
END:VCALENDAR