BEGIN:VCALENDAR
VERSION:2.0
PRODID:-//Universidad Nacional Agraria - ECPv6.15.20//NONSGML v1.0//EN
CALSCALE:GREGORIAN
METHOD:PUBLISH
X-WR-CALNAME:Universidad Nacional Agraria
X-ORIGINAL-URL:https://www.una.edu.ni
X-WR-CALDESC:Eventos para Universidad Nacional Agraria
REFRESH-INTERVAL;VALUE=DURATION:PT1H
X-Robots-Tag:noindex
X-PUBLISHED-TTL:PT1H
BEGIN:VTIMEZONE
TZID:America/Managua
BEGIN:STANDARD
TZOFFSETFROM:-0600
TZOFFSETTO:-0600
TZNAME:CST
DTSTART:20230101T000000
END:STANDARD
END:VTIMEZONE
BEGIN:VTIMEZONE
TZID:Europe/Madrid
BEGIN:DAYLIGHT
TZOFFSETFROM:+0100
TZOFFSETTO:+0200
TZNAME:CEST
DTSTART:20230326T010000
END:DAYLIGHT
BEGIN:STANDARD
TZOFFSETFROM:+0200
TZOFFSETTO:+0100
TZNAME:CET
DTSTART:20231029T010000
END:STANDARD
BEGIN:DAYLIGHT
TZOFFSETFROM:+0100
TZOFFSETTO:+0200
TZNAME:CEST
DTSTART:20240331T010000
END:DAYLIGHT
BEGIN:STANDARD
TZOFFSETFROM:+0200
TZOFFSETTO:+0100
TZNAME:CET
DTSTART:20241027T010000
END:STANDARD
BEGIN:DAYLIGHT
TZOFFSETFROM:+0100
TZOFFSETTO:+0200
TZNAME:CEST
DTSTART:20250330T010000
END:DAYLIGHT
BEGIN:STANDARD
TZOFFSETFROM:+0200
TZOFFSETTO:+0100
TZNAME:CET
DTSTART:20251026T010000
END:STANDARD
END:VTIMEZONE
BEGIN:VEVENT
DTSTART;TZID=America/Managua:20241017T083000
DTEND;TZID=America/Managua:20241017T120000
DTSTAMP:20260422T021504
CREATED:20241017T134356Z
LAST-MODIFIED:20241017T134356Z
UID:15985-1729153800-1729166400@www.una.edu.ni
SUMMARY:Práctica de clínica de venta productos de Agronegocios\, con estudiantes de III año de agronegocios
DESCRIPTION:
URL:https://www.una.edu.ni/event/practica-de-clinica-de-venta-productos-de-agronegocios-con-estudiantes-de-iii-ano-de-agronegocios/
LOCATION:Universidad Nacional Agraria\, Managua\, km 12 1/2\, Managua\, Nicaragua
CATEGORIES:OTROS
END:VEVENT
BEGIN:VEVENT
DTSTART;TZID=America/Managua:20241017T083000
DTEND;TZID=America/Managua:20241017T120000
DTSTAMP:20260422T021504
CREATED:20241017T135218Z
LAST-MODIFIED:20241017T135218Z
UID:15991-1729153800-1729166400@www.una.edu.ni
SUMMARY:Jornada Veterinaria Antirrábica “Por amor a las mascotas”
DESCRIPTION:
URL:https://www.una.edu.ni/event/jornada-veterinaria-antirrabica-por-amor-a-las-mascotas/
LOCATION:Universidad Nacional Agraria\, Managua\, km 12 1/2\, Managua\, Nicaragua
CATEGORIES:JORNADA
END:VEVENT
BEGIN:VEVENT
DTSTART;TZID=America/Managua:20241017T090000
DTEND;TZID=America/Managua:20241017T120000
DTSTAMP:20260422T021504
CREATED:20241017T134040Z
LAST-MODIFIED:20241017T134040Z
UID:15981-1729155600-1729166400@www.una.edu.ni
SUMMARY:Conferencia “Sistema de información geográfica para apoyar la adaptación al cambio climático de pequeños sistemas de producción de café en la zona norte de Nicaragua”
DESCRIPTION:
URL:https://www.una.edu.ni/event/conferencia-sistema-de-informacion-geografica-para-apoyar-la-adaptacion-al-cambio-climatico-de-pequenos-sistemas-de-produccion-de-cafe-en-la-zona-norte-de-nicaragua/
LOCATION:Universidad Nacional Agraria\, Managua\, km 12 1/2\, Managua\, Nicaragua
CATEGORIES:CONFERENCIA
END:VEVENT
BEGIN:VEVENT
DTSTART;TZID=America/Managua:20241017T090000
DTEND;TZID=America/Managua:20241017T120000
DTSTAMP:20260422T021504
CREATED:20241017T134549Z
LAST-MODIFIED:20241017T134549Z
UID:15987-1729155600-1729166400@www.una.edu.ni
SUMMARY:Clase Práctica de Ahoyado para enramadas y frutales en huerto\, con estudiantes de IV año de Desarrollo Rural
DESCRIPTION:
URL:https://www.una.edu.ni/event/clase-practica-de-ahoyado-para-enramadas-y-frutales-en-huerto-con-estudiantes-de-iv-ano-de-desarrollo-rural/
LOCATION:Universidad Nacional Agraria\, Managua\, km 12 1/2\, Managua\, Nicaragua
CATEGORIES:OTROS
END:VEVENT
BEGIN:VEVENT
DTSTART;TZID=America/Managua:20241017T090000
DTEND;TZID=America/Managua:20241017T120000
DTSTAMP:20260422T021504
CREATED:20241017T135412Z
LAST-MODIFIED:20241017T135412Z
UID:15993-1729155600-1729166400@www.una.edu.ni
SUMMARY:Conferencia “Aplicación de técnicas de almacenamiento de forraje en base seca\, húmeda y fermentación en estado sólido para mejorar la alimentación animal y la sostenibilidad rural”\, con estudiantes de UNICAM y productores locales
DESCRIPTION:
URL:https://www.una.edu.ni/event/conferencia-aplicacion-de-tecnicas-de-almacenamiento-de-forraje-en-base-seca-humeda-y-fermentacion-en-estado-solido-para-mejorar-la-alimentacion-animal-y-la-sostenibilidad-rural-co/
LOCATION:Comarca los caraos\, Achuapa\, Nicaragua
CATEGORIES:CONFERENCIA
END:VEVENT
BEGIN:VEVENT
DTSTART;TZID=America/Managua:20241017T103000
DTEND;TZID=America/Managua:20241017T120000
DTSTAMP:20260422T021504
CREATED:20241017T134153Z
LAST-MODIFIED:20241017T134153Z
UID:15983-1729161000-1729166400@www.una.edu.ni
SUMMARY:Conferencia “Tendencias de la biotecnología\, aplicación en Nicaragua y su aporte al sector agrario”
DESCRIPTION:
URL:https://www.una.edu.ni/event/conferencia-tendencias-de-la-biotecnologia-aplicacion-en-nicaragua-y-su-aporte-al-sector-agrario/
LOCATION:Universidad Nacional Agraria\, Managua\, km 12 1/2\, Managua\, Nicaragua
CATEGORIES:CONFERENCIA
END:VEVENT
BEGIN:VEVENT
DTSTART;TZID=America/Managua:20241017T150000
DTEND;TZID=America/Managua:20241017T170000
DTSTAMP:20260422T021504
CREATED:20241017T133901Z
LAST-MODIFIED:20241017T133901Z
UID:15979-1729177200-1729184400@www.una.edu.ni
SUMMARY:Taller sobre “Inteligencia artificial: Turnitin en el desarrollo de investigaciones
DESCRIPTION:
URL:https://www.una.edu.ni/event/taller-sobre-inteligencia-artificial-turnitin-en-el-desarrollo-de-investigaciones/
LOCATION:Universidad Nacional Agraria\, Managua\, km 12 1/2\, Managua\, Nicaragua
CATEGORIES:TALLER
END:VEVENT
BEGIN:VEVENT
DTSTART;TZID=America/Managua:20241017T150000
DTEND;TZID=America/Managua:20241017T170000
DTSTAMP:20260422T021504
CREATED:20241017T134843Z
LAST-MODIFIED:20241017T134843Z
UID:15989-1729177200-1729184400@www.una.edu.ni
SUMMARY:Conferencia Didáctica y Espectáculo performático Interdisciplinario sobre la “Vigencia y sincretismo de celebraciones rituales de la nación Sumu-Mayangna presentes en dos representaciones danzarías del pacífico de Nicaragua: el Baile del Toro Huaco de Diriamba y el Baile de los Chilegros de Nindirí
DESCRIPTION:
URL:https://www.una.edu.ni/event/conferencia-didactica-y-espectaculo-performatico-interdisciplinario-sobre-la-vigencia-y-sincretismo-de-celebraciones-rituales-de-la-nacion-sumu-mayangna-presentes-en-dos-representaciones-danz/
LOCATION:Universidad Nacional Agraria\, Managua\, km 12 1/2\, Managua\, Nicaragua
CATEGORIES:CONFERENCIA
END:VEVENT
BEGIN:VEVENT
DTSTART;TZID=America/Managua:20241017T150000
DTEND;TZID=America/Managua:20241017T170000
DTSTAMP:20260422T021504
CREATED:20241017T135850Z
LAST-MODIFIED:20241017T135850Z
UID:15996-1729177200-1729184400@www.una.edu.ni
SUMMARY:Conferencia “Situación Actual de la trazabilidad Bovina en Nicaragua” con expertos del IPSA
DESCRIPTION:
URL:https://www.una.edu.ni/event/conferencia-situacion-actual-de-la-trazabilidad-bovina-en-nicaragua-con-expertos-del-ipsa/
LOCATION:Universidad Nacional Agraria\, Managua\, km 12 1/2\, Managua\, Nicaragua
CATEGORIES:CONFERENCIA
END:VEVENT
BEGIN:VEVENT
DTSTART;TZID=Europe/Madrid:20241018T050000
DTEND;TZID=Europe/Madrid:20241018T080000
DTSTAMP:20260422T021504
CREATED:20241018T145614Z
LAST-MODIFIED:20241018T145614Z
UID:16034-1729227600-1729238400@www.una.edu.ni
SUMMARY:Jornada deportiva con estudiantes del Programa Integral de Educación Superior Agraria (PIESA)
DESCRIPTION:
URL:https://www.una.edu.ni/event/jornada-deportiva-con-estudiantes-del-programa-integral-de-educacion-superior-agraria-piesa/
LOCATION:Centro Penitenciario Jorge Navarro\, Tipitapa\, Nicaragua
CATEGORIES:JORNADA
END:VEVENT
BEGIN:VEVENT
DTSTART;TZID=America/Managua:20241018T083000
DTEND;TZID=America/Managua:20241018T120000
DTSTAMP:20260422T021504
CREATED:20241018T145727Z
LAST-MODIFIED:20241018T145727Z
UID:16037-1729240200-1729252800@www.una.edu.ni
SUMMARY:Taller sobre Calidad Físico Químico de la leche cruda de rumiantes
DESCRIPTION:
URL:https://www.una.edu.ni/event/taller-sobre-calidad-fisico-quimico-de-la-leche-cruda-de-rumiantes/
LOCATION:Universidad Nacional Agraria\, Managua\, km 12 1/2\, Managua\, Nicaragua
CATEGORIES:TALLER
END:VEVENT
BEGIN:VEVENT
DTSTART;TZID=America/Managua:20241018T090000
DTEND;TZID=America/Managua:20241018T120000
DTSTAMP:20260422T021504
CREATED:20241018T144538Z
LAST-MODIFIED:20241018T144538Z
UID:16021-1729242000-1729252800@www.una.edu.ni
SUMMARY:UNA participa del “FORO UALN 2024”\, bajo el lema ¡Innovación de la Educación a Distancia Virtual: un desafío tecno pedagógico de la educación superior!
DESCRIPTION:
URL:https://www.una.edu.ni/event/una-participa-del-foro-ualn-2024-bajo-el-lema-innovacion-de-la-educacion-a-distancia-virtual-un-desafio-tecno-pedagogico-de-la-educacion-superior/
LOCATION:Universidad Nacional Casimiro Sotelo Montenegro\, Managua\, Nicaragua
CATEGORIES:FORO
END:VEVENT
BEGIN:VEVENT
DTSTART;TZID=America/Managua:20241018T090000
DTEND;TZID=America/Managua:20241018T120000
DTSTAMP:20260422T021504
CREATED:20241018T145245Z
LAST-MODIFIED:20241018T145245Z
UID:16032-1729242000-1729252800@www.una.edu.ni
SUMMARY:Jornada de reforestación con estudiantes y docentes de Ciencias para el Desarrollo Comunitario
DESCRIPTION:
URL:https://www.una.edu.ni/event/jornada-de-reforestacion-con-estudiantes-y-docentes-de-ciencias-para-el-desarrollo-comunitario/
LOCATION:Universidad Nacional Agraria\, Managua\, km 12 1/2\, Managua\, Nicaragua
CATEGORIES:JORNADA
END:VEVENT
BEGIN:VEVENT
DTSTART;TZID=America/Managua:20241018T090000
DTEND;TZID=America/Managua:20241018T150000
DTSTAMP:20260422T021504
CREATED:20241018T144741Z
LAST-MODIFIED:20241018T144741Z
UID:16025-1729242000-1729263600@www.una.edu.ni
SUMMARY:Emisión del Diplomado en Entornos Virtuales de Aprendizaje (EVA).
DESCRIPTION:
URL:https://www.una.edu.ni/event/emision-del-diplomado-en-entornos-virtuales-de-aprendizaje-eva-2/
LOCATION:Universidad Nacional Agraria\, Managua\, km 12 1/2\, Managua\, Nicaragua
CATEGORIES:DIPLOMADO
END:VEVENT
BEGIN:VEVENT
DTSTART;TZID=America/Managua:20241018T100000
DTEND;TZID=America/Managua:20241018T120000
DTSTAMP:20260422T021504
CREATED:20241018T144057Z
LAST-MODIFIED:20241018T144057Z
UID:16019-1729245600-1729252800@www.una.edu.ni
SUMMARY:Feria de Exposición de proyectos de innovación agropecuaria
DESCRIPTION:
URL:https://www.una.edu.ni/event/feria-de-exposicion-de-proyectos-de-innovacion-agropecuaria/
LOCATION:Universidad Nacional Agraria\, Managua\, km 12 1/2\, Managua\, Nicaragua
CATEGORIES:FERIA
END:VEVENT
BEGIN:VEVENT
DTSTART;TZID=Europe/Madrid:20241018T100000
DTEND;TZID=Europe/Madrid:20241018T120000
DTSTAMP:20260422T021504
CREATED:20241018T144142Z
LAST-MODIFIED:20241018T144142Z
UID:16017-1729245600-1729252800@www.una.edu.ni
SUMMARY:Inauguración de la Planta Escuela de alimentos balanceados “Octubre Victorioso” en conmemoración de los 47 años del tránsito a la inmortalidad del comandante Pedro Arauz Palacios
DESCRIPTION:
URL:https://www.una.edu.ni/event/inauguracion-de-la-planta-escuela-de-alimentos-balanceados-octubre-victorioso-en-conmemoracion-de-los-47-anos-del-transito-a-la-inmortalidad-del-comandante-pedro-arauz-palacios/
LOCATION:Universidad Nacional Agraria\, Managua\, km 12 1/2\, Managua\, Nicaragua
CATEGORIES:INAUGURACIÓN
END:VEVENT
BEGIN:VEVENT
DTSTART;TZID=America/Managua:20241018T100000
DTEND;TZID=America/Managua:20241018T120000
DTSTAMP:20260422T021504
CREATED:20241018T144920Z
LAST-MODIFIED:20241018T144920Z
UID:16027-1729245600-1729252800@www.una.edu.ni
SUMMARY:Taller sobre estrategias de incorporación de leguminosas en la alimentación animal
DESCRIPTION:
URL:https://www.una.edu.ni/event/taller-sobre-estrategias-de-incorporacion-de-leguminosas-en-la-alimentacion-animal/
LOCATION:Comunidad Piedra Grande #3\, Juigalpa\, Juigalpa\, Nicaragua
CATEGORIES:TALLER
END:VEVENT
BEGIN:VEVENT
DTSTART;TZID=America/Managua:20241018T100000
DTEND;TZID=America/Managua:20241018T120000
DTSTAMP:20260422T021504
CREATED:20241018T145118Z
LAST-MODIFIED:20241018T145118Z
UID:16030-1729245600-1729252800@www.una.edu.ni
SUMMARY:Conversatorio sobre el día nacional de protección de la naturaleza\, en coordinación con expertos del MARENA
DESCRIPTION:
URL:https://www.una.edu.ni/event/conversatorio-sobre-el-dia-nacional-de-proteccion-de-la-naturaleza-en-coordinacion-con-expertos-del-marena/
LOCATION:Centro Universitario Regional UNA Juigalpa\, Juigapa
CATEGORIES:CONVERSATORIO
END:VEVENT
BEGIN:VEVENT
DTSTART;TZID=America/Managua:20241019T080000
DTEND;TZID=America/Managua:20241019T120000
DTSTAMP:20260422T021504
CREATED:20241018T150929Z
LAST-MODIFIED:20241018T150929Z
UID:16044-1729324800-1729339200@www.una.edu.ni
SUMMARY:Visita de estudiantes UNICAM Bocana de Paiwas a granja porcina nuevo amanecer
DESCRIPTION:
URL:https://www.una.edu.ni/event/visita-de-estudiantes-unicam-bocana-de-paiwas-a-granja-porcina-nuevo-amanecer/
LOCATION:Willicón\, Bocana de Paiwas\, Nicaragua
CATEGORIES:OTROS
END:VEVENT
BEGIN:VEVENT
DTSTART;TZID=America/Managua:20241019T090000
DTEND;TZID=America/Managua:20241019T110000
DTSTAMP:20260422T021504
CREATED:20241018T150740Z
LAST-MODIFIED:20241018T150740Z
UID:16041-1729328400-1729335600@www.una.edu.ni
SUMMARY:Charla sobre el quehacer diario de la Cruz Blanca
DESCRIPTION:
URL:https://www.una.edu.ni/event/charla-sobre-el-quehacer-diario-de-la-cruz-blanca/
LOCATION:Centro de Práctica La Encantadora (UNICAM – Boaco Viejo)\, Nicaragua
CATEGORIES:CHARLA
END:VEVENT
BEGIN:VEVENT
DTSTART;TZID=America/Managua:20241019T090000
DTEND;TZID=America/Managua:20241019T120000
DTSTAMP:20260422T021504
CREATED:20241018T151047Z
LAST-MODIFIED:20241018T151047Z
UID:16047-1729328400-1729339200@www.una.edu.ni
SUMMARY:Taller de elaboración de alimentos balanceados para producción acuícola\, en coordinación con expertos de INPESCA
DESCRIPTION:
URL:https://www.una.edu.ni/event/taller-de-elaboracion-de-alimentos-balanceados-para-produccion-acuicola-en-coordinacion-con-expertos-de-inpesca/
LOCATION:Centro Universitario Regional UNA Juigalpa\, Juigapa
CATEGORIES:TALLER
END:VEVENT
BEGIN:VEVENT
DTSTART;TZID=America/Managua:20241019T100000
DTEND;TZID=America/Managua:20241019T120000
DTSTAMP:20260422T021504
CREATED:20241018T151249Z
LAST-MODIFIED:20241018T151249Z
UID:16049-1729332000-1729339200@www.una.edu.ni
SUMMARY:Encuentro deportivo\, en el marco de la Estrategia Nacional de Educación “Bendiciones y Victorias”
DESCRIPTION:
URL:https://www.una.edu.ni/event/encuentro-deportivo-en-el-marco-de-la-estrategia-nacional-de-educacion-bendiciones-y-victorias/
LOCATION:El Rama\, Nicaragua
CATEGORIES:ENCUENTRO
END:VEVENT
BEGIN:VEVENT
DTSTART;TZID=America/Managua:20241019T100000
DTEND;TZID=America/Managua:20241019T120000
DTSTAMP:20260422T021504
CREATED:20241018T151528Z
LAST-MODIFIED:20241018T151623Z
UID:16052-1729332000-1729339200@www.una.edu.ni
SUMMARY:Dirigencia de UNEN-UNA y brigadas del voluntariado Ambiental de la UNA realizan jornada ambiental
DESCRIPTION:
URL:https://www.una.edu.ni/event/dirigencia-de-unen-una-y-brigadas-del-voluntariado-ambiental-de-la-una-realizan-jornada-ambiental/
LOCATION:Finca Forestal El Copetudo\, municipio de Macuelizo Nueva Segovia\, Nicaragua
CATEGORIES:JORNADA
END:VEVENT
BEGIN:VEVENT
DTSTART;TZID=America/Managua:20241019T170000
DTEND;TZID=America/Managua:20241019T200000
DTSTAMP:20260422T021504
CREATED:20241018T145914Z
LAST-MODIFIED:20241018T145914Z
UID:16039-1729357200-1729368000@www.una.edu.ni
SUMMARY:Jornada de Juegos cooperativos\, con estudiantes de beca interna de la UNA
DESCRIPTION:
URL:https://www.una.edu.ni/event/jornada-de-juegos-cooperativos-con-estudiantes-de-beca-interna-de-la-una/
LOCATION:Universidad Nacional Agraria\, Managua\, km 12 1/2\, Managua\, Nicaragua
CATEGORIES:JORNADA
END:VEVENT
BEGIN:VEVENT
DTSTART;TZID=America/Managua:20241020T080000
DTEND;TZID=America/Managua:20241020T120000
DTSTAMP:20260422T021504
CREATED:20241019T175959Z
LAST-MODIFIED:20241019T175959Z
UID:16083-1729411200-1729425600@www.una.edu.ni
SUMMARY:Curso de actualización sobre trazabilidad bovina y su importancia para la sanidad animal y seguridad alimentaria
DESCRIPTION:
URL:https://www.una.edu.ni/event/curso-de-actualizacion-sobre-trazabilidad-bovina-y-su-importancia-para-la-sanidad-animal-y-seguridad-alimentaria/
LOCATION:Instituto Nacional San Pedro del Norte\, Nicaragua
CATEGORIES:CURSO
END:VEVENT
BEGIN:VEVENT
DTSTART;TZID=America/Managua:20241020T083000
DTEND;TZID=America/Managua:20241020T120000
DTSTAMP:20260422T021504
CREATED:20241019T180319Z
LAST-MODIFIED:20241019T180319Z
UID:16089-1729413000-1729425600@www.una.edu.ni
SUMMARY:Visita al centro de prácticas avícola Canícula de ciencia animal para ejecutar Actividades zoosanitarias en galpón de aves de postura\, con estudiantes de UNICAM Plantel
DESCRIPTION:
URL:https://www.una.edu.ni/event/visita-al-centro-de-practicas-avicola-canicula-de-ciencia-animal-para-ejecutar-actividades-zoosanitarias-en-galpon-de-aves-de-postura-con-estudiantes-de-unicam-plantel/
LOCATION:Finca Santa Rosa\, UNA-Managua\, Managua\, Nicaragua
CATEGORIES:OTROS
END:VEVENT
BEGIN:VEVENT
DTSTART;TZID=America/Managua:20241020T090000
DTEND;TZID=America/Managua:20241020T120000
DTSTAMP:20260422T021504
CREATED:20241019T175549Z
LAST-MODIFIED:20241019T175549Z
UID:16080-1729414800-1729425600@www.una.edu.ni
SUMMARY:Estudiantes de UNICAM participan de Charla sobre el funcionamiento de la Cruz Blanca
DESCRIPTION:
URL:https://www.una.edu.ni/event/estudiantes-de-unicam-participan-de-charla-sobre-el-funcionamiento-de-la-cruz-blanca/
LOCATION:UNICAM–Coyanchigüe\, Nicaragua
CATEGORIES:CHARLA
END:VEVENT
BEGIN:VEVENT
DTSTART;TZID=America/Managua:20241021T080000
DTEND;TZID=America/Managua:20241021T120000
DTSTAMP:20260422T021504
CREATED:20241021T142438Z
LAST-MODIFIED:20241021T142438Z
UID:16095-1729497600-1729512000@www.una.edu.ni
SUMMARY:Charla sobre la “Evaluación y optimización de la producción con BPA y BPP\, Calidad\, sostenibilidad y seguridad desde el campo hasta el mercado\, dirigida a productores locales
DESCRIPTION:
URL:https://www.una.edu.ni/event/charla-sobre-la-evaluacion-y-optimizacion-de-la-produccion-con-bpa-y-bpp-calidad-sostenibilidad-y-seguridad-desde-el-campo-hasta-el-mercado-dirigida-a-productores-locales/
LOCATION:Comarca la Reyna\, municipio de Boaco\, Nicaragua
CATEGORIES:CHARLA
END:VEVENT
BEGIN:VEVENT
DTSTART;TZID=America/Managua:20241021T080000
DTEND;TZID=America/Managua:20241021T120000
DTSTAMP:20260422T021504
CREATED:20241021T143138Z
LAST-MODIFIED:20241021T143138Z
UID:16106-1729497600-1729512000@www.una.edu.ni
SUMMARY:Charla sobre producción\, calidad\, sostenibilidad de los cultivos agropecuarios
DESCRIPTION:
URL:https://www.una.edu.ni/event/charla-sobre-produccion-calidad-sostenibilidad-de-los-cultivos-agropecuarios/
LOCATION:Comarca la Reina\, municipio de Boaco\, Nicaragua
CATEGORIES:CHARLA
END:VEVENT
BEGIN:VEVENT
DTSTART;TZID=America/Managua:20241021T080000
DTEND;TZID=America/Managua:20241021T170000
DTSTAMP:20260422T021504
CREATED:20241021T142247Z
LAST-MODIFIED:20241021T142247Z
UID:16092-1729497600-1729530000@www.una.edu.ni
SUMMARY:Visita a centros educativos de secundaria del MINED\, para promocionar la oferta académica de la UNA
DESCRIPTION:
URL:https://www.una.edu.ni/event/visita-a-centros-educativos-de-secundaria-del-mined-para-promocionar-la-oferta-academica-de-la-una/
LOCATION:Municipios Muy Muy\, Matiguás y Río Blanco\, Nicaragua
CATEGORIES:OTROS
END:VEVENT
END:VCALENDAR