BEGIN:VCALENDAR
VERSION:2.0
PRODID:-//Universidad Nacional Agraria - ECPv6.15.20//NONSGML v1.0//EN
CALSCALE:GREGORIAN
METHOD:PUBLISH
X-WR-CALNAME:Universidad Nacional Agraria
X-ORIGINAL-URL:https://www.una.edu.ni
X-WR-CALDESC:Eventos para Universidad Nacional Agraria
REFRESH-INTERVAL;VALUE=DURATION:PT1H
X-Robots-Tag:noindex
X-PUBLISHED-TTL:PT1H
BEGIN:VTIMEZONE
TZID:Europe/Madrid
BEGIN:DAYLIGHT
TZOFFSETFROM:+0100
TZOFFSETTO:+0200
TZNAME:CEST
DTSTART:20230326T010000
END:DAYLIGHT
BEGIN:STANDARD
TZOFFSETFROM:+0200
TZOFFSETTO:+0100
TZNAME:CET
DTSTART:20231029T010000
END:STANDARD
BEGIN:DAYLIGHT
TZOFFSETFROM:+0100
TZOFFSETTO:+0200
TZNAME:CEST
DTSTART:20240331T010000
END:DAYLIGHT
BEGIN:STANDARD
TZOFFSETFROM:+0200
TZOFFSETTO:+0100
TZNAME:CET
DTSTART:20241027T010000
END:STANDARD
BEGIN:DAYLIGHT
TZOFFSETFROM:+0100
TZOFFSETTO:+0200
TZNAME:CEST
DTSTART:20250330T010000
END:DAYLIGHT
BEGIN:STANDARD
TZOFFSETFROM:+0200
TZOFFSETTO:+0100
TZNAME:CET
DTSTART:20251026T010000
END:STANDARD
END:VTIMEZONE
BEGIN:VTIMEZONE
TZID:America/Managua
BEGIN:STANDARD
TZOFFSETFROM:-0600
TZOFFSETTO:-0600
TZNAME:CST
DTSTART:20230101T000000
END:STANDARD
END:VTIMEZONE
BEGIN:VEVENT
DTSTART;TZID=Europe/Madrid:20241021T080000
DTEND;TZID=Europe/Madrid:20241026T170000
DTSTAMP:20260422T025938
CREATED:20241021T150638Z
LAST-MODIFIED:20241021T150638Z
UID:16115-1729497600-1729962000@www.una.edu.ni
SUMMARY:Comunidad Universitaria de la UNA participa de la II jornada de donación de sangre 2024
DESCRIPTION:
URL:https://www.una.edu.ni/event/comunidad-universitaria-de-la-una-participa-de-la-ii-jornada-de-donacion-de-sangre-2024/
LOCATION:Universidad Nacional Agraria\, Managua\, km 12 1/2\, Managua\, Nicaragua
CATEGORIES:JORNADA
END:VEVENT
BEGIN:VEVENT
DTSTART;TZID=America/Managua:20241026T080000
DTEND;TZID=America/Managua:20241026T120000
DTSTAMP:20260422T025938
CREATED:20241025T142509Z
LAST-MODIFIED:20241025T142509Z
UID:16310-1729929600-1729944000@www.una.edu.ni
SUMMARY:Taller sobre manejo de las principales plagas del cultivo de plátano
DESCRIPTION:
URL:https://www.una.edu.ni/event/taller-sobre-manejo-de-las-principales-plagas-del-cultivo-de-platano/
LOCATION:Escuela de plátano de Altagracia\, Isla de Ometepe\, Rivas\, Altragracia\, Nicaragua
CATEGORIES:TALLER
END:VEVENT
BEGIN:VEVENT
DTSTART;TZID=America/Managua:20241026T080000
DTEND;TZID=America/Managua:20241026T120000
DTSTAMP:20260422T025938
CREATED:20241025T142843Z
LAST-MODIFIED:20241025T142843Z
UID:16317-1729929600-1729944000@www.una.edu.ni
SUMMARY:Conferencia sobre el Manejo de las principales plagas del cultivo de plátano
DESCRIPTION:
URL:https://www.una.edu.ni/event/conferencia-sobre-el-manejo-de-las-principales-plagas-del-cultivo-de-platano/
LOCATION:Escuela de plátano de Altagracia\, Isla de Ometepe\, Rivas\, Altragracia\, Nicaragua
CATEGORIES:CONFERENCIA
END:VEVENT
BEGIN:VEVENT
DTSTART;TZID=America/Managua:20241026T083000
DTEND;TZID=America/Managua:20241026T120000
DTSTAMP:20260422T025938
CREATED:20241025T142256Z
LAST-MODIFIED:20241025T142256Z
UID:16306-1729931400-1729944000@www.una.edu.ni
SUMMARY:Práctica de clínica de venta productos de Agronegocios fortaleciendo técnicas de atención al cliente\, estrategias de venta y aplicación de técnicas de comercialización\, con estudiantes de III año de Agronegocios
DESCRIPTION:
URL:https://www.una.edu.ni/event/practica-de-clinica-de-venta-productos-de-agronegocios-fortaleciendo-tecnicas-de-atencion-al-cliente-estrategias-de-venta-y-aplicacion-de-tecnicas-de-comercializacion-con-estudiantes-de-iii-ano-de-a/
LOCATION:Universidad Nacional Agraria\, Managua\, km 12 1/2\, Managua\, Nicaragua
CATEGORIES:OTROS
END:VEVENT
BEGIN:VEVENT
DTSTART;TZID=America/Managua:20241026T090000
DTEND;TZID=America/Managua:20241026T120000
DTSTAMP:20260422T025938
CREATED:20241025T142035Z
LAST-MODIFIED:20241025T142035Z
UID:16302-1729933200-1729944000@www.una.edu.ni
SUMMARY:Feria de Innovación de Proyectos ambientales en el marco de Universidades Verdes\, promoviendo el cuido a la madre tierra\, con estudiantes de UNICAM
DESCRIPTION:
URL:https://www.una.edu.ni/event/feria-de-innovacion-de-proyectos-ambientales-en-el-marco-de-universidades-verdes-promoviendo-el-cuido-a-la-madre-tierra-con-estudiantes-de-unicam/
LOCATION:Centro Universitario Regional UNA Juigalpa\, Juigapa
CATEGORIES:FERIA
END:VEVENT
BEGIN:VEVENT
DTSTART;TZID=America/Managua:20241026T090000
DTEND;TZID=America/Managua:20241026T120000
DTSTAMP:20260422T025938
CREATED:20241025T142353Z
LAST-MODIFIED:20241025T142353Z
UID:16308-1729933200-1729944000@www.una.edu.ni
SUMMARY:Apertura del Curso de Inseminación Artificial Bovina
DESCRIPTION:
URL:https://www.una.edu.ni/event/apertura-del-curso-de-inseminacion-artificial-bovina/
LOCATION:Universidad Nacional Agraria\, Managua\, km 12 1/2\, Managua\, Nicaragua
CATEGORIES:CURSO
END:VEVENT
BEGIN:VEVENT
DTSTART;TZID=America/Managua:20241026T090000
DTEND;TZID=America/Managua:20241026T120000
DTSTAMP:20260422T025938
CREATED:20241025T142559Z
LAST-MODIFIED:20241025T142559Z
UID:16313-1729933200-1729944000@www.una.edu.ni
SUMMARY:Inicio del Curso en técnicas modernas de Inseminación Artificial y reproducción bovina
DESCRIPTION:
URL:https://www.una.edu.ni/event/inicio-del-curso-en-tecnicas-modernas-de-inseminacion-artificial-y-reproduccion-bovina/
LOCATION:Universidad Nacional Agraria\, Managua\, km 12 1/2\, Managua\, Nicaragua
CATEGORIES:CURSO
END:VEVENT
BEGIN:VEVENT
DTSTART;TZID=America/Managua:20241026T090000
DTEND;TZID=America/Managua:20241026T120000
DTSTAMP:20260422T025938
CREATED:20241025T142734Z
LAST-MODIFIED:20241025T142734Z
UID:16315-1729933200-1729944000@www.una.edu.ni
SUMMARY:Feria de Innovación de Proyectos ambientales\, para el cuido a la madre tierra
DESCRIPTION:
URL:https://www.una.edu.ni/event/feria-de-innovacion-de-proyectos-ambientales-para-el-cuido-a-la-madre-tierra/
LOCATION:Centro Universitario Regional UNA Juigalpa\, Juigapa
CATEGORIES:FERIA
END:VEVENT
BEGIN:VEVENT
DTSTART;TZID=America/Managua:20241026T180000
DTEND;TZID=America/Managua:20241026T200000
DTSTAMP:20260422T025938
CREATED:20241025T142153Z
LAST-MODIFIED:20241025T142153Z
UID:16304-1729965600-1729972800@www.una.edu.ni
SUMMARY:Sesión de “Auto Cuido con ejercicios de relajación física y psíquica\, canalizando energía\, disminuyendo el estrés y al mismo tiempo socializando con becados internos
DESCRIPTION:
URL:https://www.una.edu.ni/event/sesion-de-auto-cuido-con-ejercicios-de-relajacion-fisica-y-psiquica-canalizando-energia-disminuyendo-el-estres-y-al-mismo-tiempo-socializando-con-becados-internos/
LOCATION:Universidad Nacional Agraria\, Managua\, km 12 1/2\, Managua\, Nicaragua
CATEGORIES:OTROS
END:VEVENT
BEGIN:VEVENT
DTSTART;TZID=America/Managua:20241026T180000
DTEND;TZID=America/Managua:20241026T200000
DTSTAMP:20260422T025938
CREATED:20241025T143111Z
LAST-MODIFIED:20241025T143111Z
UID:16319-1729965600-1729972800@www.una.edu.ni
SUMMARY:Taller sobre técnicas de relajación con estudiantes becados internos
DESCRIPTION:
URL:https://www.una.edu.ni/event/taller-sobre-tecnicas-de-relajacion-con-estudiantes-becados-internos/
LOCATION:Universidad Nacional Agraria\, Managua\, km 12 1/2\, Managua\, Nicaragua
CATEGORIES:TALLER
END:VEVENT
BEGIN:VEVENT
DTSTART;TZID=America/Managua:20241028T150000
DTEND;TZID=America/Managua:20241028T170000
DTSTAMP:20260422T025938
CREATED:20241028T140721Z
LAST-MODIFIED:20241028T140721Z
UID:16325-1730127600-1730134800@www.una.edu.ni
SUMMARY:Jornada de geo digitalización de áreas verdes
DESCRIPTION:
URL:https://www.una.edu.ni/event/jornada-de-geo-digitalizacion-de-areas-verdes/
LOCATION:Universidad Nacional Agraria\, Managua\, km 12 1/2\, Managua\, Nicaragua
CATEGORIES:JORNADA
END:VEVENT
BEGIN:VEVENT
DTSTART;TZID=America/Managua:20241029T080000
DTEND;TZID=America/Managua:20241029T120000
DTSTAMP:20260422T025938
CREATED:20241028T141237Z
LAST-MODIFIED:20241028T141237Z
UID:16333-1730188800-1730203200@www.una.edu.ni
SUMMARY:Taller práctico sobre elaboración subproductos a base de coco\, con estudiantes del programa PIESA
DESCRIPTION:
URL:https://www.una.edu.ni/event/taller-practico-sobre-elaboracion-subproductos-a-base-de-coco-con-estudiantes-del-programa-piesa/
LOCATION:Sistema Penitenciario Integral de Mujeres y Sistema Penitenciario “Jorge Navarro”\, Nicaragua
CATEGORIES:TALLER
END:VEVENT
BEGIN:VEVENT
DTSTART;TZID=America/Managua:20241029T083000
DTEND;TZID=America/Managua:20241029T120000
DTSTAMP:20260422T025938
CREATED:20241028T140853Z
LAST-MODIFIED:20241028T140853Z
UID:16327-1730190600-1730203200@www.una.edu.ni
SUMMARY:Conferencia “Cambio Climático y salud humana”
DESCRIPTION:
URL:https://www.una.edu.ni/event/conferencia-cambio-climatico-y-salud-humana/
LOCATION:Universidad Nacional Agraria\, Managua\, km 12 1/2\, Managua\, Nicaragua
CATEGORIES:CONFERENCIA
END:VEVENT
BEGIN:VEVENT
DTSTART;TZID=America/Managua:20241029T090000
DTEND;TZID=America/Managua:20241029T120000
DTSTAMP:20260422T025938
CREATED:20241028T141005Z
LAST-MODIFIED:20241028T141005Z
UID:16329-1730192400-1730203200@www.una.edu.ni
SUMMARY:Conferencia “Alternativas de producción de bioplaguicidas microbianos a base de hongos”
DESCRIPTION:
URL:https://www.una.edu.ni/event/conferencia-alternativas-de-produccion-de-bioplaguicidas-microbianos-a-base-de-hongos/
LOCATION:Universidad Nacional Agraria\, Managua\, km 12 1/2\, Managua\, Nicaragua
CATEGORIES:CONFERENCIA
END:VEVENT
BEGIN:VEVENT
DTSTART;TZID=America/Managua:20241029T090000
DTEND;TZID=America/Managua:20241029T120000
DTSTAMP:20260422T025938
CREATED:20241028T141108Z
LAST-MODIFIED:20241028T141108Z
UID:16331-1730192400-1730203200@www.una.edu.ni
SUMMARY:Simposio sobre recolecta de semillas forestales y calidad producida en vivero
DESCRIPTION:
URL:https://www.una.edu.ni/event/simposio-sobre-recolecta-de-semillas-forestales-y-calidad-producida-en-vivero/
LOCATION:Universidad Nacional Agraria\, Managua\, km 12 1/2\, Managua\, Nicaragua
CATEGORIES:Simposio
END:VEVENT
BEGIN:VEVENT
DTSTART;TZID=America/Managua:20241029T100000
DTEND;TZID=America/Managua:20241029T120000
DTSTAMP:20260422T025938
CREATED:20241028T141343Z
LAST-MODIFIED:20241028T155145Z
UID:16336-1730196000-1730203200@www.una.edu.ni
SUMMARY:III Muestra de Teatro Interuniversitaria “LA GATA MUNGUÍA”\, con la participación de agrupaciones artísticas de las universidades miembros del CNU
DESCRIPTION:
URL:https://www.una.edu.ni/event/iii-muestra-de-teatro-interuniversitaria-la-gata-munguia-con-la-participacion-de-agrupaciones-artisticas-de-las-universidades-miembros-del-cnu/
LOCATION:Universidad Nacional Agraria\, Managua\, km 12 1/2\, Managua\, Nicaragua
CATEGORIES:OTROS
END:VEVENT
BEGIN:VEVENT
DTSTART;TZID=America/Managua:20241029T150000
DTEND;TZID=America/Managua:20241029T170000
DTSTAMP:20260422T025938
CREATED:20241028T141451Z
LAST-MODIFIED:20241028T141451Z
UID:16338-1730214000-1730221200@www.una.edu.ni
SUMMARY:Embellecimiento y Limpieza de áreas verdes
DESCRIPTION:
URL:https://www.una.edu.ni/event/embellecimiento-y-limpieza-de-areas-verdes/
LOCATION:Universidad Nacional Agraria\, Managua\, km 12 1/2\, Managua\, Nicaragua
CATEGORIES:OTROS
END:VEVENT
BEGIN:VEVENT
DTSTART;TZID=America/Managua:20241030T080000
DTEND;TZID=America/Managua:20241030T120000
DTSTAMP:20260422T025938
CREATED:20241028T173720Z
LAST-MODIFIED:20241028T173720Z
UID:16348-1730275200-1730289600@www.una.edu.ni
SUMMARY:Día de campo de prácticas agropecuarias para el manejo animal y de cultivos
DESCRIPTION:
URL:https://www.una.edu.ni/event/dia-de-campo-de-practicas-agropecuarias-para-el-manejo-animal-y-de-cultivos/
LOCATION:Centro experimental Bernardino Diaz Ochoa-Comunidad las Lomas\, Muy Muy\, Nicaragua
CATEGORIES:OTROS
END:VEVENT
BEGIN:VEVENT
DTSTART;TZID=America/Managua:20241030T080000
DTEND;TZID=America/Managua:20241030T120000
DTSTAMP:20260422T025938
CREATED:20241028T173837Z
LAST-MODIFIED:20241028T173837Z
UID:16351-1730275200-1730289600@www.una.edu.ni
SUMMARY:Acto Cultural en Celebración del día de la autonomía de la Costa Caribe
DESCRIPTION:
URL:https://www.una.edu.ni/event/acto-cultural-en-celebracion-del-dia-de-la-autonomia-de-la-costa-caribe/
LOCATION:Bocana de Paiwas\, Bocana de Paiwas\, Nicaragua
CATEGORIES:OTROS
END:VEVENT
BEGIN:VEVENT
DTSTART;TZID=Europe/Madrid:20241030T080000
DTEND;TZID=Europe/Madrid:20241031T170000
DTSTAMP:20260422T025938
CREATED:20241028T140519Z
LAST-MODIFIED:20241029T162216Z
UID:16321-1730275200-1730394000@www.una.edu.ni
SUMMARY:Promoción de la Oferta Académica UNA- 2025 en Centros de Educación y Tecnológicos
DESCRIPTION:
URL:https://www.una.edu.ni/event/promocion-de-la-oferta-academica-una-2025-en-centros-de-educacion-y-tecnologicos/
LOCATION:Managua\, Chinandega\, Carazo\, Masaya\, Nicaragua
CATEGORIES:OTROS
END:VEVENT
BEGIN:VEVENT
DTSTART;TZID=America/Managua:20241030T090000
DTEND;TZID=America/Managua:20241030T120000
DTSTAMP:20260422T025938
CREATED:20241028T145801Z
LAST-MODIFIED:20241028T145801Z
UID:16344-1730278800-1730289600@www.una.edu.ni
SUMMARY:Ponencia sobre manejo sanitario del ganado y su impacto en la producción ganadera
DESCRIPTION:
URL:https://www.una.edu.ni/event/ponencia-sobre-manejo-sanitario-del-ganado-y-su-impacto-en-la-produccion-ganadera/
LOCATION:Universidad Nacional Agraria\, Managua\, km 12 1/2\, Managua\, Nicaragua
CATEGORIES:PONENCIA
END:VEVENT
BEGIN:VEVENT
DTSTART;TZID=America/Managua:20241030T090000
DTEND;TZID=America/Managua:20241030T120000
DTSTAMP:20260422T025938
CREATED:20241028T173400Z
LAST-MODIFIED:20241028T173400Z
UID:16346-1730278800-1730289600@www.una.edu.ni
SUMMARY:Conversatorio sobre uso de abonos orgánicos sólidos y líquidos
DESCRIPTION:
URL:https://www.una.edu.ni/event/conversatorio-sobre-uso-de-abonos-organicos-solidos-y-liquidos/
LOCATION:Universidad Nacional Agraria\, Managua\, km 12 1/2\, Managua\, Nicaragua
CATEGORIES:CONVERSATORIO
END:VEVENT
BEGIN:VEVENT
DTSTART;TZID=America/Managua:20241030T090000
DTEND;TZID=America/Managua:20241030T120000
DTSTAMP:20260422T025938
CREATED:20241028T174000Z
LAST-MODIFIED:20241028T174000Z
UID:16353-1730278800-1730289600@www.una.edu.ni
SUMMARY:Jornada de reforestación en el marco de las Universidades Verdes
DESCRIPTION:
URL:https://www.una.edu.ni/event/jornada-de-reforestacion-en-el-marco-de-las-universidades-verdes/
LOCATION:Finca Sinaí\, Acoyapa\, Nicaragua
CATEGORIES:JORNADA
END:VEVENT
BEGIN:VEVENT
DTSTART;TZID=America/Managua:20241030T103000
DTEND;TZID=America/Managua:20241030T120000
DTSTAMP:20260422T025938
CREATED:20241028T145347Z
LAST-MODIFIED:20241028T145347Z
UID:16342-1730284200-1730289600@www.una.edu.ni
SUMMARY:Conferencia Magistral “Manejo integrado de cuencas para la restauración de ecosistemas”
DESCRIPTION:
URL:https://www.una.edu.ni/event/conferencia-magistral-manejo-integrado-de-cuencas-para-la-restauracion-de-ecosistemas/
LOCATION:Universidad Nacional Agraria\, Managua\, km 12 1/2\, Managua\, Nicaragua
CATEGORIES:CONFERENCIA
END:VEVENT
BEGIN:VEVENT
DTSTART;TZID=America/Managua:20241030T140000
DTEND;TZID=America/Managua:20241030T170000
DTSTAMP:20260422T025938
CREATED:20241028T145022Z
LAST-MODIFIED:20241028T145022Z
UID:16340-1730296800-1730307600@www.una.edu.ni
SUMMARY:Inauguración de proyecto de ampliación en laboratorio de suelo y agua
DESCRIPTION:
URL:https://www.una.edu.ni/event/inauguracion-de-proyecto-de-ampliacion-en-laboratorio-de-suelo-y-agua/
LOCATION:Universidad Nacional Agraria\, Managua\, km 12 1/2\, Managua\, Nicaragua
CATEGORIES:INAUGURACIÓN
END:VEVENT
BEGIN:VEVENT
DTSTART;TZID=America/Managua:20241031T080000
DTEND;TZID=America/Managua:20241031T120000
DTSTAMP:20260422T025938
CREATED:20241029T163851Z
LAST-MODIFIED:20241029T163851Z
UID:16365-1730361600-1730376000@www.una.edu.ni
SUMMARY:Día de campo de prácticas agropecuarias para el manejo animal y de cultivos
DESCRIPTION:
URL:https://www.una.edu.ni/event/dia-de-campo-de-practicas-agropecuarias-para-el-manejo-animal-y-de-cultivos-2/
LOCATION:Universidad Nacional Agraria\, Managua\, km 12 1/2\, Managua\, Nicaragua
CATEGORIES:OTROS
END:VEVENT
BEGIN:VEVENT
DTSTART;TZID=America/Managua:20241031T080000
DTEND;TZID=America/Managua:20241031T120000
DTSTAMP:20260422T025938
CREATED:20241029T164106Z
LAST-MODIFIED:20241029T164106Z
UID:16369-1730361600-1730376000@www.una.edu.ni
SUMMARY:Jornada de rotulación de plantas y árboles con códigos QR\, en el marco de la Campaña de Universidades Verdes
DESCRIPTION:
URL:https://www.una.edu.ni/event/jornada-de-rotulacion-de-plantas-y-arboles-con-codigos-qr-en-el-marco-de-la-campana-de-universidades-verdes/
LOCATION:Universidad Nacional Agraria\, Managua\, km 12 1/2\, Managua\, Nicaragua
CATEGORIES:JORNADA
END:VEVENT
BEGIN:VEVENT
DTSTART;TZID=America/Managua:20241031T090000
DTEND;TZID=America/Managua:20241031T120000
DTSTAMP:20260422T025938
CREATED:20241029T162323Z
LAST-MODIFIED:20241029T162323Z
UID:16357-1730365200-1730376000@www.una.edu.ni
SUMMARY:Inicio del Curso especializado en técnicas de manejo de hato Porcina
DESCRIPTION:
URL:https://www.una.edu.ni/event/inicio-del-curso-especializado-en-tecnicas-de-manejo-de-hato-porcina/
LOCATION:Universidad Nacional Agraria\, Managua\, km 12 1/2\, Managua\, Nicaragua
CATEGORIES:CURSO
END:VEVENT
BEGIN:VEVENT
DTSTART;TZID=America/Managua:20241031T090000
DTEND;TZID=America/Managua:20241031T120000
DTSTAMP:20260422T025938
CREATED:20241029T163431Z
LAST-MODIFIED:20241029T163431Z
UID:16361-1730365200-1730376000@www.una.edu.ni
SUMMARY:Conferencia sobre elaboración de productos y subproductos a base de yuca
DESCRIPTION:
URL:https://www.una.edu.ni/event/conferencia-sobre-elaboracion-de-productos-y-subproductos-a-base-de-yuca/
LOCATION:Universidad Nacional Agraria\, Managua\, km 12 1/2\, Managua\, Nicaragua
CATEGORIES:CONFERENCIA
END:VEVENT
BEGIN:VEVENT
DTSTART;TZID=America/Managua:20241031T100000
DTEND;TZID=America/Managua:20241031T120000
DTSTAMP:20260422T025938
CREATED:20241029T163617Z
LAST-MODIFIED:20241029T163617Z
UID:16363-1730368800-1730376000@www.una.edu.ni
SUMMARY:Webinar sobre mapeo digital de suelo
DESCRIPTION:
URL:https://www.una.edu.ni/event/webinar-sobre-mapeo-digital-de-suelo/
LOCATION:Universidad Nacional Agraria\, Managua\, km 12 1/2\, Managua\, Nicaragua
CATEGORIES:WEBINAR
END:VEVENT
END:VCALENDAR