BEGIN:VCALENDAR
VERSION:2.0
PRODID:-//Universidad Nacional Agraria - ECPv6.15.20//NONSGML v1.0//EN
CALSCALE:GREGORIAN
METHOD:PUBLISH
X-WR-CALNAME:Universidad Nacional Agraria
X-ORIGINAL-URL:https://www.una.edu.ni
X-WR-CALDESC:Eventos para Universidad Nacional Agraria
REFRESH-INTERVAL;VALUE=DURATION:PT1H
X-Robots-Tag:noindex
X-PUBLISHED-TTL:PT1H
BEGIN:VTIMEZONE
TZID:America/Managua
BEGIN:STANDARD
TZOFFSETFROM:-0600
TZOFFSETTO:-0600
TZNAME:CST
DTSTART:20230101T000000
END:STANDARD
END:VTIMEZONE
BEGIN:VTIMEZONE
TZID:Europe/Madrid
BEGIN:DAYLIGHT
TZOFFSETFROM:+0100
TZOFFSETTO:+0200
TZNAME:CEST
DTSTART:20230326T010000
END:DAYLIGHT
BEGIN:STANDARD
TZOFFSETFROM:+0200
TZOFFSETTO:+0100
TZNAME:CET
DTSTART:20231029T010000
END:STANDARD
BEGIN:DAYLIGHT
TZOFFSETFROM:+0100
TZOFFSETTO:+0200
TZNAME:CEST
DTSTART:20240331T010000
END:DAYLIGHT
BEGIN:STANDARD
TZOFFSETFROM:+0200
TZOFFSETTO:+0100
TZNAME:CET
DTSTART:20241027T010000
END:STANDARD
BEGIN:DAYLIGHT
TZOFFSETFROM:+0100
TZOFFSETTO:+0200
TZNAME:CEST
DTSTART:20250330T010000
END:DAYLIGHT
BEGIN:STANDARD
TZOFFSETFROM:+0200
TZOFFSETTO:+0100
TZNAME:CET
DTSTART:20251026T010000
END:STANDARD
END:VTIMEZONE
BEGIN:VEVENT
DTSTART;TZID=America/Managua:20241121T083000
DTEND;TZID=America/Managua:20241121T120000
DTSTAMP:20260422T043231
CREATED:20241117T230447Z
LAST-MODIFIED:20241117T230447Z
UID:17158-1732177800-1732190400@www.una.edu.ni
SUMMARY:Inicio de “Campaña de Capacitación y Promoción a Productores en Alternativas de Alimentación Bovina en Época de Verano”
DESCRIPTION:
URL:https://www.una.edu.ni/event/inicio-de-campana-de-capacitacion-y-promocion-a-productores-en-alternativas-de-alimentacion-bovina-en-epoca-de-verano/
LOCATION:Centro Universitario Regional UNA Camoapa\, Camoapa
CATEGORIES:OTROS
END:VEVENT
BEGIN:VEVENT
DTSTART;TZID=America/Managua:20241121T090000
DTEND;TZID=America/Managua:20241121T120000
DTSTAMP:20260422T043231
CREATED:20241117T230625Z
LAST-MODIFIED:20241117T230625Z
UID:17160-1732179600-1732190400@www.una.edu.ni
SUMMARY:Jornada de Atención Veterinaria\, en  Celebración al Día del Médico Veterinario
DESCRIPTION:
URL:https://www.una.edu.ni/event/jornada-de-atencion-veterinaria-en-celebracion-al-dia-del-medico-veterinario/
LOCATION:Parque Central de Camoapa\, Nicaragua
CATEGORIES:JORNADA
END:VEVENT
BEGIN:VEVENT
DTSTART;TZID=Europe/Madrid:20241122T080000
DTEND;TZID=Europe/Madrid:20241122T120000
DTSTAMP:20260422T043231
CREATED:20241121T220801Z
LAST-MODIFIED:20241121T220801Z
UID:18032-1732262400-1732276800@www.una.edu.ni
SUMMARY:Día de Campo de Prácticas Agropecuarias para el Manejo Animal y de Cultivos
DESCRIPTION:
URL:https://www.una.edu.ni/event/dia-de-campo-de-practicas-agropecuarias-para-el-manejo-animal-y-de-cultivos-15/
LOCATION:Comunidad El Cacao\, Las Azucenas\, San Car-los y El Castillo\, Nicaragua
CATEGORIES:OTROS
END:VEVENT
BEGIN:VEVENT
DTSTART;TZID=America/Managua:20241122T093000
DTEND;TZID=America/Managua:20241122T170000
DTSTAMP:20260422T043231
CREATED:20241117T223636Z
LAST-MODIFIED:20241121T220608Z
UID:17133-1732267800-1732294800@www.una.edu.ni
SUMMARY:Graduación 270 de Profesionales en Ciencias Agrarias\, 2024
DESCRIPTION:
URL:https://www.una.edu.ni/event/graduacion-270-de-profesionales-en-ciencias-agrarias-2024/
LOCATION:Centro de Convenciones Olof Palme\, Nicaragua
CATEGORIES:OTROS
END:VEVENT
BEGIN:VEVENT
DTSTART;TZID=Europe/Madrid:20241122T150000
DTEND;TZID=Europe/Madrid:20241122T170000
DTSTAMP:20260422T043231
CREATED:20241121T221141Z
LAST-MODIFIED:20241121T221141Z
UID:18037-1732287600-1732294800@www.una.edu.ni
SUMMARY:Taller de Pintura\, Muralismo y Arte Urbano
DESCRIPTION:
URL:https://www.una.edu.ni/event/taller-de-pintura-muralismo-y-arte-urbano/
LOCATION:Universidad Nacional Agraria\, Managua\, km 12 1/2\, Managua\, Nicaragua
CATEGORIES:TALLER
END:VEVENT
BEGIN:VEVENT
DTSTART;TZID=Europe/Madrid:20241124T150000
DTEND;TZID=Europe/Madrid:20241124T170000
DTSTAMP:20260422T043231
CREATED:20241121T221348Z
LAST-MODIFIED:20241121T221348Z
UID:18039-1732460400-1732467600@www.una.edu.ni
SUMMARY:III Taller de Barroterapia
DESCRIPTION:
URL:https://www.una.edu.ni/event/iii-taller-de-barroterapia/
LOCATION:Universidad Nacional Agraria\, Managua\, km 12 1/2\, Managua\, Nicaragua
CATEGORIES:TALLER
END:VEVENT
BEGIN:VEVENT
DTSTART;TZID=America/Managua:20241124T170000
DTEND;TZID=America/Managua:20241124T200000
DTSTAMP:20260422T043231
CREATED:20241121T220936Z
LAST-MODIFIED:20241121T220936Z
UID:18035-1732467600-1732478400@www.una.edu.ni
SUMMARY:Festival de Canto “Noviembre Victorioso” con Becados Internos
DESCRIPTION:
URL:https://www.una.edu.ni/event/festival-de-canto-noviembre-victorioso-con-becados-internos/
LOCATION:Universidad Nacional Agraria\, Managua\, km 12 1/2\, Managua\, Nicaragua
CATEGORIES:FESTIVAL
END:VEVENT
BEGIN:VEVENT
DTSTART;TZID=Europe/Madrid:20241127T100000
DTEND;TZID=Europe/Madrid:20241127T120000
DTSTAMP:20260422T043231
CREATED:20241126T225400Z
LAST-MODIFIED:20241126T225711Z
UID:18434-1732701600-1732708800@www.una.edu.ni
SUMMARY:Simposio “Desafíos en la gestión del agua superficial y subterránea”
DESCRIPTION:
URL:https://www.una.edu.ni/event/simposio-desafios-en-la-gestion-del-agua-superficial-y-subterranea/
LOCATION:Universidad Nacional Agraria\, Managua\, km 12 1/2\, Managua\, Nicaragua
CATEGORIES:Simposio
END:VEVENT
BEGIN:VEVENT
DTSTART;TZID=America/Managua:20241128T140000
DTEND;TZID=America/Managua:20241128T170000
DTSTAMP:20260422T043231
CREATED:20241126T225643Z
LAST-MODIFIED:20241126T225643Z
UID:18437-1732802400-1732813200@www.una.edu.ni
SUMMARY:Inauguración del laboratorio de innovación y desarrollo de energías renovables\, en conmemoración del 82 Aniversario del Comandante Gaspar García Laviana
DESCRIPTION:
URL:https://www.una.edu.ni/event/inauguracion-del-laboratorio-de-innovacion-y-desarrollo-de-energias-renovables-en-conmemoracion-del-82-aniversario-del-comandante-gaspar-garcia-laviana/
LOCATION:Universidad Nacional Agraria\, Managua\, km 12 1/2\, Managua\, Nicaragua
CATEGORIES:INAUGURACIÓN
END:VEVENT
BEGIN:VEVENT
DTSTART;TZID=Europe/Madrid:20241129T090000
DTEND;TZID=Europe/Madrid:20241129T120000
DTSTAMP:20260422T043231
CREATED:20241126T225914Z
LAST-MODIFIED:20241126T230100Z
UID:18440-1732870800-1732881600@www.una.edu.ni
SUMMARY:Graduación de profesionales en ciencias agrarias del Centro Universitario Regional UNA-Juigalpa
DESCRIPTION:
URL:https://www.una.edu.ni/event/graduacion-de-profesionales-en-ciencias-agrarias-del-centro-universitario-regional-juigalpa/
LOCATION:Centro Universitario Regional UNA Juigalpa\, Juigapa
CATEGORIES:OTROS
END:VEVENT
BEGIN:VEVENT
DTSTART;TZID=Europe/Madrid:20241130T090000
DTEND;TZID=Europe/Madrid:20241130T120000
DTSTAMP:20260422T043231
CREATED:20241126T230045Z
LAST-MODIFIED:20241126T230045Z
UID:18442-1732957200-1732968000@www.una.edu.ni
SUMMARY:Graduación de profesionales en ciencias agrarias del Centro Universitario Regional UNA-Camoapa
DESCRIPTION:
URL:https://www.una.edu.ni/event/graduacion-de-profesionales-en-ciencias-agrarias-del-centro-universitario-regional-una-camoapa/
LOCATION:Centro Universitario Regional UNA Camoapa\, Camoapa
CATEGORIES:OTROS
END:VEVENT
BEGIN:VEVENT
DTSTART;TZID=America/Managua:20241203T083000
DTEND;TZID=America/Managua:20241203T120000
DTSTAMP:20260422T043231
CREATED:20241202T205118Z
LAST-MODIFIED:20241202T205118Z
UID:19019-1733214600-1733227200@www.una.edu.ni
SUMMARY:Taller “Liderazgo enfocado en la gerencia de los Agronegocios”
DESCRIPTION:
URL:https://www.una.edu.ni/event/taller-liderazgo-enfocado-en-la-gerencia-de-los-agronegocios/
LOCATION:Universidad Nacional Agraria\, Managua\, km 12 1/2\, Managua\, Nicaragua
CATEGORIES:TALLER
END:VEVENT
BEGIN:VEVENT
DTSTART;TZID=America/Managua:20241203T090000
DTEND;TZID=America/Managua:20241203T120000
DTSTAMP:20260422T043231
CREATED:20241202T204822Z
LAST-MODIFIED:20241202T204822Z
UID:19016-1733216400-1733227200@www.una.edu.ni
SUMMARY:Exposición sobre producción y calidad de la leche con estudiantes de medicina veterinaria
DESCRIPTION:
URL:https://www.una.edu.ni/event/exposicion-sobre-produccion-y-calidad-de-la-leche-con-estudiantes-de-medicina-veterinaria/
LOCATION:Universidad Nacional Agraria\, Managua\, km 12 1/2\, Managua\, Nicaragua
CATEGORIES:OTROS
END:VEVENT
BEGIN:VEVENT
DTSTART;TZID=Europe/Madrid:20241203T090000
DTEND;TZID=Europe/Madrid:20241207T120000
DTSTAMP:20260422T043231
CREATED:20241205T155645Z
LAST-MODIFIED:20241205T155754Z
UID:19136-1733216400-1733572800@www.una.edu.ni
SUMMARY:Taller “Manejo agronómico en hortalizas”
DESCRIPTION:
URL:https://www.una.edu.ni/event/taller-manejo-agronomico-en-hortalizas/
LOCATION:Parcelas de campo\, CDTA\, Hermanos Parra-les\, Juigalpa Chontales\, Nicaragua
CATEGORIES:TALLER
END:VEVENT
BEGIN:VEVENT
DTSTART;TZID=Europe/Madrid:20241204T090000
DTEND;TZID=Europe/Madrid:20241204T120000
DTSTAMP:20260422T043231
CREATED:20241202T204015Z
LAST-MODIFIED:20241202T204015Z
UID:19009-1733302800-1733313600@www.una.edu.ni
SUMMARY:Entrega de reconocimientos a la Excelencia Académica estudiantes UNICAM
DESCRIPTION:
URL:https://www.una.edu.ni/event/entrega-de-reconocimientos-a-la-excelencia-academica-estudiantes-unicam/
LOCATION:Centro Universitario Regional UNA Juigalpa\, Juigapa
CATEGORIES:OTROS
END:VEVENT
BEGIN:VEVENT
DTSTART;TZID=America/Managua:20241204T090000
DTEND;TZID=America/Managua:20241204T120000
DTSTAMP:20260422T043231
CREATED:20241202T205632Z
LAST-MODIFIED:20241202T205826Z
UID:19026-1733302800-1733313600@www.una.edu.ni
SUMMARY:Presentación de casos de las enfermedades infecciosas y parasitarias de impacto en la salud animal
DESCRIPTION:
URL:https://www.una.edu.ni/event/presentacion-de-casos-de-las-enfermedades-infecciosas-y-parasitarias-de-impacto-en-la-salud-animal/
LOCATION:Universidad Nacional Agraria\, Managua\, km 12 1/2\, Managua\, Nicaragua
CATEGORIES:PRESENTACIÓN
END:VEVENT
BEGIN:VEVENT
DTSTART;TZID=America/Managua:20241204T090000
DTEND;TZID=America/Managua:20241204T120000
DTSTAMP:20260422T043231
CREATED:20241202T210028Z
LAST-MODIFIED:20241202T210028Z
UID:19028-1733302800-1733313600@www.una.edu.ni
SUMMARY:Presentación sobre factores que provocan estrés en las aves y su impacto en la producción animal
DESCRIPTION:
URL:https://www.una.edu.ni/event/presentacion-sobre-factores-que-provocan-estres-en-las-aves-y-su-impacto-en-la-produccion-animal/
LOCATION:Universidad Nacional Agraria\, Managua\, km 12 1/2\, Managua\, Nicaragua
CATEGORIES:PRESENTACIÓN
END:VEVENT
BEGIN:VEVENT
DTSTART;TZID=America/Managua:20241204T130000
DTEND;TZID=America/Managua:20241204T170000
DTSTAMP:20260422T043231
CREATED:20241202T210242Z
LAST-MODIFIED:20241202T210242Z
UID:19030-1733317200-1733331600@www.una.edu.ni
SUMMARY:Conferencia sobre Componentes Agroecológicos en la sanidad vegetal
DESCRIPTION:
URL:https://www.una.edu.ni/event/conferencia-sobre-componentes-agroecologicos-en-la-sanidad-vegetal/
LOCATION:Universidad Nacional Agraria\, Managua\, km 12 1/2\, Managua\, Nicaragua
CATEGORIES:CONFERENCIA
END:VEVENT
BEGIN:VEVENT
DTSTART;TZID=America/Managua:20241204T130000
DTEND;TZID=America/Managua:20241204T170000
DTSTAMP:20260422T043231
CREATED:20241202T210407Z
LAST-MODIFIED:20241202T210407Z
UID:19032-1733317200-1733331600@www.una.edu.ni
SUMMARY:Taller “Técnicas especializadas para uso eficiente de las herramientas del labora-torio”
DESCRIPTION:
URL:https://www.una.edu.ni/event/taller-tecnicas-especializadas-para-uso-eficiente-de-las-herramientas-del-labora-torio/
LOCATION:Universidad Nacional Agraria\, Managua\, km 12 1/2\, Managua\, Nicaragua
CATEGORIES:TALLER
END:VEVENT
BEGIN:VEVENT
DTSTART;TZID=America/Managua:20241204T170000
DTEND;TZID=America/Managua:20241204T190000
DTSTAMP:20260422T043231
CREATED:20241202T205453Z
LAST-MODIFIED:20241202T205453Z
UID:19024-1733331600-1733338800@www.una.edu.ni
SUMMARY:Cena navideña con Protagonistas del Programa de Becas
DESCRIPTION:
URL:https://www.una.edu.ni/event/cena-navidena-con-protagonistas-del-programa-de-becas/
LOCATION:Universidad Nacional Agraria\, Managua\, km 12 1/2\, Managua\, Nicaragua
CATEGORIES:OTROS
END:VEVENT
BEGIN:VEVENT
DTSTART;TZID=America/Managua:20241204T180000
DTEND;TZID=America/Managua:20241204T210000
DTSTAMP:20260422T043231
CREATED:20241202T204526Z
LAST-MODIFIED:20241202T204526Z
UID:19014-1733335200-1733346000@www.una.edu.ni
SUMMARY:Festival Agrario Universitario avanzando hacia más victorias educativas
DESCRIPTION:
URL:https://www.una.edu.ni/event/festival-agrario-universitario-avanzando-hacia-mas-victorias-educativas/
LOCATION:Universidad Nacional Agraria\, Managua\, km 12 1/2\, Managua\, Nicaragua
CATEGORIES:FESTIVAL
END:VEVENT
BEGIN:VEVENT
DTSTART;TZID=Europe/Madrid:20241205T080000
DTEND;TZID=Europe/Madrid:20241205T120000
DTSTAMP:20260422T043231
CREATED:20241205T154436Z
LAST-MODIFIED:20241205T154436Z
UID:19128-1733385600-1733400000@www.una.edu.ni
SUMMARY:Panel sobre Itinerarios técnicos para el manejo agronómico de los cultivos de mango\, granadilla\, aguacate y plátano
DESCRIPTION:
URL:https://www.una.edu.ni/event/panel-sobre-itinerarios-tecnicos-para-el-manejo-agronomico-de-los-cultivos-de-mango-granadilla-aguacate-y-platano/
LOCATION:Universidad Nacional Agraria\, Managua\, km 12 1/2\, Managua\, Nicaragua
CATEGORIES:PANEL
END:VEVENT
BEGIN:VEVENT
DTSTART;TZID=America/Managua:20241205T080000
DTEND;TZID=America/Managua:20241206T120000
DTSTAMP:20260422T043231
CREATED:20241205T153655Z
LAST-MODIFIED:20241205T153731Z
UID:19120-1733385600-1733486400@www.una.edu.ni
SUMMARY:Tercer Curso en interpretación de imágenes y uso de sensores agrícolas para el análisis de cultivos con estudiantes de UNICAM del Cuá
DESCRIPTION:
URL:https://www.una.edu.ni/event/tercer-curso-en-interpretacion-de-imagenes-y-uso-de-sensores-agricolas-para-el-analisis-de-cultivos-con-estudiantes-de-unicam-del-cua/
LOCATION:UNICAM El Cuá\, Jinotega\, Nicaragua
CATEGORIES:CURSO
END:VEVENT
BEGIN:VEVENT
DTSTART;TZID=America/Managua:20241205T083000
DTEND;TZID=America/Managua:20241205T120000
DTSTAMP:20260422T043231
CREATED:20241205T153402Z
LAST-MODIFIED:20241205T153402Z
UID:19116-1733387400-1733400000@www.una.edu.ni
SUMMARY:Simposio "Calidad de los productos agropecuarios”
DESCRIPTION:
URL:https://www.una.edu.ni/event/simposio-calidad-de-los-productos-agropecuarios/
LOCATION:Universidad Nacional Agraria\, Managua\, km 12 1/2\, Managua\, Nicaragua
CATEGORIES:Simposio
END:VEVENT
BEGIN:VEVENT
DTSTART;TZID=America/Managua:20241205T083000
DTEND;TZID=America/Managua:20241205T120000
DTSTAMP:20260422T043231
CREATED:20241205T154039Z
LAST-MODIFIED:20241205T154039Z
UID:19126-1733387400-1733400000@www.una.edu.ni
SUMMARY:Simposio “Anatomía de los animales”
DESCRIPTION:
URL:https://www.una.edu.ni/event/simposio-anatomia-de-los-animales/
LOCATION:Universidad Nacional Agraria\, Managua\, km 12 1/2\, Managua\, Nicaragua
CATEGORIES:Simposio
END:VEVENT
BEGIN:VEVENT
DTSTART;TZID=America/Managua:20241205T090000
DTEND;TZID=America/Managua:20241205T120000
DTSTAMP:20260422T043231
CREATED:20241202T204234Z
LAST-MODIFIED:20241202T204234Z
UID:19011-1733389200-1733400000@www.una.edu.ni
SUMMARY:Entrega de Certificados a productores de la Comunidad San Miguelito\, Río San Juan
DESCRIPTION:
URL:https://www.una.edu.ni/event/entrega-de-certificados-a-productores-de-la-comunidad-san-miguelito-rio-san-juan/
LOCATION:Comunidad el Cacao #2\, San Miguelito\, Río San Juan\, Nicaragua
CATEGORIES:OTROS
END:VEVENT
BEGIN:VEVENT
DTSTART;TZID=America/Managua:20241205T090000
DTEND;TZID=America/Managua:20241205T120000
DTSTAMP:20260422T043231
CREATED:20241205T153508Z
LAST-MODIFIED:20241205T153508Z
UID:19118-1733389200-1733400000@www.una.edu.ni
SUMMARY:Encuentro de tesistas sobre proyectos agropecuarios de manejo biológico del Caracol Gigante Africano en Nicaragua
DESCRIPTION:
URL:https://www.una.edu.ni/event/encuentro-de-tesistas-sobre-proyectos-agropecuarios-de-manejo-biologico-del-caracol-gigante-africano-en-nicaragua/
LOCATION:Universidad Nacional Agraria\, Managua\, km 12 1/2\, Managua\, Nicaragua
CATEGORIES:ENCUENTRO
END:VEVENT
BEGIN:VEVENT
DTSTART;TZID=America/Managua:20241205T090000
DTEND;TZID=America/Managua:20241205T120000
DTSTAMP:20260422T043231
CREATED:20241205T155328Z
LAST-MODIFIED:20241205T155328Z
UID:19134-1733389200-1733400000@www.una.edu.ni
SUMMARY:Taller sobre “Manejo y Conservación de Orquídeas”
DESCRIPTION:
URL:https://www.una.edu.ni/event/taller-sobre-manejo-y-conservacion-de-orquideas/
LOCATION:Universidad Nacional Agraria\, Managua\, km 12 1/2\, Managua\, Nicaragua
CATEGORIES:TALLER
END:VEVENT
BEGIN:VEVENT
DTSTART;TZID=America/Managua:20241205T090000
DTEND;TZID=America/Managua:20241205T120000
DTSTAMP:20260422T043231
CREATED:20241205T155857Z
LAST-MODIFIED:20241205T155857Z
UID:19139-1733389200-1733400000@www.una.edu.ni
SUMMARY:Taller “Estrategias de comercialización para la apertura de nuevos mercados en semillas de granos básicos”
DESCRIPTION:
URL:https://www.una.edu.ni/event/taller-estrategias-de-comercializacion-para-la-apertura-de-nuevos-mercados-en-semillas-de-granos-basicos/
LOCATION:Municipio de San Miguelito\, Río San Juan\, Nicaragua
CATEGORIES:TALLER
END:VEVENT
BEGIN:VEVENT
DTSTART;TZID=America/Managua:20241205T093000
DTEND;TZID=America/Managua:20241205T120000
DTSTAMP:20260422T043231
CREATED:20241202T205323Z
LAST-MODIFIED:20241202T205323Z
UID:19021-1733391000-1733400000@www.una.edu.ni
SUMMARY:Feria de proyectos de Agro innovadores para desarrollar agronegocios con protagonista del penitenciario de Granada
DESCRIPTION:
URL:https://www.una.edu.ni/event/feria-de-proyectos-de-agro-innovadores-para-desarrollar-agronegocios-con-protagonista-del-penitenciario-de-granada/
LOCATION:Sistema Penitenciario de Granada\, Nicaragua
CATEGORIES:FERIA
END:VEVENT
END:VCALENDAR