BEGIN:VCALENDAR
VERSION:2.0
PRODID:-//Universidad Nacional Agraria - ECPv6.15.20//NONSGML v1.0//EN
CALSCALE:GREGORIAN
METHOD:PUBLISH
X-WR-CALNAME:Universidad Nacional Agraria
X-ORIGINAL-URL:https://www.una.edu.ni
X-WR-CALDESC:Eventos para Universidad Nacional Agraria
REFRESH-INTERVAL;VALUE=DURATION:PT1H
X-Robots-Tag:noindex
X-PUBLISHED-TTL:PT1H
BEGIN:VTIMEZONE
TZID:Europe/Madrid
BEGIN:DAYLIGHT
TZOFFSETFROM:+0100
TZOFFSETTO:+0200
TZNAME:CEST
DTSTART:20230326T010000
END:DAYLIGHT
BEGIN:STANDARD
TZOFFSETFROM:+0200
TZOFFSETTO:+0100
TZNAME:CET
DTSTART:20231029T010000
END:STANDARD
BEGIN:DAYLIGHT
TZOFFSETFROM:+0100
TZOFFSETTO:+0200
TZNAME:CEST
DTSTART:20240331T010000
END:DAYLIGHT
BEGIN:STANDARD
TZOFFSETFROM:+0200
TZOFFSETTO:+0100
TZNAME:CET
DTSTART:20241027T010000
END:STANDARD
BEGIN:DAYLIGHT
TZOFFSETFROM:+0100
TZOFFSETTO:+0200
TZNAME:CEST
DTSTART:20250330T010000
END:DAYLIGHT
BEGIN:STANDARD
TZOFFSETFROM:+0200
TZOFFSETTO:+0100
TZNAME:CET
DTSTART:20251026T010000
END:STANDARD
END:VTIMEZONE
BEGIN:VTIMEZONE
TZID:America/Managua
BEGIN:STANDARD
TZOFFSETFROM:-0600
TZOFFSETTO:-0600
TZNAME:CST
DTSTART:20230101T000000
END:STANDARD
END:VTIMEZONE
BEGIN:VEVENT
DTSTART;TZID=Europe/Madrid:20241203T090000
DTEND;TZID=Europe/Madrid:20241207T120000
DTSTAMP:20260422T031448
CREATED:20241205T155645Z
LAST-MODIFIED:20241205T155754Z
UID:19136-1733216400-1733572800@www.una.edu.ni
SUMMARY:Taller “Manejo agronómico en hortalizas”
DESCRIPTION:
URL:https://www.una.edu.ni/event/taller-manejo-agronomico-en-hortalizas/
LOCATION:Parcelas de campo\, CDTA\, Hermanos Parra-les\, Juigalpa Chontales\, Nicaragua
CATEGORIES:TALLER
END:VEVENT
BEGIN:VEVENT
DTSTART;TZID=Europe/Madrid:20241205T080000
DTEND;TZID=Europe/Madrid:20241205T120000
DTSTAMP:20260422T031448
CREATED:20241205T154436Z
LAST-MODIFIED:20241205T154436Z
UID:19128-1733385600-1733400000@www.una.edu.ni
SUMMARY:Panel sobre Itinerarios técnicos para el manejo agronómico de los cultivos de mango\, granadilla\, aguacate y plátano
DESCRIPTION:
URL:https://www.una.edu.ni/event/panel-sobre-itinerarios-tecnicos-para-el-manejo-agronomico-de-los-cultivos-de-mango-granadilla-aguacate-y-platano/
LOCATION:Universidad Nacional Agraria\, Managua\, km 12 1/2\, Managua\, Nicaragua
CATEGORIES:PANEL
END:VEVENT
BEGIN:VEVENT
DTSTART;TZID=America/Managua:20241205T080000
DTEND;TZID=America/Managua:20241206T120000
DTSTAMP:20260422T031448
CREATED:20241205T153655Z
LAST-MODIFIED:20241205T153731Z
UID:19120-1733385600-1733486400@www.una.edu.ni
SUMMARY:Tercer Curso en interpretación de imágenes y uso de sensores agrícolas para el análisis de cultivos con estudiantes de UNICAM del Cuá
DESCRIPTION:
URL:https://www.una.edu.ni/event/tercer-curso-en-interpretacion-de-imagenes-y-uso-de-sensores-agricolas-para-el-analisis-de-cultivos-con-estudiantes-de-unicam-del-cua/
LOCATION:UNICAM El Cuá\, Jinotega\, Nicaragua
CATEGORIES:CURSO
END:VEVENT
BEGIN:VEVENT
DTSTART;TZID=America/Managua:20241205T083000
DTEND;TZID=America/Managua:20241205T120000
DTSTAMP:20260422T031448
CREATED:20241205T153402Z
LAST-MODIFIED:20241205T153402Z
UID:19116-1733387400-1733400000@www.una.edu.ni
SUMMARY:Simposio "Calidad de los productos agropecuarios”
DESCRIPTION:
URL:https://www.una.edu.ni/event/simposio-calidad-de-los-productos-agropecuarios/
LOCATION:Universidad Nacional Agraria\, Managua\, km 12 1/2\, Managua\, Nicaragua
CATEGORIES:Simposio
END:VEVENT
BEGIN:VEVENT
DTSTART;TZID=America/Managua:20241205T083000
DTEND;TZID=America/Managua:20241205T120000
DTSTAMP:20260422T031448
CREATED:20241205T154039Z
LAST-MODIFIED:20241205T154039Z
UID:19126-1733387400-1733400000@www.una.edu.ni
SUMMARY:Simposio “Anatomía de los animales”
DESCRIPTION:
URL:https://www.una.edu.ni/event/simposio-anatomia-de-los-animales/
LOCATION:Universidad Nacional Agraria\, Managua\, km 12 1/2\, Managua\, Nicaragua
CATEGORIES:Simposio
END:VEVENT
BEGIN:VEVENT
DTSTART;TZID=America/Managua:20241205T090000
DTEND;TZID=America/Managua:20241205T120000
DTSTAMP:20260422T031448
CREATED:20241202T204234Z
LAST-MODIFIED:20241202T204234Z
UID:19011-1733389200-1733400000@www.una.edu.ni
SUMMARY:Entrega de Certificados a productores de la Comunidad San Miguelito\, Río San Juan
DESCRIPTION:
URL:https://www.una.edu.ni/event/entrega-de-certificados-a-productores-de-la-comunidad-san-miguelito-rio-san-juan/
LOCATION:Comunidad el Cacao #2\, San Miguelito\, Río San Juan\, Nicaragua
CATEGORIES:OTROS
END:VEVENT
BEGIN:VEVENT
DTSTART;TZID=America/Managua:20241205T090000
DTEND;TZID=America/Managua:20241205T120000
DTSTAMP:20260422T031448
CREATED:20241205T153508Z
LAST-MODIFIED:20241205T153508Z
UID:19118-1733389200-1733400000@www.una.edu.ni
SUMMARY:Encuentro de tesistas sobre proyectos agropecuarios de manejo biológico del Caracol Gigante Africano en Nicaragua
DESCRIPTION:
URL:https://www.una.edu.ni/event/encuentro-de-tesistas-sobre-proyectos-agropecuarios-de-manejo-biologico-del-caracol-gigante-africano-en-nicaragua/
LOCATION:Universidad Nacional Agraria\, Managua\, km 12 1/2\, Managua\, Nicaragua
CATEGORIES:ENCUENTRO
END:VEVENT
BEGIN:VEVENT
DTSTART;TZID=America/Managua:20241205T090000
DTEND;TZID=America/Managua:20241205T120000
DTSTAMP:20260422T031448
CREATED:20241205T155328Z
LAST-MODIFIED:20241205T155328Z
UID:19134-1733389200-1733400000@www.una.edu.ni
SUMMARY:Taller sobre “Manejo y Conservación de Orquídeas”
DESCRIPTION:
URL:https://www.una.edu.ni/event/taller-sobre-manejo-y-conservacion-de-orquideas/
LOCATION:Universidad Nacional Agraria\, Managua\, km 12 1/2\, Managua\, Nicaragua
CATEGORIES:TALLER
END:VEVENT
BEGIN:VEVENT
DTSTART;TZID=America/Managua:20241205T090000
DTEND;TZID=America/Managua:20241205T120000
DTSTAMP:20260422T031448
CREATED:20241205T155857Z
LAST-MODIFIED:20241205T155857Z
UID:19139-1733389200-1733400000@www.una.edu.ni
SUMMARY:Taller “Estrategias de comercialización para la apertura de nuevos mercados en semillas de granos básicos”
DESCRIPTION:
URL:https://www.una.edu.ni/event/taller-estrategias-de-comercializacion-para-la-apertura-de-nuevos-mercados-en-semillas-de-granos-basicos/
LOCATION:Municipio de San Miguelito\, Río San Juan\, Nicaragua
CATEGORIES:TALLER
END:VEVENT
BEGIN:VEVENT
DTSTART;TZID=America/Managua:20241205T093000
DTEND;TZID=America/Managua:20241205T120000
DTSTAMP:20260422T031448
CREATED:20241202T205323Z
LAST-MODIFIED:20241202T205323Z
UID:19021-1733391000-1733400000@www.una.edu.ni
SUMMARY:Feria de proyectos de Agro innovadores para desarrollar agronegocios con protagonista del penitenciario de Granada
DESCRIPTION:
URL:https://www.una.edu.ni/event/feria-de-proyectos-de-agro-innovadores-para-desarrollar-agronegocios-con-protagonista-del-penitenciario-de-granada/
LOCATION:Sistema Penitenciario de Granada\, Nicaragua
CATEGORIES:FERIA
END:VEVENT
BEGIN:VEVENT
DTSTART;TZID=Europe/Madrid:20241205T100000
DTEND;TZID=Europe/Madrid:20241205T120000
DTSTAMP:20260422T031448
CREATED:20241202T203240Z
LAST-MODIFIED:20241202T203240Z
UID:19003-1733392800-1733400000@www.una.edu.ni
SUMMARY:Promoción de Técnicos superiores en Agronomía\, protagonistas del programa Universidad en el Campo
DESCRIPTION:
URL:https://www.una.edu.ni/event/promocion-de-tecnicos-superiores-en-agronomia-protagonistas-del-programa-universidad-en-el-campo/
LOCATION:Cancha Municipal San Francisco Libre\, Nicaragua
CATEGORIES:OTROS
END:VEVENT
BEGIN:VEVENT
DTSTART;TZID=Europe/Madrid:20241205T150000
DTEND;TZID=Europe/Madrid:20241205T170000
DTSTAMP:20260422T031448
CREATED:20241205T155019Z
LAST-MODIFIED:20241205T160404Z
UID:19130-1733410800-1733418000@www.una.edu.ni
SUMMARY:Conferencia “Aplicación de métodos estadísticos para monitorear el crecimiento de los cultivos”
DESCRIPTION:
URL:https://www.una.edu.ni/event/conferencia-aplicacion-de-metodos-estadisticos-para-monitorear-el-crecimiento-de-los-cultivos/
LOCATION:Universidad Nacional Agraria\, Managua\, km 12 1/2\, Managua\, Nicaragua
CATEGORIES:CONFERENCIA
END:VEVENT
BEGIN:VEVENT
DTSTART;TZID=America/Managua:20241206T080000
DTEND;TZID=America/Managua:20241206T120000
DTSTAMP:20260422T031448
CREATED:20241205T155109Z
LAST-MODIFIED:20241205T155148Z
UID:19132-1733472000-1733486400@www.una.edu.ni
SUMMARY:Conferencia “Fundamentos de manejo de plagas y su relación con los agroecosistemas”
DESCRIPTION:
URL:https://www.una.edu.ni/event/conferencia-fundamentos-de-manejo-de-plagas-y-su-relacion-con-los-agroecosistemas/
LOCATION:Universidad Nacional Agraria\, Managua\, km 12 1/2\, Managua\, Nicaragua
CATEGORIES:CONFERENCIA
END:VEVENT
BEGIN:VEVENT
DTSTART;TZID=America/Managua:20241206T083000
DTEND;TZID=America/Managua:20241206T120000
DTSTAMP:20260422T031448
CREATED:20241205T153242Z
LAST-MODIFIED:20241205T153242Z
UID:19113-1733473800-1733486400@www.una.edu.ni
SUMMARY:Feria Académica: "Ciclo Biológico de invertebrados y su Impacto en la Salud Animal y Humana"
DESCRIPTION:
URL:https://www.una.edu.ni/event/feria-academica-ciclo-biologico-de-invertebrados-y-su-impacto-en-la-salud-animal-y-humana/
LOCATION:Universidad Nacional Agraria\, Managua\, km 12 1/2\, Managua\, Nicaragua
CATEGORIES:FERIA
END:VEVENT
BEGIN:VEVENT
DTSTART;TZID=America/Managua:20241206T133000
DTEND;TZID=America/Managua:20241206T170000
DTSTAMP:20260422T031448
CREATED:20241205T160132Z
LAST-MODIFIED:20241205T160132Z
UID:19142-1733491800-1733504400@www.una.edu.ni
SUMMARY:Festival Artístico y Cultural con presentación de bailes representativos de diferentes regiones turísticas del territorio nacional
DESCRIPTION:
URL:https://www.una.edu.ni/event/festival-artistico-y-cultural-con-presentacion-de-bailes-representativos-de-diferentes-regiones-turisticas-del-territorio-nacional/
LOCATION:Universidad Nacional Agraria\, Managua\, km 12 1/2\, Managua\, Nicaragua
CATEGORIES:FESTIVAL
END:VEVENT
BEGIN:VEVENT
DTSTART;TZID=America/Managua:20241206T150000
DTEND;TZID=America/Managua:20241206T170000
DTSTAMP:20260422T031448
CREATED:20241202T203447Z
LAST-MODIFIED:20241202T203447Z
UID:19006-1733497200-1733504400@www.una.edu.ni
SUMMARY:Entrega de Certificados en Manejo y Conservación de las especies forrajeras y granos a estudiantes de UNICAM Achuapa
DESCRIPTION:
URL:https://www.una.edu.ni/event/entrega-de-certificados-en-manejo-y-conservacion-de-las-especies-forrajeras-y-granos-a-estudiantes-de-unicam-achuapa/
LOCATION:UNICAM Achuapa\, León\, Nicaragua
CATEGORIES:OTROS
END:VEVENT
BEGIN:VEVENT
DTSTART;TZID=Europe/Madrid:20241210T090000
DTEND;TZID=Europe/Madrid:20241210T140000
DTSTAMP:20260422T031448
CREATED:20241210T143825Z
LAST-MODIFIED:20241210T143825Z
UID:19163-1733821200-1733839200@www.una.edu.ni
SUMMARY:Feria Agroemprende\, edición decembrina
DESCRIPTION:
URL:https://www.una.edu.ni/event/feria-agroemprende-edicion-decembrina/
LOCATION:Universidad Nacional Agraria\, Managua\, km 12 1/2\, Managua\, Nicaragua
CATEGORIES:FERIA
END:VEVENT
BEGIN:VEVENT
DTSTART;TZID=America/Managua:20241210T100000
DTEND;TZID=America/Managua:20241210T120000
DTSTAMP:20260422T031448
CREATED:20241210T144143Z
LAST-MODIFIED:20241210T144331Z
UID:19167-1733824800-1733832000@www.una.edu.ni
SUMMARY:Acto de entrega de reconocimiento “Experiencia Agraria”\, a estudiantes destacados de las carreras de Agronegocios\, Desarrollo Rural y Turismo Rural y Comunitario
DESCRIPTION:
URL:https://www.una.edu.ni/event/acto-de-entrega-de-reconocimiento-experiencia-agraria-a-estudiantes-destacados-de-las-carreras-de-agronegocios-desarrollo-rural-y-turismo-rural-y-comunitario/
LOCATION:Universidad Nacional Agraria\, Managua\, km 12 1/2\, Managua\, Nicaragua
CATEGORIES:OTROS
END:VEVENT
BEGIN:VEVENT
DTSTART;TZID=America/Managua:20241210T100000
DTEND;TZID=America/Managua:20241210T120000
DTSTAMP:20260422T031448
CREATED:20241210T144454Z
LAST-MODIFIED:20241210T144454Z
UID:19169-1733824800-1733832000@www.una.edu.ni
SUMMARY:Taller “Calibración y mantenimiento de equipos de campo”
DESCRIPTION:
URL:https://www.una.edu.ni/event/taller-calibracion-y-mantenimiento-de-equipos-de-campo/
LOCATION:Universidad Nacional Agraria\, Managua\, km 12 1/2\, Managua\, Nicaragua
CATEGORIES:TALLER
END:VEVENT
BEGIN:VEVENT
DTSTART;TZID=America/Managua:20241211T083000
DTEND;TZID=America/Managua:20241211T120000
DTSTAMP:20260422T031448
CREATED:20241210T144816Z
LAST-MODIFIED:20241210T144816Z
UID:19171-1733905800-1733918400@www.una.edu.ni
SUMMARY:Feria de productos a base de plantas medicinales y aromáticas
DESCRIPTION:
URL:https://www.una.edu.ni/event/feria-de-productos-a-base-de-plantas-medicinales-y-aromaticas/
LOCATION:Municipio de Diriamba\, Nicaragua
CATEGORIES:FERIA
END:VEVENT
BEGIN:VEVENT
DTSTART;TZID=America/Managua:20241211T090000
DTEND;TZID=America/Managua:20241211T120000
DTSTAMP:20260422T031448
CREATED:20241210T144957Z
LAST-MODIFIED:20241210T144957Z
UID:19174-1733907600-1733918400@www.una.edu.ni
SUMMARY:Presentación de informe de gestión administrativa\, académica y financiera “Retos y avances en el desarrollo Rural”
DESCRIPTION:
URL:https://www.una.edu.ni/event/presentacion-de-informe-de-gestion-administrativa-academica-y-financiera-retos-y-avances-en-el-desarrollo-rural/
LOCATION:Universidad Nacional Agraria\, Managua\, km 12 1/2\, Managua\, Nicaragua
CATEGORIES:PRESENTACIÓN
END:VEVENT
BEGIN:VEVENT
DTSTART;TZID=America/Managua:20241211T100000
DTEND;TZID=America/Managua:20241211T120000
DTSTAMP:20260422T031448
CREATED:20241210T142200Z
LAST-MODIFIED:20241210T142200Z
UID:19150-1733911200-1733918400@www.una.edu.ni
SUMMARY:Premiación del concurso de Universidades Verdes
DESCRIPTION:
URL:https://www.una.edu.ni/event/premiacion-del-concurso-de-universidades-verdes/
LOCATION:Universidad Nacional Agraria\, Managua\, km 12 1/2\, Managua\, Nicaragua
CATEGORIES:OTROS
END:VEVENT
BEGIN:VEVENT
DTSTART;TZID=America/Managua:20241211T100000
DTEND;TZID=America/Managua:20241211T120000
DTSTAMP:20260422T031448
CREATED:20241210T144023Z
LAST-MODIFIED:20241210T144023Z
UID:19165-1733911200-1733918400@www.una.edu.ni
SUMMARY:Acto de reconocimiento a la Creatividad\, Innovación y Emprendimiento Agrario
DESCRIPTION:
URL:https://www.una.edu.ni/event/acto-de-reconocimiento-a-la-creatividad-innovacion-y-emprendimiento-agrario/
LOCATION:Universidad Nacional Agraria\, Managua\, km 12 1/2\, Managua\, Nicaragua
CATEGORIES:OTROS
END:VEVENT
BEGIN:VEVENT
DTSTART;TZID=America/Managua:20241211T180000
DTEND;TZID=America/Managua:20241211T210000
DTSTAMP:20260422T031448
CREATED:20241210T145132Z
LAST-MODIFIED:20241210T145132Z
UID:19176-1733940000-1733950800@www.una.edu.ni
SUMMARY:Gala Artística “Diciembre en Paz y Unidad”
DESCRIPTION:
URL:https://www.una.edu.ni/event/gala-artistica-diciembre-en-paz-y-unidad/
LOCATION:Centro Cultural Tino López Guerra\, Nicaragua
CATEGORIES:OTROS
END:VEVENT
BEGIN:VEVENT
DTSTART;TZID=America/Managua:20241212T080000
DTEND;TZID=America/Managua:20241212T120000
DTSTAMP:20260422T031448
CREATED:20241212T142304Z
LAST-MODIFIED:20241212T142304Z
UID:19273-1733990400-1734004800@www.una.edu.ni
SUMMARY:Día de campo de prácticas agropecuarias para el manejo animal y de cultivos
DESCRIPTION:
URL:https://www.una.edu.ni/event/dia-de-campo-de-practicas-agropecuarias-para-el-manejo-animal-y-de-cultivos-16/
LOCATION:El Plantel\, UNICAM El Ayote\, Escuela de Producción avícola CUR UNA Juigalpa\, Nicaragua
CATEGORIES:OTROS
END:VEVENT
BEGIN:VEVENT
DTSTART;TZID=America/Managua:20241212T090000
DTEND;TZID=America/Managua:20241212T120000
DTSTAMP:20260422T031448
CREATED:20241210T142851Z
LAST-MODIFIED:20241210T142851Z
UID:19160-1733994000-1734004800@www.una.edu.ni
SUMMARY:Entrega de Certificados a Productores protagonistas de los cursos de Inseminación Artificial Bovina y Piscicultura
DESCRIPTION:
URL:https://www.una.edu.ni/event/entrega-de-certificados-a-productores-protagonistas-de-los-cursos-de-inseminacion-artificial-bovina-y-piscicultura/
LOCATION:Alcaldía de Wiwilí\, Nicaragua
CATEGORIES:OTROS
END:VEVENT
BEGIN:VEVENT
DTSTART;TZID=America/Managua:20241212T090000
DTEND;TZID=America/Managua:20241212T120000
DTSTAMP:20260422T031448
CREATED:20241212T141823Z
LAST-MODIFIED:20241212T141823Z
UID:19265-1733994000-1734004800@www.una.edu.ni
SUMMARY:Taller de valor agregado y transformación de productos a base de moringa\, promoviendo el consumo de productos nutricionales
DESCRIPTION:
URL:https://www.una.edu.ni/event/taller-de-valor-agregado-y-transformacion-de-productos-a-base-de-moringa-promoviendo-el-consumo-de-productos-nutricionales/
LOCATION:Centro de Desarrollo Moringa Comandante Fidel\, municipio de León\, Nicaragua
CATEGORIES:TALLER
END:VEVENT
BEGIN:VEVENT
DTSTART;TZID=America/Managua:20241212T100000
DTEND;TZID=America/Managua:20241212T120000
DTSTAMP:20260422T031448
CREATED:20241210T142454Z
LAST-MODIFIED:20241210T142454Z
UID:19154-1733997600-1734004800@www.una.edu.ni
SUMMARY:Entrega de Certificados a técnicos y docentes del curso de Técnicas Básicas de Biología Molecular
DESCRIPTION:
URL:https://www.una.edu.ni/event/entrega-de-certificados-a-tecnicos-y-docentes-del-curso-de-tecnicas-basicas-de-biologia-molecular/
LOCATION:Universidad Nacional Agraria\, Managua\, km 12 1/2\, Managua\, Nicaragua
CATEGORIES:OTROS
END:VEVENT
BEGIN:VEVENT
DTSTART;TZID=America/Managua:20241212T100000
DTEND;TZID=America/Managua:20241212T120000
DTSTAMP:20260422T031448
CREATED:20241212T142516Z
LAST-MODIFIED:20241212T142516Z
UID:19276-1733997600-1734004800@www.una.edu.ni
SUMMARY:Sesión Ordinaria N°203-2024 de la Comisión Mixta de Higiene y Seguridad del Trabajo
DESCRIPTION:
URL:https://www.una.edu.ni/event/sesion-ordinaria-n203-2024-de-la-comision-mixta-de-higiene-y-seguridad-del-trabajo/
LOCATION:Universidad Nacional Agraria\, Managua\, km 12 1/2\, Managua\, Nicaragua
CATEGORIES:OTROS
END:VEVENT
BEGIN:VEVENT
DTSTART;TZID=America/Managua:20241212T130000
DTEND;TZID=America/Managua:20241212T170000
DTSTAMP:20260422T031448
CREATED:20241212T142106Z
LAST-MODIFIED:20241212T142106Z
UID:19271-1734008400-1734022800@www.una.edu.ni
SUMMARY:Taller de Manejo y técnica de elaboración de Bonsái
DESCRIPTION:
URL:https://www.una.edu.ni/event/taller-de-manejo-y-tecnica-de-elaboracion-de-bonsai/
LOCATION:Universidad Nacional Agraria\, Managua\, km 12 1/2\, Managua\, Nicaragua
CATEGORIES:TALLER
END:VEVENT
END:VCALENDAR