BEGIN:VCALENDAR
VERSION:2.0
PRODID:-//Universidad Nacional Agraria - ECPv6.15.20//NONSGML v1.0//EN
CALSCALE:GREGORIAN
METHOD:PUBLISH
X-WR-CALNAME:Universidad Nacional Agraria
X-ORIGINAL-URL:https://www.una.edu.ni
X-WR-CALDESC:Eventos para Universidad Nacional Agraria
REFRESH-INTERVAL;VALUE=DURATION:PT1H
X-Robots-Tag:noindex
X-PUBLISHED-TTL:PT1H
BEGIN:VTIMEZONE
TZID:America/Managua
BEGIN:STANDARD
TZOFFSETFROM:-0600
TZOFFSETTO:-0600
TZNAME:CST
DTSTART:20230101T000000
END:STANDARD
END:VTIMEZONE
BEGIN:VTIMEZONE
TZID:Europe/Madrid
BEGIN:DAYLIGHT
TZOFFSETFROM:+0100
TZOFFSETTO:+0200
TZNAME:CEST
DTSTART:20230326T010000
END:DAYLIGHT
BEGIN:STANDARD
TZOFFSETFROM:+0200
TZOFFSETTO:+0100
TZNAME:CET
DTSTART:20231029T010000
END:STANDARD
BEGIN:DAYLIGHT
TZOFFSETFROM:+0100
TZOFFSETTO:+0200
TZNAME:CEST
DTSTART:20240331T010000
END:DAYLIGHT
BEGIN:STANDARD
TZOFFSETFROM:+0200
TZOFFSETTO:+0100
TZNAME:CET
DTSTART:20241027T010000
END:STANDARD
BEGIN:DAYLIGHT
TZOFFSETFROM:+0100
TZOFFSETTO:+0200
TZNAME:CEST
DTSTART:20250330T010000
END:DAYLIGHT
BEGIN:STANDARD
TZOFFSETFROM:+0200
TZOFFSETTO:+0100
TZNAME:CET
DTSTART:20251026T010000
END:STANDARD
BEGIN:DAYLIGHT
TZOFFSETFROM:+0100
TZOFFSETTO:+0200
TZNAME:CEST
DTSTART:20260329T010000
END:DAYLIGHT
BEGIN:STANDARD
TZOFFSETFROM:+0200
TZOFFSETTO:+0100
TZNAME:CET
DTSTART:20261025T010000
END:STANDARD
END:VTIMEZONE
BEGIN:VEVENT
DTSTART;TZID=America/Managua:20241216T090000
DTEND;TZID=America/Managua:20241216T120000
DTSTAMP:20260422T025842
CREATED:20241216T191556Z
LAST-MODIFIED:20241216T191556Z
UID:19296-1734339600-1734350400@www.una.edu.ni
SUMMARY:Webinar “Adopción de tecnologías claves para el desarrollo rural”
DESCRIPTION:
URL:https://www.una.edu.ni/event/webinar-adopcion-de-tecnologias-claves-para-el-desarrollo-rural/
LOCATION:Café de las sonrisas\, municipio de Granada\, Nicaragua
CATEGORIES:WEBINAR
END:VEVENT
BEGIN:VEVENT
DTSTART;TZID=Europe/Madrid:20241216T140000
DTEND;TZID=Europe/Madrid:20241216T170000
DTSTAMP:20260422T025842
CREATED:20241216T191107Z
LAST-MODIFIED:20241216T191107Z
UID:19290-1734357600-1734368400@www.una.edu.ni
SUMMARY:Seguimiento a 200 investigaciones que desarrollan estudiantes y docentes de las diferentes carreras y estudios de posgrados
DESCRIPTION:
URL:https://www.una.edu.ni/event/seguimiento-a-200-investigaciones-que-desarrollan-estudiantes-y-docentes-de-las-diferentes-carreras-y-estudios-de-posgrados/
LOCATION:Universidad Nacional Agraria\, Managua\, km 12 1/2\, Managua\, Nicaragua
CATEGORIES:OTROS
END:VEVENT
BEGIN:VEVENT
DTSTART;TZID=Europe/Madrid:20241216T180000
DTEND;TZID=Europe/Madrid:20241220T200000
DTSTAMP:20260422T025842
CREATED:20241216T191948Z
LAST-MODIFIED:20241216T191948Z
UID:19305-1734372000-1734724800@www.una.edu.ni
SUMMARY:Exhibición de las disciplinas de taekwondo masculino y femenino
DESCRIPTION:
URL:https://www.una.edu.ni/event/exhibicion-de-las-disciplinas-de-taekwondo-masculino-y-femenino/
LOCATION:Universidad Nacional Agraria\, Managua\, km 12 1/2\, Managua\, Nicaragua
CATEGORIES:OTROS
END:VEVENT
BEGIN:VEVENT
DTSTART;TZID=America/Managua:20241217T090000
DTEND;TZID=America/Managua:20241217T120000
DTSTAMP:20260422T025842
CREATED:20241216T191701Z
LAST-MODIFIED:20241216T191701Z
UID:19299-1734426000-1734436800@www.una.edu.ni
SUMMARY:Ponencia “La propiedad intelectual\, una herramienta en la gestión de la innovación y el emprendimiento”
DESCRIPTION:
URL:https://www.una.edu.ni/event/ponencia-la-propiedad-intelectual-una-herramienta-en-la-gestion-de-la-innovacion-y-el-emprendimiento/
LOCATION:Universidad Nacional Agraria\, Managua\, km 12 1/2\, Managua\, Nicaragua
CATEGORIES:PONENCIA
END:VEVENT
BEGIN:VEVENT
DTSTART;TZID=America/Managua:20241217T090000
DTEND;TZID=America/Managua:20241217T120000
DTSTAMP:20260422T025842
CREATED:20241216T191802Z
LAST-MODIFIED:20241216T191802Z
UID:19303-1734426000-1734436800@www.una.edu.ni
SUMMARY:Webinar “Experimentación en empaques creativos y ecológicos”
DESCRIPTION:
URL:https://www.una.edu.ni/event/webinar-experimentacion-en-empaques-creativos-y-ecologicos/
LOCATION:Universidad Nacional Agraria\, Managua\, km 12 1/2\, Managua\, Nicaragua
CATEGORIES:WEBINAR
END:VEVENT
BEGIN:VEVENT
DTSTART;TZID=America/Managua:20241217T090000
DTEND;TZID=America/Managua:20241217T120000
DTSTAMP:20260422T025842
CREATED:20241216T192253Z
LAST-MODIFIED:20241216T192253Z
UID:19309-1734426000-1734436800@www.una.edu.ni
SUMMARY:Taller práctico “Aprovechamiento de granos y plantas con inclusión de hojas de marango”
DESCRIPTION:
URL:https://www.una.edu.ni/event/taller-practico-aprovechamiento-de-granos-y-plantas-con-inclusion-de-hojas-de-marango/
LOCATION:Centro de Desarrollo Moringa Comandante Fidel\, municipio de León\, Nicaragua
CATEGORIES:TALLER
END:VEVENT
BEGIN:VEVENT
DTSTART;TZID=America/Managua:20241217T100000
DTEND;TZID=America/Managua:20241217T120000
DTSTAMP:20260422T025842
CREATED:20241216T190941Z
LAST-MODIFIED:20241216T190941Z
UID:19288-1734429600-1734436800@www.una.edu.ni
SUMMARY:Feria Agropecuaria\, exponiendo resultados en agregación de valor de los cultivos y animales
DESCRIPTION:
URL:https://www.una.edu.ni/event/feria-agropecuaria-exponiendo-resultados-en-agregacion-de-valor-de-los-cultivos-y-animales/
LOCATION:Universidad Nacional Agraria\, Managua\, km 12 1/2\, Managua\, Nicaragua
CATEGORIES:FERIA
END:VEVENT
BEGIN:VEVENT
DTSTART;TZID=America/Managua:20241218T090000
DTEND;TZID=America/Managua:20241218T120000
DTSTAMP:20260422T025842
CREATED:20241216T192427Z
LAST-MODIFIED:20241216T192427Z
UID:19311-1734512400-1734523200@www.una.edu.ni
SUMMARY:Taller práctico “Técnicas y usos de instrumentos para el levantamiento de parcelas de variedad de maíz
DESCRIPTION:
URL:https://www.una.edu.ni/event/taller-practico-tecnicas-y-usos-de-instrumentos-para-el-levantamiento-de-parcelas-de-variedad-de-maiz/
LOCATION:Municipio de Acoyapa\, Nicaragua
CATEGORIES:TALLER
END:VEVENT
BEGIN:VEVENT
DTSTART;TZID=Europe/Madrid:20241218T093000
DTEND;TZID=Europe/Madrid:20241219T120000
DTSTAMP:20260422T025842
CREATED:20241218T143455Z
LAST-MODIFIED:20241218T143455Z
UID:19419-1734514200-1734609600@www.una.edu.ni
SUMMARY:Taller práctico “Sembrando progreso fortaleciendo la producción agropecuaria de los pueblos”
DESCRIPTION:
URL:https://www.una.edu.ni/event/taller-practico-sembrando-progreso-fortaleciendo-la-produccion-agropecuaria-de-los-pueblos/
LOCATION:Comunidad Pueblos originarios Santa Elisa – Bluefields\, Nicaragua
CATEGORIES:TALLER
END:VEVENT
BEGIN:VEVENT
DTSTART;TZID=Europe/Madrid:20241218T100000
DTEND;TZID=Europe/Madrid:20241218T110000
DTSTAMP:20260422T025842
CREATED:20241216T191439Z
LAST-MODIFIED:20241218T142055Z
UID:19294-1734516000-1734519600@www.una.edu.ni
SUMMARY:Conferencia “Líneas de investigación Agraria y su vinculación con el Plan nacional de Lucha contra la pobreza y desarrollo humano
DESCRIPTION:
URL:https://www.una.edu.ni/event/conferencia-lineas-de-investigacion-agraria-y-su-vinculacion-con-el-plan-nacional-de-lucha-contra-la-pobreza-y-desarrollo-humano/
LOCATION:Universidad Nacional Agraria\, Managua\, km 12 1/2\, Managua\, Nicaragua
CATEGORIES:CONFERENCIA
END:VEVENT
BEGIN:VEVENT
DTSTART;TZID=America/Managua:20241218T100000
DTEND;TZID=America/Managua:20241218T110000
DTSTAMP:20260422T025842
CREATED:20241218T141832Z
LAST-MODIFIED:20241218T142100Z
UID:19402-1734516000-1734519600@www.una.edu.ni
SUMMARY:Conferencia “Líneas de Investigación Agraria y su vinculación con el PNLCDH (2022-2026)”
DESCRIPTION:
URL:https://www.una.edu.ni/event/conferencia-lineas-de-investigacion-agraria-y-su-vinculacion-con-el-pnlcdh-2022-2026/
LOCATION:Universidad Nacional Agraria\, Managua\, km 12 1/2\, Managua\, Nicaragua
CATEGORIES:CONFERENCIA
END:VEVENT
BEGIN:VEVENT
DTSTART;TZID=America/Managua:20241218T100000
DTEND;TZID=America/Managua:20241218T120000
DTSTAMP:20260422T025842
CREATED:20241216T191210Z
LAST-MODIFIED:20241216T191210Z
UID:19292-1734516000-1734523200@www.una.edu.ni
SUMMARY:Capacitación a productores sobre “Elaboración de concentrado para tilapias”
DESCRIPTION:
URL:https://www.una.edu.ni/event/capacitacion-a-productores-sobre-elaboracion-de-concentrado-para-tilapias/
LOCATION:Universidad Nacional Agraria\, Managua\, km 12 1/2\, Managua\, Nicaragua
CATEGORIES:CAPACITACION
END:VEVENT
BEGIN:VEVENT
DTSTART;TZID=Europe/Madrid:20241218T100000
DTEND;TZID=Europe/Madrid:20241218T120000
DTSTAMP:20260422T025842
CREATED:20241216T193605Z
LAST-MODIFIED:20241216T193605Z
UID:19314-1734516000-1734523200@www.una.edu.ni
SUMMARY:Inicio de I Edición de curso en Inseminación artificial porcina para la mejora genética
DESCRIPTION:
URL:https://www.una.edu.ni/event/inicio-de-i-edicion-de-curso-en-inseminacion-artificial-porcina-para-la-mejora-genetica/
LOCATION:Universidad Nacional Agraria\, Managua\, km 12 1/2\, Managua\, Nicaragua
CATEGORIES:CURSO
END:VEVENT
BEGIN:VEVENT
DTSTART;TZID=America/Managua:20241218T140000
DTEND;TZID=America/Managua:20241218T170000
DTSTAMP:20260422T025842
CREATED:20241216T192109Z
LAST-MODIFIED:20241216T192109Z
UID:19307-1734530400-1734541200@www.una.edu.ni
SUMMARY:Sesión de trabajo para la actualización de planes de estudio de las diferentes carreras agropecuarias
DESCRIPTION:
URL:https://www.una.edu.ni/event/sesion-de-trabajo-para-la-actualizacion-de-planes-de-estudio-de-las-diferentes-carreras-agropecuarias/
LOCATION:Universidad Nacional Agraria\, Managua\, km 12 1/2\, Managua\, Nicaragua
CATEGORIES:OTROS
END:VEVENT
BEGIN:VEVENT
DTSTART;TZID=America/Managua:20241219T080000
DTEND;TZID=America/Managua:20241219T120000
DTSTAMP:20260422T025842
CREATED:20241218T142929Z
LAST-MODIFIED:20241218T142929Z
UID:19412-1734595200-1734609600@www.una.edu.ni
SUMMARY:Taller práctico “Buenas prácticas de ordeño y prueba de mastitis subclínica”
DESCRIPTION:
URL:https://www.una.edu.ni/event/taller-practico-buenas-practicas-de-ordeno-y-prueba-de-mastitis-subclinica/
LOCATION:Universidad Nacional Agraria\, Managua\, km 12 1/2\, Managua\, Nicaragua
CATEGORIES:TALLER
END:VEVENT
BEGIN:VEVENT
DTSTART;TZID=America/Managua:20241219T080000
DTEND;TZID=America/Managua:20241219T120000
DTSTAMP:20260422T025842
CREATED:20241218T143228Z
LAST-MODIFIED:20241218T143228Z
UID:19416-1734595200-1734609600@www.una.edu.ni
SUMMARY:Capacitación a productores “Creando marcas en los agronegocios”
DESCRIPTION:
URL:https://www.una.edu.ni/event/capacitacion-a-productores-creando-marcas-en-los-agronegocios/
LOCATION:Comunidad El Portillo\, Nindirí\, Nicaragua
CATEGORIES:CAPACITACION
END:VEVENT
BEGIN:VEVENT
DTSTART;TZID=Europe/Madrid:20241219T090000
DTEND;TZID=Europe/Madrid:20241219T120000
DTSTAMP:20260422T025842
CREATED:20241218T143628Z
LAST-MODIFIED:20241218T143841Z
UID:19422-1734598800-1734609600@www.una.edu.ni
SUMMARY:Taller práctico “Elaboración de mermeladas a base de frutas con inclusión de marango”
DESCRIPTION:
URL:https://www.una.edu.ni/event/taller-practico-elaboracion-de-mermeladas-a-base-de-frutas-con-inclusion-de-marango/
LOCATION:Centro de Desarrollo Moringa Comandante Fidel\, municipio de León\, Nicaragua
CATEGORIES:TALLER
END:VEVENT
BEGIN:VEVENT
DTSTART;TZID=America/Managua:20241219T100000
DTEND;TZID=America/Managua:20241219T120000
DTSTAMP:20260422T025842
CREATED:20241218T141922Z
LAST-MODIFIED:20241218T141922Z
UID:19404-1734602400-1734609600@www.una.edu.ni
SUMMARY:Conferencia Internacional sobre Extensión Universitaria
DESCRIPTION:
URL:https://www.una.edu.ni/event/conferencia-internacional-sobre-extension-universitaria/
LOCATION:Universidad Nacional Agraria\, Managua\, km 12 1/2\, Managua\, Nicaragua
CATEGORIES:CONFERENCIA
END:VEVENT
BEGIN:VEVENT
DTSTART;TZID=America/Managua:20241219T100000
DTEND;TZID=America/Managua:20241219T120000
DTSTAMP:20260422T025842
CREATED:20241218T142746Z
LAST-MODIFIED:20241218T142746Z
UID:19410-1734602400-1734609600@www.una.edu.ni
SUMMARY:Inicio del Programa de capacitación a productores en cosecha de mieles
DESCRIPTION:
URL:https://www.una.edu.ni/event/inicio-del-programa-de-capacitacion-a-productores-en-cosecha-de-mieles/
LOCATION:Universidad Nacional Agraria\, Managua\, km 12 1/2\, Managua\, Nicaragua
CATEGORIES:CAPACITACION
END:VEVENT
BEGIN:VEVENT
DTSTART;TZID=Europe/Madrid:20241220T093000
DTEND;TZID=Europe/Madrid:20241220T120000
DTSTAMP:20260422T025842
CREATED:20241218T143104Z
LAST-MODIFIED:20241218T143104Z
UID:19414-1734687000-1734696000@www.una.edu.ni
SUMMARY:Simposio sobre control de plagas y malezas en cultivos de plátanos\, sandías\, cúrcuma y pipián
DESCRIPTION:
URL:https://www.una.edu.ni/event/simposio-sobre-control-de-plagas-y-malezas-en-cultivos-de-platanos-sandias-curcuma-y-pipian/
LOCATION:Universidad Nacional Agraria\, Managua\, km 12 1/2\, Managua\, Nicaragua
CATEGORIES:Simposio
END:VEVENT
BEGIN:VEVENT
DTSTART;TZID=America/Managua:20241220T100000
DTEND;TZID=America/Managua:20241220T110000
DTSTAMP:20260422T025842
CREATED:20241218T142024Z
LAST-MODIFIED:20241218T142024Z
UID:19406-1734688800-1734692400@www.una.edu.ni
SUMMARY:Ponencia: “La Mediación Pedagógica desde las Ciencias de la Complejidad”
DESCRIPTION:
URL:https://www.una.edu.ni/event/ponencia-la-mediacion-pedagogica-desde-las-ciencias-de-la-complejidad/
LOCATION:Universidad Nacional Agraria\, Managua\, km 12 1/2\, Managua\, Nicaragua
CATEGORIES:PONENCIA
END:VEVENT
BEGIN:VEVENT
DTSTART;TZID=America/Managua:20241220T103000
DTEND;TZID=America/Managua:20241220T120000
DTSTAMP:20260422T025842
CREATED:20241218T142618Z
LAST-MODIFIED:20241218T142618Z
UID:19408-1734690600-1734696000@www.una.edu.ni
SUMMARY:Inauguración de pabellón de aulas en el Centro Regional Camoapa
DESCRIPTION:
URL:https://www.una.edu.ni/event/inauguracion-de-pabellon-de-aulas-en-el-centro-regional-camoapa/
LOCATION:Centro Universitario Regional UNA Camoapa\, Camoapa
CATEGORIES:INAUGURACIÓN
END:VEVENT
BEGIN:VEVENT
DTSTART;TZID=Europe/Madrid:20250114T080000
DTEND;TZID=Europe/Madrid:20250114T120000
DTSTAMP:20260422T025842
CREATED:20250114T144823Z
LAST-MODIFIED:20250114T144823Z
UID:19677-1736841600-1736856000@www.una.edu.ni
SUMMARY:Inicio de curso de inseminación porcina a productores del departamento de Río San Juan
DESCRIPTION:
URL:https://www.una.edu.ni/event/inicio-de-curso-de-inseminacion-porcina-a-productores-del-departamento-de-rio-san-juan/
LOCATION:Municipio de Morrito\, Río San Juan\, Nicaragua
CATEGORIES:CURSO
END:VEVENT
BEGIN:VEVENT
DTSTART;TZID=Europe/Madrid:20250114T090000
DTEND;TZID=Europe/Madrid:20250114T120000
DTSTAMP:20260422T025842
CREATED:20250114T145206Z
LAST-MODIFIED:20250114T145206Z
UID:19681-1736845200-1736856000@www.una.edu.ni
SUMMARY:Charla Ideales y valores revolucionarios en conmemoración al poeta guerrillero Leonel Rugama
DESCRIPTION:
URL:https://www.una.edu.ni/event/charla-ideales-y-valores-revolucionarios-en-conmemoracion-al-poeta-guerrillero-leonel-rugama/
LOCATION:Universidad Nacional Agraria\, Managua\, km 12 1/2\, Managua\, Nicaragua
CATEGORIES:CHARLA
END:VEVENT
BEGIN:VEVENT
DTSTART;TZID=Europe/Madrid:20250114T093000
DTEND;TZID=Europe/Madrid:20250114T120000
DTSTAMP:20260422T025842
CREATED:20250114T145630Z
LAST-MODIFIED:20250114T145630Z
UID:19686-1736847000-1736856000@www.una.edu.ni
SUMMARY:Simposio sobre sensores agrícolas
DESCRIPTION:
URL:https://www.una.edu.ni/event/simposio-sobre-sensores-agricolas/
LOCATION:Universidad Nacional Agraria\, Managua\, km 12 1/2\, Managua\, Nicaragua
CATEGORIES:Simposio
END:VEVENT
BEGIN:VEVENT
DTSTART;TZID=Europe/Madrid:20250115T100000
DTEND;TZID=Europe/Madrid:20250115T140000
DTSTAMP:20260422T025842
CREATED:20250114T145455Z
LAST-MODIFIED:20250114T145455Z
UID:19683-1736935200-1736949600@www.una.edu.ni
SUMMARY:Taller práctico elaboración de aceite vegetal a base de almendras y aceite de coco
DESCRIPTION:
URL:https://www.una.edu.ni/event/taller-practico-elaboracion-de-aceite-vegetal-a-base-de-almendras-y-aceite-de-coco/
LOCATION:Escuela campesina de Bluefields\, Nicaragua
CATEGORIES:TALLER
END:VEVENT
BEGIN:VEVENT
DTSTART;TZID=Europe/Madrid:20250115T143000
DTEND;TZID=Europe/Madrid:20250115T160000
DTSTAMP:20260422T025842
CREATED:20250114T150019Z
LAST-MODIFIED:20250114T150019Z
UID:19688-1736951400-1736956800@www.una.edu.ni
SUMMARY:Intercambio de experiencias “La escritura científica\, evidencias de avance en el sector agropecuario”
DESCRIPTION:
URL:https://www.una.edu.ni/event/intercambio-de-experiencias-la-escritura-cientifica-evidencias-de-avance-en-el-sector-agropecuario/
LOCATION:Universidad Nacional Agraria\, Managua\, km 12 1/2\, Managua\, Nicaragua
CATEGORIES:CONFERENCIA
END:VEVENT
BEGIN:VEVENT
DTSTART;TZID=Europe/Madrid:20250116T090000
DTEND;TZID=Europe/Madrid:20250116T120000
DTSTAMP:20260422T025842
CREATED:20250114T150755Z
LAST-MODIFIED:20250114T150755Z
UID:19690-1737018000-1737028800@www.una.edu.ni
SUMMARY:Lanzamiento e inicio de proyecto de investigación “Árboles y arbustos de valor ecológico y conservación de las especies del trópico húmedo”
DESCRIPTION:
URL:https://www.una.edu.ni/event/lanzamiento-e-inicio-de-proyecto-de-investigacion-arboles-y-arbustos-de-valor-ecologico-y-conservacion-de-las-especies-del-tropico-humedo/
LOCATION:Universidad Nacional Agraria\, Managua\, km 12 1/2\, Managua\, Nicaragua
CATEGORIES:LANZAMIENTO
END:VEVENT
BEGIN:VEVENT
DTSTART;TZID=Europe/Madrid:20250116T100000
DTEND;TZID=Europe/Madrid:20250116T120000
DTSTAMP:20260422T025842
CREATED:20250114T151228Z
LAST-MODIFIED:20250114T151228Z
UID:19692-1737021600-1737028800@www.una.edu.ni
SUMMARY:Conferencia “Uso de Inteligencia artificial como herramienta de productividad en la agricultura”
DESCRIPTION:
URL:https://www.una.edu.ni/event/conferencia-uso-de-inteligencia-artificial-como-herramienta-de-productividad-en-la-agricultura/
LOCATION:Universidad Nacional Agraria\, Managua\, km 12 1/2\, Managua\, Nicaragua
CATEGORIES:CONFERENCIA
END:VEVENT
BEGIN:VEVENT
DTSTART;TZID=Europe/Madrid:20250116T100000
DTEND;TZID=Europe/Madrid:20250116T120000
DTSTAMP:20260422T025842
CREATED:20250114T151423Z
LAST-MODIFIED:20250114T151423Z
UID:19694-1737021600-1737028800@www.una.edu.ni
SUMMARY:Ponencia Técnicas de venta en agronegocios
DESCRIPTION:
URL:https://www.una.edu.ni/event/ponencia-tecnicas-de-venta-en-agronegocios/
LOCATION:Universidad Nacional Agraria\, Managua\, km 12 1/2\, Managua\, Nicaragua
CATEGORIES:PONENCIA
END:VEVENT
END:VCALENDAR