BEGIN:VCALENDAR
VERSION:2.0
PRODID:-//Universidad Nacional Agraria - ECPv6.15.20//NONSGML v1.0//EN
CALSCALE:GREGORIAN
METHOD:PUBLISH
X-WR-CALNAME:Universidad Nacional Agraria
X-ORIGINAL-URL:https://www.una.edu.ni
X-WR-CALDESC:Eventos para Universidad Nacional Agraria
REFRESH-INTERVAL;VALUE=DURATION:PT1H
X-Robots-Tag:noindex
X-PUBLISHED-TTL:PT1H
BEGIN:VTIMEZONE
TZID:America/Managua
BEGIN:STANDARD
TZOFFSETFROM:-0600
TZOFFSETTO:-0600
TZNAME:CST
DTSTART:20240101T000000
END:STANDARD
END:VTIMEZONE
BEGIN:VTIMEZONE
TZID:Europe/Madrid
BEGIN:DAYLIGHT
TZOFFSETFROM:+0100
TZOFFSETTO:+0200
TZNAME:CEST
DTSTART:20240331T010000
END:DAYLIGHT
BEGIN:STANDARD
TZOFFSETFROM:+0200
TZOFFSETTO:+0100
TZNAME:CET
DTSTART:20241027T010000
END:STANDARD
BEGIN:DAYLIGHT
TZOFFSETFROM:+0100
TZOFFSETTO:+0200
TZNAME:CEST
DTSTART:20250330T010000
END:DAYLIGHT
BEGIN:STANDARD
TZOFFSETFROM:+0200
TZOFFSETTO:+0100
TZNAME:CET
DTSTART:20251026T010000
END:STANDARD
BEGIN:DAYLIGHT
TZOFFSETFROM:+0100
TZOFFSETTO:+0200
TZNAME:CEST
DTSTART:20260329T010000
END:DAYLIGHT
BEGIN:STANDARD
TZOFFSETFROM:+0200
TZOFFSETTO:+0100
TZNAME:CET
DTSTART:20261025T010000
END:STANDARD
END:VTIMEZONE
BEGIN:VEVENT
DTSTART;TZID=America/Managua:20250225T080000
DTEND;TZID=America/Managua:20250225T120000
DTSTAMP:20260422T074237
CREATED:20250224T204138Z
LAST-MODIFIED:20250224T204138Z
UID:21348-1740470400-1740484800@www.una.edu.ni
SUMMARY:Conferencia “Estrategias nacionales de producción sostenible como medios de vida en el ámbito socioambiental nicaragüense\, Impulsados desde el gobierno de reconciliación y unidad nacional FSLN”
DESCRIPTION:
URL:https://www.una.edu.ni/event/conferencia-estrategias-nacionales-de-produccion-sostenible-como-medios-de-vida-en-el-ambito-socioambiental-nicaraguense-impulsados-desde-el-gobierno-de-reconciliacion-y-unidad-nacional-fsln/
LOCATION:Universidad Nacional Agraria\, Managua\, km 12 1/2\, Managua\, Nicaragua
CATEGORIES:CONFERENCIA
END:VEVENT
BEGIN:VEVENT
DTSTART;TZID=America/Managua:20250225T080000
DTEND;TZID=America/Managua:20250225T120000
DTSTAMP:20260422T074237
CREATED:20250224T204401Z
LAST-MODIFIED:20250224T204401Z
UID:21355-1740470400-1740484800@www.una.edu.ni
SUMMARY:Intercambio con productores sobre alternativas artesanales de incubación para gallinas de patio
DESCRIPTION:
URL:https://www.una.edu.ni/event/intercambio-con-productores-sobre-alternativas-artesanales-de-incubacion-para-gallinas-de-patio/
LOCATION:UNICAM Muelle de los Bueyes\, Nicaragua
CATEGORIES:OTROS
END:VEVENT
BEGIN:VEVENT
DTSTART;TZID=America/Managua:20250225T080000
DTEND;TZID=America/Managua:20250225T120000
DTSTAMP:20260422T074237
CREATED:20250224T205050Z
LAST-MODIFIED:20250224T205050Z
UID:21364-1740470400-1740484800@www.una.edu.ni
SUMMARY:Demostración práctica sobre reacciones bioquímicas en el metabolismo de rumiantes
DESCRIPTION:
URL:https://www.una.edu.ni/event/demostracion-practica-sobre-reacciones-bioquimicas-en-el-metabolismo-de-rumiantes/
LOCATION:Centro Universitario Regional UNA Juigalpa\, Juigapa
CATEGORIES:OTROS
END:VEVENT
BEGIN:VEVENT
DTSTART;TZID=America/Managua:20250225T090000
DTEND;TZID=America/Managua:20250225T120000
DTSTAMP:20260422T074237
CREATED:20250224T204243Z
LAST-MODIFIED:20250224T204243Z
UID:21351-1740474000-1740484800@www.una.edu.ni
SUMMARY:Encuentro con productores sobre Manejo adecuado de equinos de trabajo y de competencia
DESCRIPTION:
URL:https://www.una.edu.ni/event/encuentro-con-productores-sobre-manejo-adecuado-de-equinos-de-trabajo-y-de-competencia/
LOCATION:Universidad Nacional Agraria\, Managua\, km 12 1/2\, Managua\, Nicaragua
CATEGORIES:ENCUENTRO
END:VEVENT
BEGIN:VEVENT
DTSTART;TZID=America/Managua:20250225T090000
DTEND;TZID=America/Managua:20250225T120000
DTSTAMP:20260422T074237
CREATED:20250224T204919Z
LAST-MODIFIED:20250224T204919Z
UID:21362-1740474000-1740484800@www.una.edu.ni
SUMMARY:Conferencia sobre Nuevas tendencias en la cadena de producción del café y el cacao
DESCRIPTION:
URL:https://www.una.edu.ni/event/conferencia-sobre-nuevas-tendencias-en-la-cadena-de-produccion-del-cafe-y-el-cacao/
LOCATION:Universidad Nacional Agraria\, Managua\, km 12 1/2\, Managua\, Nicaragua
CATEGORIES:CONFERENCIA
END:VEVENT
BEGIN:VEVENT
DTSTART;TZID=America/Managua:20250225T100000
DTEND;TZID=America/Managua:20250225T120000
DTSTAMP:20260422T074237
CREATED:20250224T203428Z
LAST-MODIFIED:20250224T203428Z
UID:21330-1740477600-1740484800@www.una.edu.ni
SUMMARY:Inauguración del Curso “Teledetección aplicada a las Ciencias Agrarias”
DESCRIPTION:
URL:https://www.una.edu.ni/event/inauguracion-del-curso-teledeteccion-aplicada-a-las-ciencias-agrarias/
LOCATION:Universidad Nacional Agraria\, Managua\, km 12 1/2\, Managua\, Nicaragua
CATEGORIES:INAUGURACIÓN
END:VEVENT
BEGIN:VEVENT
DTSTART;TZID=America/Managua:20250225T100000
DTEND;TZID=America/Managua:20250225T120000
DTSTAMP:20260422T074237
CREATED:20250224T204708Z
LAST-MODIFIED:20250224T204708Z
UID:21358-1740477600-1740484800@www.una.edu.ni
SUMMARY:Jornada ambiental de recolección de desechos sólidos
DESCRIPTION:
URL:https://www.una.edu.ni/event/jornada-ambiental-de-recoleccion-de-desechos-solidos/
LOCATION:UNICAM El Ayote\, Juigalpa\, Nicaragua
CATEGORIES:JORNADA
END:VEVENT
BEGIN:VEVENT
DTSTART;TZID=America/Managua:20250225T140000
DTEND;TZID=America/Managua:20250225T170000
DTSTAMP:20260422T074237
CREATED:20250224T204802Z
LAST-MODIFIED:20250224T204802Z
UID:21360-1740492000-1740502800@www.una.edu.ni
SUMMARY:Taller práctico sobre Ovoscopia en la selección de huevos\, técnicas y aplicaciones prácticas
DESCRIPTION:
URL:https://www.una.edu.ni/event/taller-practico-sobre-ovoscopia-en-la-seleccion-de-huevos-tecnicas-y-aplicaciones-practicas/
LOCATION:Universidad Nacional Agraria\, Managua\, km 12 1/2\, Managua\, Nicaragua
CATEGORIES:TALLER
END:VEVENT
BEGIN:VEVENT
DTSTART;TZID=America/Managua:20250225T150000
DTEND;TZID=America/Managua:20250225T170000
DTSTAMP:20260422T074237
CREATED:20250224T205159Z
LAST-MODIFIED:20250224T205159Z
UID:21366-1740495600-1740502800@www.una.edu.ni
SUMMARY:Dia de campo sobre Caracterización morfológica de líneas porcinas con alta producción cárnica
DESCRIPTION:
URL:https://www.una.edu.ni/event/dia-de-campo-sobre-caracterizacion-morfologica-de-lineas-porcinas-con-alta-produccion-carnica/
LOCATION:Granja Porcina CDTA. Hermanos Parrales Estrada\, Nicaragua
CATEGORIES:OTROS
END:VEVENT
BEGIN:VEVENT
DTSTART;TZID=America/Managua:20250226T080000
DTEND;TZID=America/Managua:20250226T120000
DTSTAMP:20260422T074237
CREATED:20250224T204020Z
LAST-MODIFIED:20250224T204020Z
UID:21346-1740556800-1740571200@www.una.edu.ni
SUMMARY:Conferencia Situación actual de la Influenza Aviar en Nicaragua: “Acciones sanitarias para la prevención”
DESCRIPTION:
URL:https://www.una.edu.ni/event/conferencia-situacion-actual-de-la-influenza-aviar-en-nicaragua-acciones-sanitarias-para-la-prevencion/
LOCATION:Universidad Nacional Agraria\, Managua\, km 12 1/2\, Managua\, Nicaragua
CATEGORIES:CONFERENCIA
END:VEVENT
BEGIN:VEVENT
DTSTART;TZID=America/Managua:20250226T080000
DTEND;TZID=America/Managua:20250226T120000
DTSTAMP:20260422T074237
CREATED:20250226T142444Z
LAST-MODIFIED:20250226T142444Z
UID:21446-1740556800-1740571200@www.una.edu.ni
SUMMARY:Mañana recreativa y ambiental\, con estudiantes de nuevo ingreso de la Dirección de Ciencias Ambientales y Cambio Climático
DESCRIPTION:
URL:https://www.una.edu.ni/event/manana-recreativa-y-ambiental-con-estudiantes-de-nuevo-ingreso-de-la-direccion-de-ciencias-ambientales-y-cambio-climatico/
LOCATION:Universidad Nacional Agraria\, Managua\, km 12 1/2\, Managua\, Nicaragua
CATEGORIES:OTROS
END:VEVENT
BEGIN:VEVENT
DTSTART;TZID=Europe/Madrid:20250226T080000
DTEND;TZID=Europe/Madrid:20250226T170000
DTSTAMP:20260422T074237
CREATED:20250224T203234Z
LAST-MODIFIED:20250224T203234Z
UID:21324-1740556800-1740589200@www.una.edu.ni
SUMMARY:Encuentro agroindustrial en conmemoración al 47 aniversario de la gesta heroica de los Sabogales
DESCRIPTION:
URL:https://www.una.edu.ni/event/encuentro-agroindustrial-en-conmemoracion-al-47-aniversario-de-la-gesta-heroica-de-los-sabogales/
LOCATION:Universidad Internacional Antonio de Valdivieso\, Rivas\, Rivas\, Nicaragua
CATEGORIES:OTROS
END:VEVENT
BEGIN:VEVENT
DTSTART;TZID=America/Managua:20250226T083000
DTEND;TZID=America/Managua:20250226T120000
DTSTAMP:20260422T074237
CREATED:20250225T143732Z
LAST-MODIFIED:20250225T143732Z
UID:21393-1740558600-1740571200@www.una.edu.ni
SUMMARY:Conversatorio “Fármacos de uso veterinario y sus vías de aplicación“
DESCRIPTION:
URL:https://www.una.edu.ni/event/conversatorio-farmacos-de-uso-veterinario-y-sus-vias-de-aplicacion/
LOCATION:Universidad Nacional Agraria\, Managua\, km 12 1/2\, Managua\, Nicaragua
CATEGORIES:CONVERSATORIO
END:VEVENT
BEGIN:VEVENT
DTSTART;TZID=America/Managua:20250226T090000
DTEND;TZID=America/Managua:20250226T120000
DTSTAMP:20260422T074237
CREATED:20250225T144103Z
LAST-MODIFIED:20250225T144103Z
UID:21397-1740560400-1740571200@www.una.edu.ni
SUMMARY:Intercambio de experiencias con productores sobre alternativas de propagación del tomate mediante esquejes\, claves para un enraizamiento exitoso
DESCRIPTION:
URL:https://www.una.edu.ni/event/intercambio-de-experiencias-con-productores-sobre-alternativas-de-propagacion-del-tomate-mediante-esquejes-claves-para-un-enraizamiento-exitoso/
LOCATION:Universidad Nacional Agraria\, Managua\, km 12 1/2\, Managua\, Nicaragua
CATEGORIES:OTROS
END:VEVENT
BEGIN:VEVENT
DTSTART;TZID=America/Managua:20250226T100000
DTEND;TZID=America/Managua:20250226T120000
DTSTAMP:20260422T074237
CREATED:20250224T203553Z
LAST-MODIFIED:20250224T203553Z
UID:21335-1740564000-1740571200@www.una.edu.ni
SUMMARY:Lanzamiento de Escuela de producción de cacao
DESCRIPTION:
URL:https://www.una.edu.ni/event/lanzamiento-de-escuela-de-produccion-de-cacao/
LOCATION:UNICAM El Ayote\, Juigalpa\, Nicaragua
CATEGORIES:LANZAMIENTO
END:VEVENT
BEGIN:VEVENT
DTSTART;TZID=America/Managua:20250226T130000
DTEND;TZID=America/Managua:20250226T170000
DTSTAMP:20260422T074237
CREATED:20250224T203920Z
LAST-MODIFIED:20250224T203920Z
UID:21344-1740574800-1740589200@www.una.edu.ni
SUMMARY:Simposio “Tecnologías en la Innovación Agropecuaria: Transformando la Agricultura con Herramientas Digitales”
DESCRIPTION:
URL:https://www.una.edu.ni/event/simposio-tecnologias-en-la-innovacion-agropecuaria-transformando-la-agricultura-con-herramientas-digitales/
LOCATION:Universidad Nacional Agraria\, Managua\, km 12 1/2\, Managua\, Nicaragua
CATEGORIES:Simposio
END:VEVENT
BEGIN:VEVENT
DTSTART;TZID=America/Managua:20250226T130000
DTEND;TZID=America/Managua:20250226T170000
DTSTAMP:20260422T074237
CREATED:20250225T144634Z
LAST-MODIFIED:20250225T144634Z
UID:21403-1740574800-1740589200@www.una.edu.ni
SUMMARY:Expo feria de proyectos agrícolas para la mejora de la producción sostenible ante los efectos del cambio climático
DESCRIPTION:
URL:https://www.una.edu.ni/event/expo-feria-de-proyectos-agricolas-para-la-mejora-de-la-produccion-sostenible-ante-los-efectos-del-cambio-climatico/
LOCATION:Universidad Nacional Agraria\, Managua\, km 12 1/2\, Managua\, Nicaragua
CATEGORIES:OTROS
END:VEVENT
BEGIN:VEVENT
DTSTART;TZID=America/Managua:20250227T080000
DTEND;TZID=America/Managua:20250227T120000
DTSTAMP:20260422T074237
CREATED:20250225T143931Z
LAST-MODIFIED:20250225T143931Z
UID:21395-1740643200-1740657600@www.una.edu.ni
SUMMARY:Conferencia Valor farmacológico de la especie Moringa\, desafíos y desarrollo agroecológico
DESCRIPTION:
URL:https://www.una.edu.ni/event/conferencia-valor-farmacologico-de-la-especie-moringa-desafios-y-desarrollo-agroecologico/
LOCATION:Universidad Nacional Agraria\, Managua\, km 12 1/2\, Managua\, Nicaragua
CATEGORIES:CONFERENCIA
END:VEVENT
BEGIN:VEVENT
DTSTART;TZID=America/Managua:20250227T090000
DTEND;TZID=America/Managua:20250227T120000
DTSTAMP:20260422T074237
CREATED:20250224T203814Z
LAST-MODIFIED:20250224T203814Z
UID:21339-1740646800-1740657600@www.una.edu.ni
SUMMARY:Encuentro con productores sobre Manejo y producción de hortalizas de altura
DESCRIPTION:
URL:https://www.una.edu.ni/event/encuentro-con-productores-sobre-manejo-y-produccion-de-hortalizas-de-altura/
LOCATION:Centro Universitario Regional UNA Matagalpa\, Nicaragua
CATEGORIES:ENCUENTRO
END:VEVENT
BEGIN:VEVENT
DTSTART;TZID=America/Managua:20250227T090000
DTEND;TZID=America/Managua:20250227T120000
DTSTAMP:20260422T074237
CREATED:20250224T205308Z
LAST-MODIFIED:20250224T210122Z
UID:21369-1740646800-1740657600@www.una.edu.ni
SUMMARY:Ponencia “Agricultura sostenible\, Urbana y regenerativa
DESCRIPTION:
URL:https://www.una.edu.ni/event/ponencia-agricultura-sostenible-urbana-y-regenerativa/
LOCATION:UNICAM El Ayote\, Juigalpa\, Nicaragua
CATEGORIES:PONENCIA
END:VEVENT
BEGIN:VEVENT
DTSTART;TZID=Europe/Madrid:20250227T090000
DTEND;TZID=Europe/Madrid:20250227T120000
DTSTAMP:20260422T074237
CREATED:20250225T143441Z
LAST-MODIFIED:20250225T143441Z
UID:21389-1740646800-1740657600@www.una.edu.ni
SUMMARY:Foro “Innovación y Comunicación: Estrategias para la Difusión de Tecnología en el campo agropecuario”
DESCRIPTION:
URL:https://www.una.edu.ni/event/foro-innovacion-y-comunicacion-estrategias-para-la-difusion-de-tecnologia-en-el-campo-agropecuario/
LOCATION:Universidad Nacional Agraria\, Managua\, km 12 1/2\, Managua\, Nicaragua
CATEGORIES:FORO
END:VEVENT
BEGIN:VEVENT
DTSTART;TZID=America/Managua:20250227T090000
DTEND;TZID=America/Managua:20250227T120000
DTSTAMP:20260422T074237
CREATED:20250225T144428Z
LAST-MODIFIED:20250225T144445Z
UID:21400-1740646800-1740657600@www.una.edu.ni
SUMMARY:Taller práctico sobre manejo en producción\, e identificación de raza para cruce genético en ovinos caprinos
DESCRIPTION:
URL:https://www.una.edu.ni/event/taller-practico-sobre-manejo-en-produccion-e-identificacion-de-raza-para-cruce-genetico-en-ovinos-caprinos/
LOCATION:UNICAM Morrito\, Nicaragua
CATEGORIES:TALLER
END:VEVENT
BEGIN:VEVENT
DTSTART;TZID=America/Managua:20250227T130000
DTEND;TZID=America/Managua:20250227T170000
DTSTAMP:20260422T074237
CREATED:20250225T143135Z
LAST-MODIFIED:20250225T143135Z
UID:21387-1740661200-1740675600@www.una.edu.ni
SUMMARY:Conferencia Internacional “Nutrición en ganado mayor y menor”
DESCRIPTION:
URL:https://www.una.edu.ni/event/conferencia-internacional-nutricion-en-ganado-mayor-y-menor/
LOCATION:Universidad Nacional Agraria\, Managua\, km 12 1/2\, Managua\, Nicaragua
CATEGORIES:CONFERENCIA
END:VEVENT
BEGIN:VEVENT
DTSTART;TZID=America/Managua:20250228T083000
DTEND;TZID=America/Managua:20250228T120000
DTSTAMP:20260422T074237
CREATED:20250225T143610Z
LAST-MODIFIED:20250225T143610Z
UID:21391-1740731400-1740744000@www.una.edu.ni
SUMMARY:Charla sobre “Bienestar animal y su relación con la eficiencia reproductiva"
DESCRIPTION:
URL:https://www.una.edu.ni/event/charla-sobre-bienestar-animal-y-su-relacion-con-la-eficiencia-reproductiva/
LOCATION:Universidad Nacional Agraria\, Managua\, km 12 1/2\, Managua\, Nicaragua
CATEGORIES:CHARLA
END:VEVENT
BEGIN:VEVENT
DTSTART;TZID=America/Managua:20250228T083000
DTEND;TZID=America/Managua:20250228T120000
DTSTAMP:20260422T074237
CREATED:20250226T142828Z
LAST-MODIFIED:20250226T142828Z
UID:21450-1740731400-1740744000@www.una.edu.ni
SUMMARY:Demostración práctica sobre sustratos alternativos en viveros forestales
DESCRIPTION:
URL:https://www.una.edu.ni/event/demostracion-practica-sobre-sustratos-alternativos-en-viveros-forestales/
LOCATION:Centro Universitario Regional UNA Juigalpa\, Juigapa
CATEGORIES:OTROS
END:VEVENT
BEGIN:VEVENT
DTSTART;TZID=America/Managua:20250228T090000
DTEND;TZID=America/Managua:20250228T120000
DTSTAMP:20260422T074237
CREATED:20250226T142240Z
LAST-MODIFIED:20250226T142240Z
UID:21444-1740733200-1740744000@www.una.edu.ni
SUMMARY:Capacitación a productores y estudiantes sobre técnicas de fermentación de productos y subproductos a base de frutas
DESCRIPTION:
URL:https://www.una.edu.ni/event/capacitacion-a-productores-y-estudiantes-sobre-tecnicas-de-fermentacion-de-productos-y-subproductos-a-base-de-frutas/
LOCATION:Centro de Desarrollo Moringa Comandante Fidel\, municipio de León\, Nicaragua
CATEGORIES:CAPACITACION
END:VEVENT
BEGIN:VEVENT
DTSTART;TZID=America/Managua:20250228T180000
DTEND;TZID=America/Managua:20250228T210000
DTSTAMP:20260422T074237
CREATED:20250226T142631Z
LAST-MODIFIED:20250226T142631Z
UID:21448-1740765600-1740776400@www.una.edu.ni
SUMMARY:Festival de Canto con Becados Internos
DESCRIPTION:
URL:https://www.una.edu.ni/event/festival-de-canto-con-becados-internos/
LOCATION:Universidad Nacional Agraria\, Managua\, km 12 1/2\, Managua\, Nicaragua
CATEGORIES:FESTIVAL
END:VEVENT
BEGIN:VEVENT
DTSTART;TZID=America/Managua:20250301T090000
DTEND;TZID=America/Managua:20250301T120000
DTSTAMP:20260422T074237
CREATED:20250228T202708Z
LAST-MODIFIED:20250228T202708Z
UID:21737-1740819600-1740830400@www.una.edu.ni
SUMMARY:Feria de presentación de proyectos agropecuarios emprendedores por estudiantes protagonistas del programa UNICAM
DESCRIPTION:
URL:https://www.una.edu.ni/event/feria-de-presentacion-de-proyectos-agropecuarios-emprendedores-por-estudiantes-protagonistas-del-programa-unicam/
LOCATION:Parque de Ferias\, Esquipulas\, Nicaragua
CATEGORIES:FERIA
END:VEVENT
BEGIN:VEVENT
DTSTART;TZID=America/Managua:20250301T100000
DTEND;TZID=America/Managua:20250301T140000
DTSTAMP:20260422T074237
CREATED:20250228T203020Z
LAST-MODIFIED:20250228T203020Z
UID:21743-1740823200-1740837600@www.una.edu.ni
SUMMARY:Jornada deportiva en conmemoración del día Nacional del periodista nicaragüense
DESCRIPTION:
URL:https://www.una.edu.ni/event/jornada-deportiva-en-conmemoracion-del-dia-nacional-del-periodista-nicaraguense/
LOCATION:UNICAM EL Plantel\, Nicaragua
CATEGORIES:JORNADA
END:VEVENT
BEGIN:VEVENT
DTSTART;TZID=America/Managua:20250301T150000
DTEND;TZID=America/Managua:20250301T180000
DTSTAMP:20260422T074237
CREATED:20250228T204143Z
LAST-MODIFIED:20250228T204143Z
UID:21746-1740841200-1740852000@www.una.edu.ni
SUMMARY:Torneo relámpago estudiantil de fútbol sala y Voleibol “Viviendo en Paz”\, en conmemoración del 91 aniversario del tránsito a la inmortalidad del Gral.  Augusto C. Sandino
DESCRIPTION:
URL:https://www.una.edu.ni/event/torneo-relampago-estudiantil-de-futbol-sala-y-voleibol-viviendo-en-paz-en-conmemoracion-del-91-aniversario-del-transito-a-la-inmortalidad-del-gral-augusto-c-sandino/
LOCATION:Colegio Madre Guadalupe\, Nicaragua
CATEGORIES:OTROS
END:VEVENT
END:VCALENDAR