BEGIN:VCALENDAR
VERSION:2.0
PRODID:-//Universidad Nacional Agraria - ECPv6.15.20//NONSGML v1.0//EN
CALSCALE:GREGORIAN
METHOD:PUBLISH
X-WR-CALNAME:Universidad Nacional Agraria
X-ORIGINAL-URL:https://www.una.edu.ni
X-WR-CALDESC:Eventos para Universidad Nacional Agraria
REFRESH-INTERVAL;VALUE=DURATION:PT1H
X-Robots-Tag:noindex
X-PUBLISHED-TTL:PT1H
BEGIN:VTIMEZONE
TZID:America/Managua
BEGIN:STANDARD
TZOFFSETFROM:-0600
TZOFFSETTO:-0600
TZNAME:CST
DTSTART:20240101T000000
END:STANDARD
END:VTIMEZONE
BEGIN:VEVENT
DTSTART;TZID=America/Managua:20250308T080000
DTEND;TZID=America/Managua:20250308T120000
DTSTAMP:20260422T113801
CREATED:20250306T145449Z
LAST-MODIFIED:20250306T145449Z
UID:21907-1741420800-1741435200@www.una.edu.ni
SUMMARY:Curso “Cultivo y Producción de Plátano\, enfocado en la calidad”
DESCRIPTION:
URL:https://www.una.edu.ni/event/curso-cultivo-y-produccion-de-platano-enfocado-en-la-calidad/
LOCATION:Escuela de plátano\, Altagracia\, Isla de Ometepe\, Rivas\, Nicaragua
CATEGORIES:CURSO
END:VEVENT
BEGIN:VEVENT
DTSTART;TZID=America/Managua:20250308T090000
DTEND;TZID=America/Managua:20250308T120000
DTSTAMP:20260422T113801
CREATED:20250306T145228Z
LAST-MODIFIED:20250306T145228Z
UID:21902-1741424400-1741435200@www.una.edu.ni
SUMMARY:Feria “Innovación\, emprendimiento y Revolución"\, en conmemoración del Día Internacional de la Mujer
DESCRIPTION:
URL:https://www.una.edu.ni/event/feria-innovacion-emprendimiento-y-revolucion-en-conmemoracion-del-dia-internacional-de-la-mujer/
LOCATION:UNICAM EL Plantel\, Nicaragua
CATEGORIES:FERIA
END:VEVENT
BEGIN:VEVENT
DTSTART;TZID=America/Managua:20250308T090000
DTEND;TZID=America/Managua:20250308T120000
DTSTAMP:20260422T113801
CREATED:20250306T145345Z
LAST-MODIFIED:20250306T145345Z
UID:21904-1741424400-1741435200@www.una.edu.ni
SUMMARY:Feria “Innovación\, emprendimiento y Revolución"\, en conmemoración del Día Internacional de la Mujer
DESCRIPTION:
URL:https://www.una.edu.ni/event/feria-innovacion-emprendimiento-y-revolucion-en-conmemoracion-del-dia-internacional-de-la-mujer-2/
LOCATION:Cancha Municipal del Cuá\, Nicaragua
CATEGORIES:FERIA
END:VEVENT
BEGIN:VEVENT
DTSTART;TZID=America/Managua:20250308T100000
DTEND;TZID=America/Managua:20250308T130000
DTSTAMP:20260422T113801
CREATED:20250303T165317Z
LAST-MODIFIED:20250303T165317Z
UID:21768-1741428000-1741438800@www.una.edu.ni
SUMMARY:Inauguración de Programa Porcino “Cocibolca”
DESCRIPTION:
URL:https://www.una.edu.ni/event/inauguracion-de-programa-porcino-cocibolca/
LOCATION:Municipio de Potosí\, Rivas\, Nicaragua
CATEGORIES:INAUGURACIÓN
END:VEVENT
BEGIN:VEVENT
DTSTART;TZID=America/Managua:20250310T100000
DTEND;TZID=America/Managua:20250310T130000
DTSTAMP:20260422T113801
CREATED:20250310T164748Z
LAST-MODIFIED:20250310T164748Z
UID:21934-1741600800-1741611600@www.una.edu.ni
SUMMARY:Capacitación sobre técnicas para la mejora de los índices reproductivos en cerda
DESCRIPTION:
URL:https://www.una.edu.ni/event/capacitacion-sobre-tecnicas-para-la-mejora-de-los-indices-reproductivos-en-cerda/
LOCATION:Finca La Esperanza-UNICAM El Ayote\, Nicaragua
CATEGORIES:CAPACITACION
END:VEVENT
BEGIN:VEVENT
DTSTART;TZID=America/Managua:20250310T100000
DTEND;TZID=America/Managua:20250310T130000
DTSTAMP:20260422T113801
CREATED:20250310T165024Z
LAST-MODIFIED:20250310T165024Z
UID:21937-1741600800-1741611600@www.una.edu.ni
SUMMARY:Transformación y valor agregado de productos derivados de Moringa
DESCRIPTION:
URL:https://www.una.edu.ni/event/transformacion-y-valor-agregado-de-productos-derivados-de-moringa/
LOCATION:Universidad Nacional Agraria\, Managua\, km 12 1/2\, Managua\, Nicaragua
CATEGORIES:OTROS
END:VEVENT
BEGIN:VEVENT
DTSTART;TZID=America/Managua:20250310T110000
DTEND;TZID=America/Managua:20250310T130000
DTSTAMP:20260422T113801
CREATED:20250310T164240Z
LAST-MODIFIED:20250310T164240Z
UID:21932-1741604400-1741611600@www.una.edu.ni
SUMMARY:Presentación de mapa de los procesos de transformación del cultivo de marango
DESCRIPTION:
URL:https://www.una.edu.ni/event/presentacion-de-mapa-de-los-procesos-de-transformacion-del-cultivo-de-marango/
LOCATION:Universidad Nacional Agraria\, Managua\, km 12 1/2\, Managua\, Nicaragua
CATEGORIES:PRESENTACIÓN
END:VEVENT
BEGIN:VEVENT
DTSTART;TZID=America/Managua:20250311T080000
DTEND;TZID=America/Managua:20250311T120000
DTSTAMP:20260422T113801
CREATED:20250310T172510Z
LAST-MODIFIED:20250310T172510Z
UID:21962-1741680000-1741694400@www.una.edu.ni
SUMMARY:Taller sobre Elaboración y manejo del abono orgánico
DESCRIPTION:
URL:https://www.una.edu.ni/event/taller-sobre-elaboracion-y-manejo-del-abono-organico/
LOCATION:Universidad Nacional Agraria\, Managua\, km 12 1/2\, Managua\, Nicaragua
CATEGORIES:TALLER
END:VEVENT
BEGIN:VEVENT
DTSTART;TZID=America/Managua:20250311T083000
DTEND;TZID=America/Managua:20250311T120000
DTSTAMP:20260422T113801
CREATED:20250310T171836Z
LAST-MODIFIED:20250310T171836Z
UID:21958-1741681800-1741694400@www.una.edu.ni
SUMMARY:Taller sobre Control efectivo del ciclo reproductivo del ganado bovino
DESCRIPTION:
URL:https://www.una.edu.ni/event/taller-sobre-control-efectivo-del-ciclo-reproductivo-del-ganado-bovino/
LOCATION:Universidad Nacional Agraria\, Managua\, km 12 1/2\, Managua\, Nicaragua
CATEGORIES:TALLER
END:VEVENT
BEGIN:VEVENT
DTSTART;TZID=America/Managua:20250311T083000
DTEND;TZID=America/Managua:20250311T120000
DTSTAMP:20260422T113801
CREATED:20250310T172321Z
LAST-MODIFIED:20250310T172321Z
UID:21960-1741681800-1741694400@www.una.edu.ni
SUMMARY:Taller sobre Identificación de las vías de administración y dosificación de fármacos en bovinos\, cerdos y aves
DESCRIPTION:
URL:https://www.una.edu.ni/event/taller-sobre-identificacion-de-las-vias-de-administracion-y-dosificacion-de-farmacos-en-bovinos-cerdos-y-aves/
LOCATION:Universidad Nacional Agraria\, Managua\, km 12 1/2\, Managua\, Nicaragua
CATEGORIES:TALLER
END:VEVENT
BEGIN:VEVENT
DTSTART;TZID=America/Managua:20250311T090000
DTEND;TZID=America/Managua:20250311T120000
DTSTAMP:20260422T113801
CREATED:20250310T171656Z
LAST-MODIFIED:20250310T171656Z
UID:21956-1741683600-1741694400@www.una.edu.ni
SUMMARY:Conversatorio: Diagnóstico y Manejo de enfermedades digestivas en aves
DESCRIPTION:
URL:https://www.una.edu.ni/event/conversatorio-diagnostico-y-manejo-de-enfermedades-digestivas-en-aves/
LOCATION:Universidad Nacional Agraria\, Managua\, km 12 1/2\, Managua\, Nicaragua
CATEGORIES:CONVERSATORIO
END:VEVENT
BEGIN:VEVENT
DTSTART;TZID=America/Managua:20250311T090000
DTEND;TZID=America/Managua:20250311T140000
DTSTAMP:20260422T113801
CREATED:20250310T173042Z
LAST-MODIFIED:20250310T173042Z
UID:21970-1741683600-1741701600@www.una.edu.ni
SUMMARY:Feria Gastronómica y cultural para el cierre del módulo de Identidad Nacional y Orgullo patrio
DESCRIPTION:
URL:https://www.una.edu.ni/event/feria-gastronomica-y-cultural-para-el-cierre-del-modulo-de-identidad-nacional-y-orgullo-patrio/
LOCATION:Centro Universitario Regional UNA Camoapa\, Camoapa
CATEGORIES:FERIA
END:VEVENT
BEGIN:VEVENT
DTSTART;TZID=America/Managua:20250311T100000
DTEND;TZID=America/Managua:20250311T130000
DTSTAMP:20260422T113801
CREATED:20250310T171452Z
LAST-MODIFIED:20250310T171452Z
UID:21954-1741687200-1741698000@www.una.edu.ni
SUMMARY:Conferencia sobre Manejo fitosanitario para reducir la plaga de insectos en el cultivo de frijol en Nicaragua
DESCRIPTION:
URL:https://www.una.edu.ni/event/conferencia-sobre-manejo-fitosanitario-para-reducir-la-plaga-de-insectos-en-el-cultivo-de-frijol-en-nicaragua/
LOCATION:Universidad Nacional Agraria\, Managua\, km 12 1/2\, Managua\, Nicaragua
CATEGORIES:CONFERENCIA
END:VEVENT
BEGIN:VEVENT
DTSTART;TZID=America/Managua:20250311T130000
DTEND;TZID=America/Managua:20250311T170000
DTSTAMP:20260422T113801
CREATED:20250310T171152Z
LAST-MODIFIED:20250310T171152Z
UID:21948-1741698000-1741712400@www.una.edu.ni
SUMMARY:Intercambio de experiencias sobre Alternativas Tecnológicas en la producción aviar
DESCRIPTION:
URL:https://www.una.edu.ni/event/intercambio-de-experiencias-sobre-alternativas-tecnologicas-en-la-produccion-aviar/
LOCATION:Comunidad El terrero Esquipulas\, Matagalpa\, Nicaragua
CATEGORIES:OTROS
END:VEVENT
BEGIN:VEVENT
DTSTART;TZID=America/Managua:20250311T130000
DTEND;TZID=America/Managua:20250311T170000
DTSTAMP:20260422T113801
CREATED:20250310T171305Z
LAST-MODIFIED:20250310T171305Z
UID:21951-1741698000-1741712400@www.una.edu.ni
SUMMARY:Jornada de aprendizaje con productores sobre elaboración de insecticidas para plagas que afectan maíz y frijoles
DESCRIPTION:
URL:https://www.una.edu.ni/event/jornada-de-aprendizaje-con-productores-sobre-elaboracion-de-insecticidas-para-plagas-que-afectan-maiz-y-frijoles/
LOCATION:Pintada #2\, finca El Escondido\, Juigalpa\, Nicaragua
CATEGORIES:JORNADA
END:VEVENT
BEGIN:VEVENT
DTSTART;TZID=America/Managua:20250311T160000
DTEND;TZID=America/Managua:20250311T180000
DTSTAMP:20260422T113801
CREATED:20250310T165237Z
LAST-MODIFIED:20250310T165237Z
UID:21939-1741708800-1741716000@www.una.edu.ni
SUMMARY:Relanzamiento de laboratorio de Biología y Química en sede universitaria de Juigalpa
DESCRIPTION:
URL:https://www.una.edu.ni/event/relanzamiento-de-laboratorio-de-biologia-y-quimica-en-sede-universitaria-de-juigalpa/
LOCATION:Centro Universitario Regional UNA Juigalpa\, Juigapa
CATEGORIES:OTROS
END:VEVENT
BEGIN:VEVENT
DTSTART;TZID=America/Managua:20250312T090000
DTEND;TZID=America/Managua:20250312T120000
DTSTAMP:20260422T113801
CREATED:20250310T174430Z
LAST-MODIFIED:20250310T174430Z
UID:21974-1741770000-1741780800@www.una.edu.ni
SUMMARY:Conferencia: Salud aviar y su impacto en la economía rural
DESCRIPTION:
URL:https://www.una.edu.ni/event/conferencia-salud-aviar-y-su-impacto-en-la-economia-rural/
LOCATION:Universidad Nacional Agraria\, Managua\, km 12 1/2\, Managua\, Nicaragua
CATEGORIES:CONFERENCIA
END:VEVENT
BEGIN:VEVENT
DTSTART;TZID=America/Managua:20250312T093000
DTEND;TZID=America/Managua:20250312T120000
DTSTAMP:20260422T113801
CREATED:20250310T172626Z
LAST-MODIFIED:20250310T172626Z
UID:21964-1741771800-1741780800@www.una.edu.ni
SUMMARY:Presentación de resultados de estudios para el mejoramiento genético en producción porcina
DESCRIPTION:
URL:https://www.una.edu.ni/event/presentacion-de-resultados-de-estudios-para-el-mejoramiento-genetico-en-produccion-porcina/
LOCATION:Universidad Nacional Agraria\, Managua\, km 12 1/2\, Managua\, Nicaragua
CATEGORIES:PRESENTACIÓN
END:VEVENT
BEGIN:VEVENT
DTSTART;TZID=America/Managua:20250312T100000
DTEND;TZID=America/Managua:20250312T110000
DTSTAMP:20260422T113801
CREATED:20250310T174549Z
LAST-MODIFIED:20250310T174549Z
UID:21976-1741773600-1741777200@www.una.edu.ni
SUMMARY:Foro Científico sobre manejo y control de virus en los cultivos
DESCRIPTION:
URL:https://www.una.edu.ni/event/foro-cientifico-sobre-manejo-y-control-de-virus-en-los-cultivos/
LOCATION:Universidad Nacional Agraria\, Managua\, km 12 1/2\, Managua\, Nicaragua
CATEGORIES:FORO
END:VEVENT
BEGIN:VEVENT
DTSTART;TZID=America/Managua:20250312T100000
DTEND;TZID=America/Managua:20250312T120000
DTSTAMP:20260422T113801
CREATED:20250310T170634Z
LAST-MODIFIED:20250310T170634Z
UID:21943-1741773600-1741780800@www.una.edu.ni
SUMMARY:Entrega de certificados a protagonistas de Curso elaboración de alimentos balanceados para nutrición animal
DESCRIPTION:
URL:https://www.una.edu.ni/event/entrega-de-certificados-a-protagonistas-de-curso-elaboracion-de-alimentos-balanceados-para-nutricion-animal/
LOCATION:Centro Universitario Regional UNA Juigalpa\, Juigapa
CATEGORIES:OTROS
END:VEVENT
BEGIN:VEVENT
DTSTART;TZID=America/Managua:20250312T100000
DTEND;TZID=America/Managua:20250312T120000
DTSTAMP:20260422T113801
CREATED:20250310T170738Z
LAST-MODIFIED:20250310T170738Z
UID:21945-1741773600-1741780800@www.una.edu.ni
SUMMARY:Inicio del diplomado “Cultivo\, procesamiento y comercialización de cacao en sistemas agroforestales”
DESCRIPTION:
URL:https://www.una.edu.ni/event/inicio-del-diplomado-cultivo-procesamiento-y-comercializacion-de-cacao-en-sistemas-agroforestales/
LOCATION::  Escuela de Cacao\, Finca La Esperanza\, Juigalpa\, Nicaragua
CATEGORIES:DIPLOMADO
END:VEVENT
BEGIN:VEVENT
DTSTART;TZID=America/Managua:20250312T100000
DTEND;TZID=America/Managua:20250312T120000
DTSTAMP:20260422T113801
CREATED:20250310T172900Z
LAST-MODIFIED:20250310T172900Z
UID:21968-1741773600-1741780800@www.una.edu.ni
SUMMARY:Conferencia magistral “Seguridad alimentaria en Nicaragua”
DESCRIPTION:
URL:https://www.una.edu.ni/event/conferencia-magistral-seguridad-alimentaria-en-nicaragua/
LOCATION:Universidad Nacional Agraria\, Managua\, km 12 1/2\, Managua\, Nicaragua
CATEGORIES:CONFERENCIA
END:VEVENT
BEGIN:VEVENT
DTSTART;TZID=America/Managua:20250312T100000
DTEND;TZID=America/Managua:20250312T130000
DTSTAMP:20260422T113801
CREATED:20250310T165658Z
LAST-MODIFIED:20250310T165658Z
UID:21941-1741773600-1741784400@www.una.edu.ni
SUMMARY:Entrega de equipos tecnológicos para el desarrollo de cursos en elaboración de alimentación animal
DESCRIPTION:
URL:https://www.una.edu.ni/event/entrega-de-equipos-tecnologicos-para-el-desarrollo-de-cursos-en-elaboracion-de-alimentacion-animal/
LOCATION:Centro Universitario Regional UNA Juigalpa\, Juigapa
CATEGORIES:OTROS
END:VEVENT
BEGIN:VEVENT
DTSTART;TZID=America/Managua:20250312T100000
DTEND;TZID=America/Managua:20250312T130000
DTSTAMP:20260422T113801
CREATED:20250310T173154Z
LAST-MODIFIED:20250310T173154Z
UID:21972-1741773600-1741784400@www.una.edu.ni
SUMMARY:Presentación de la cartilla “Mujer dignidad y derecho”
DESCRIPTION:
URL:https://www.una.edu.ni/event/presentacion-de-la-cartilla-mujer-dignidad-y-derecho/
LOCATION:Universidad Nacional Agraria\, Managua\, km 12 1/2\, Managua\, Nicaragua
CATEGORIES:PRESENTACIÓN
END:VEVENT
BEGIN:VEVENT
DTSTART;TZID=America/Managua:20250312T130000
DTEND;TZID=America/Managua:20250312T170000
DTSTAMP:20260422T113801
CREATED:20250310T172721Z
LAST-MODIFIED:20250310T172721Z
UID:21966-1741784400-1741798800@www.una.edu.ni
SUMMARY:Curso sobre Valor nutritivo de la especie Moringa y sus diferentes usos
DESCRIPTION:
URL:https://www.una.edu.ni/event/curso-sobre-valor-nutritivo-de-la-especie-moringa-y-sus-diferentes-usos/
LOCATION:Universidad Nacional Agraria\, Managua\, km 12 1/2\, Managua\, Nicaragua
CATEGORIES:CURSO
END:VEVENT
BEGIN:VEVENT
DTSTART;TZID=America/Managua:20250312T130000
DTEND;TZID=America/Managua:20250312T170000
DTSTAMP:20260422T113801
CREATED:20250310T174709Z
LAST-MODIFIED:20250310T174709Z
UID:21978-1741784400-1741798800@www.una.edu.ni
SUMMARY:Taller sobre Aplicación de productos veterinarios en animales domésticos
DESCRIPTION:
URL:https://www.una.edu.ni/event/taller-sobre-aplicacion-de-productos-veterinarios-en-animales-domesticos/
LOCATION:UNICAM/Muelle de los Bueyes\, Nicaragua
CATEGORIES:TALLER
END:VEVENT
BEGIN:VEVENT
DTSTART;TZID=America/Managua:20250313T080000
DTEND;TZID=America/Managua:20250313T120000
DTSTAMP:20260422T113801
CREATED:20250311T151255Z
LAST-MODIFIED:20250311T151255Z
UID:22062-1741852800-1741867200@www.una.edu.ni
SUMMARY:Capacitación sobre alternativas de elaboración de alimentos para ganado bovino en época seca
DESCRIPTION:
URL:https://www.una.edu.ni/event/capacitacion-sobre-alternativas-de-elaboracion-de-alimentos-para-ganado-bovino-en-epoca-seca/
LOCATION:Centro Universitario Regional UNA Juigalpa\, Juigapa
CATEGORIES:CAPACITACION
END:VEVENT
BEGIN:VEVENT
DTSTART;TZID=America/Managua:20250313T090000
DTEND;TZID=America/Managua:20250313T120000
DTSTAMP:20260422T113801
CREATED:20250311T152121Z
LAST-MODIFIED:20250311T152121Z
UID:22073-1741856400-1741867200@www.una.edu.ni
SUMMARY:Establecimiento y mantenimiento del Vivero UNICAM Morrito
DESCRIPTION:
URL:https://www.una.edu.ni/event/establecimiento-y-mantenimiento-del-vivero-unicam-morrito/
LOCATION:UNICAM Morrito\, Nicaragua
CATEGORIES:OTROS
END:VEVENT
BEGIN:VEVENT
DTSTART;TZID=America/Managua:20250313T100000
DTEND;TZID=America/Managua:20250313T120000
DTSTAMP:20260422T113801
CREATED:20250311T151757Z
LAST-MODIFIED:20250311T151757Z
UID:22069-1741860000-1741867200@www.una.edu.ni
SUMMARY:Conferencia sobre el Estado actual de alimentos genéticamente modificados
DESCRIPTION:
URL:https://www.una.edu.ni/event/conferencia-sobre-el-estado-actual-de-alimentos-geneticamente-modificados/
LOCATION:Universidad Nacional Agraria\, Managua\, km 12 1/2\, Managua\, Nicaragua
CATEGORIES:CONFERENCIA
END:VEVENT
BEGIN:VEVENT
DTSTART;TZID=America/Managua:20250313T100000
DTEND;TZID=America/Managua:20250313T120000
DTSTAMP:20260422T113801
CREATED:20250311T152228Z
LAST-MODIFIED:20250311T152228Z
UID:22075-1741860000-1741867200@www.una.edu.ni
SUMMARY:Jornada de embellecimiento\, reciclaje y reforestación
DESCRIPTION:
URL:https://www.una.edu.ni/event/jornada-de-embellecimiento-reciclaje-y-reforestacion/
LOCATION:Universidad Nacional Agraria\, Managua\, km 12 1/2\, Managua\, Nicaragua
CATEGORIES:JORNADA
END:VEVENT
END:VCALENDAR