BEGIN:VCALENDAR
VERSION:2.0
PRODID:-//Universidad Nacional Agraria - ECPv6.15.20//NONSGML v1.0//EN
CALSCALE:GREGORIAN
METHOD:PUBLISH
X-WR-CALNAME:Universidad Nacional Agraria
X-ORIGINAL-URL:https://www.una.edu.ni
X-WR-CALDESC:Eventos para Universidad Nacional Agraria
REFRESH-INTERVAL;VALUE=DURATION:PT1H
X-Robots-Tag:noindex
X-PUBLISHED-TTL:PT1H
BEGIN:VTIMEZONE
TZID:America/Managua
BEGIN:STANDARD
TZOFFSETFROM:-0600
TZOFFSETTO:-0600
TZNAME:CST
DTSTART:20240101T000000
END:STANDARD
END:VTIMEZONE
BEGIN:VTIMEZONE
TZID:Europe/Madrid
BEGIN:DAYLIGHT
TZOFFSETFROM:+0100
TZOFFSETTO:+0200
TZNAME:CEST
DTSTART:20240331T010000
END:DAYLIGHT
BEGIN:STANDARD
TZOFFSETFROM:+0200
TZOFFSETTO:+0100
TZNAME:CET
DTSTART:20241027T010000
END:STANDARD
BEGIN:DAYLIGHT
TZOFFSETFROM:+0100
TZOFFSETTO:+0200
TZNAME:CEST
DTSTART:20250330T010000
END:DAYLIGHT
BEGIN:STANDARD
TZOFFSETFROM:+0200
TZOFFSETTO:+0100
TZNAME:CET
DTSTART:20251026T010000
END:STANDARD
BEGIN:DAYLIGHT
TZOFFSETFROM:+0100
TZOFFSETTO:+0200
TZNAME:CEST
DTSTART:20260329T010000
END:DAYLIGHT
BEGIN:STANDARD
TZOFFSETFROM:+0200
TZOFFSETTO:+0100
TZNAME:CET
DTSTART:20261025T010000
END:STANDARD
END:VTIMEZONE
BEGIN:VEVENT
DTSTART;TZID=America/Managua:20250327T080000
DTEND;TZID=America/Managua:20250327T120000
DTSTAMP:20260422T114310
CREATED:20250327T153327Z
LAST-MODIFIED:20250327T153343Z
UID:22399-1743062400-1743076800@www.una.edu.ni
SUMMARY:Taller sobre Elaboración de cereal de maíz con inclusión de harina de marango
DESCRIPTION:
URL:https://www.una.edu.ni/event/taller-sobre-elaboracion-de-cereal-de-maiz-con-inclusion-de-harina-de-marango/
LOCATION:Centro de Desarrollo Moringa Comandante Fidel\, municipio de León\, Nicaragua
CATEGORIES:TALLER
END:VEVENT
BEGIN:VEVENT
DTSTART;TZID=America/Managua:20250327T083000
DTEND;TZID=America/Managua:20250327T120000
DTSTAMP:20260422T114310
CREATED:20250327T152410Z
LAST-MODIFIED:20250327T152410Z
UID:22394-1743064200-1743076800@www.una.edu.ni
SUMMARY:Panel “Tecnologías amigables con el medio ambiente implementadas en un sistema de producción sostenible”
DESCRIPTION:
URL:https://www.una.edu.ni/event/panel-tecnologias-amigables-con-el-medio-ambiente-implementadas-en-un-sistema-de-produccion-sostenible/
LOCATION:Universidad Nacional Agraria\, Managua\, km 12 1/2\, Managua\, Nicaragua
CATEGORIES:PANEL
END:VEVENT
BEGIN:VEVENT
DTSTART;TZID=America/Managua:20250327T090000
DTEND;TZID=America/Managua:20250327T120000
DTSTAMP:20260422T114310
CREATED:20250327T151829Z
LAST-MODIFIED:20250327T151829Z
UID:22385-1743066000-1743076800@www.una.edu.ni
SUMMARY:Intercambio de experiencias con productores sobre estrategias de manejo en ovinos y caprinos en época seca
DESCRIPTION:
URL:https://www.una.edu.ni/event/intercambio-de-experiencias-con-productores-sobre-estrategias-de-manejo-en-ovinos-y-caprinos-en-epoca-seca/
LOCATION:Empalme de Morrito\, Nicaragua
CATEGORIES:OTROS
END:VEVENT
BEGIN:VEVENT
DTSTART;TZID=America/Managua:20250327T100000
DTEND;TZID=America/Managua:20250327T120000
DTSTAMP:20260422T114310
CREATED:20250324T201715Z
LAST-MODIFIED:20250324T201715Z
UID:22355-1743069600-1743076800@www.una.edu.ni
SUMMARY:Presentación de mapa de variedades criollas de maíz y frijol en la Región Central de Nicaragua
DESCRIPTION:
URL:https://www.una.edu.ni/event/presentacion-de-mapa-de-variedades-criollas-de-maiz-y-frijol-en-la-region-central-de-nicaragua/
LOCATION:Centro Universitario Regional UNA Juigalpa\, Juigapa
CATEGORIES:PRESENTACIÓN
END:VEVENT
BEGIN:VEVENT
DTSTART;TZID=America/Managua:20250327T100000
DTEND;TZID=America/Managua:20250327T120000
DTSTAMP:20260422T114310
CREATED:20250327T150733Z
LAST-MODIFIED:20250327T150733Z
UID:22382-1743069600-1743076800@www.una.edu.ni
SUMMARY:Inicio del Diplomado a productores en Nutrición Complementaria Porcina
DESCRIPTION:
URL:https://www.una.edu.ni/event/inicio-del-diplomado-a-productores-en-nutricion-complementaria-porcina/
LOCATION:Programa Porcino “Cocibolca”\, Nicaragua
CATEGORIES:DIPLOMADO
END:VEVENT
BEGIN:VEVENT
DTSTART;TZID=America/Managua:20250327T100000
DTEND;TZID=America/Managua:20250327T120000
DTSTAMP:20260422T114310
CREATED:20250327T152105Z
LAST-MODIFIED:20250327T152105Z
UID:22390-1743069600-1743076800@www.una.edu.ni
SUMMARY:Intercambio de experiencias “Innovación agropecuaria sostenible”
DESCRIPTION:
URL:https://www.una.edu.ni/event/intercambio-de-experiencias-innovacion-agropecuaria-sostenible/
LOCATION:Universidad Nacional Agraria\, Managua\, km 12 1/2\, Managua\, Nicaragua
CATEGORIES:OTROS
END:VEVENT
BEGIN:VEVENT
DTSTART;TZID=America/Managua:20250327T100000
DTEND;TZID=America/Managua:20250327T120000
DTSTAMP:20260422T114310
CREATED:20250327T152940Z
LAST-MODIFIED:20250327T152940Z
UID:22396-1743069600-1743076800@www.una.edu.ni
SUMMARY:Taller sobre Manejo de posturas y elaboración de ensilaje
DESCRIPTION:
URL:https://www.una.edu.ni/event/taller-sobre-manejo-de-posturas-y-elaboracion-de-ensilaje/
LOCATION:UNICAM El Rama\, Nicaragua
CATEGORIES:TALLER
END:VEVENT
BEGIN:VEVENT
DTSTART;TZID=America/Managua:20250327T110000
DTEND;TZID=America/Managua:20250327T130000
DTSTAMP:20260422T114310
CREATED:20250327T151958Z
LAST-MODIFIED:20250327T151958Z
UID:22388-1743073200-1743080400@www.una.edu.ni
SUMMARY:Sesión No. 8 del Diplomado de Tecnologías Agropecuarias con el tema “Cálculo volumétrico en obras de captación de agua de lluvia”
DESCRIPTION:
URL:https://www.una.edu.ni/event/sesion-no-8-del-diplomado-de-tecnologias-agropecuarias-con-el-tema-calculo-volumetrico-en-obras-de-captacion-de-agua-de-lluvia/
LOCATION:Consejo Nacional de Universidades (Plataforma virtual UALN)\, Nicaragua
CATEGORIES:OTROS
END:VEVENT
BEGIN:VEVENT
DTSTART;TZID=America/Managua:20250327T140000
DTEND;TZID=America/Managua:20250327T170000
DTSTAMP:20260422T114310
CREATED:20250327T152253Z
LAST-MODIFIED:20250327T152253Z
UID:22392-1743084000-1743094800@www.una.edu.ni
SUMMARY:Conferencia “Distribución\, características e importancia de los bosques secos en Nicaragua”
DESCRIPTION:
URL:https://www.una.edu.ni/event/conferencia-distribucion-caracteristicas-e-importancia-de-los-bosques-secos-en-nicaragua/
LOCATION:Universidad Nacional Agraria\, Managua\, km 12 1/2\, Managua\, Nicaragua
CATEGORIES:CONFERENCIA
END:VEVENT
BEGIN:VEVENT
DTSTART;TZID=America/Managua:20250328T080000
DTEND;TZID=America/Managua:20250328T120000
DTSTAMP:20260422T114310
CREATED:20250327T153519Z
LAST-MODIFIED:20250327T153519Z
UID:22402-1743148800-1743163200@www.una.edu.ni
SUMMARY:Taller sobre Control de calidad en el proceso de elaboración de jugo a base de marango y noni
DESCRIPTION:
URL:https://www.una.edu.ni/event/taller-sobre-control-de-calidad-en-el-proceso-de-elaboracion-de-jugo-a-base-de-marango-y-noni/
LOCATION:Centro de Desarrollo Moringa Comandante Fidel\, municipio de León\, Nicaragua
CATEGORIES:TALLER
END:VEVENT
BEGIN:VEVENT
DTSTART;TZID=America/Managua:20250328T080000
DTEND;TZID=America/Managua:20250328T120000
DTSTAMP:20260422T114310
CREATED:20250327T153614Z
LAST-MODIFIED:20250327T153614Z
UID:22404-1743148800-1743163200@www.una.edu.ni
SUMMARY:Taller sobre Toma y procesamiento de muestras microbiológicas para diagnóstico de enfermedades en aves
DESCRIPTION:
URL:https://www.una.edu.ni/event/taller-sobre-toma-y-procesamiento-de-muestras-microbiologicas-para-diagnostico-de-enfermedades-en-aves/
LOCATION:Centro Universitario Regional UNA Juigalpa\, Juigapa
CATEGORIES:TALLER
END:VEVENT
BEGIN:VEVENT
DTSTART;TZID=America/Managua:20250329T080000
DTEND;TZID=America/Managua:20250329T120000
DTSTAMP:20260422T114310
CREATED:20250327T153853Z
LAST-MODIFIED:20250327T153853Z
UID:22406-1743235200-1743249600@www.una.edu.ni
SUMMARY:Taller sobre Diagnóstico de mastitis en bovinos
DESCRIPTION:
URL:https://www.una.edu.ni/event/taller-sobre-diagnostico-de-mastitis-en-bovinos/
LOCATION:Centro Universitario Regional UNA Juigalpa\, Juigapa
CATEGORIES:TALLER
END:VEVENT
BEGIN:VEVENT
DTSTART;TZID=America/Managua:20250329T080000
DTEND;TZID=America/Managua:20250329T120000
DTSTAMP:20260422T114310
CREATED:20250328T222017Z
LAST-MODIFIED:20250328T222017Z
UID:22428-1743235200-1743249600@www.una.edu.ni
SUMMARY:Inicio del Curso “Manejo y Producción apícola”
DESCRIPTION:
URL:https://www.una.edu.ni/event/inicio-del-curso-manejo-y-produccion-apicola/
LOCATION:Finca Experimental La Encantadora\, Boaco\, Nicaragua
CATEGORIES:CURSO
END:VEVENT
BEGIN:VEVENT
DTSTART;TZID=America/Managua:20250329T080000
DTEND;TZID=America/Managua:20250329T120000
DTSTAMP:20260422T114310
CREATED:20250328T222257Z
LAST-MODIFIED:20250328T222257Z
UID:22431-1743235200-1743249600@www.una.edu.ni
SUMMARY:Sexto Encuentro del Curso Cultivo y Producción de Plátano
DESCRIPTION:
URL:https://www.una.edu.ni/event/sexto-encuentro-del-curso-cultivo-y-produccion-de-platano/
LOCATION:Escuela de plátano de Altagracia\, Isla de Ometepe\, Rivas\, Altragracia\, Nicaragua
CATEGORIES:ENCUENTRO
END:VEVENT
BEGIN:VEVENT
DTSTART;TZID=America/Managua:20250329T080000
DTEND;TZID=America/Managua:20250329T120000
DTSTAMP:20260422T114310
CREATED:20250328T222706Z
LAST-MODIFIED:20250328T222706Z
UID:22437-1743235200-1743249600@www.una.edu.ni
SUMMARY:Día de campo sobre identificación de razas cárnicas y manejo de ganado estabulado
DESCRIPTION:
URL:https://www.una.edu.ni/event/dia-de-campo-sobre-identificacion-de-razas-carnicas-y-manejo-de-ganado-estabulado/
LOCATION:UNICAM El Rama\, Nicaragua
CATEGORIES:OTROS
END:VEVENT
BEGIN:VEVENT
DTSTART;TZID=America/Managua:20250329T080000
DTEND;TZID=America/Managua:20250329T120000
DTSTAMP:20260422T114310
CREATED:20250328T222821Z
LAST-MODIFIED:20250328T222821Z
UID:22439-1743235200-1743249600@www.una.edu.ni
SUMMARY:Taller sobre Técnicas de Selección de semillas de café
DESCRIPTION:
URL:https://www.una.edu.ni/event/taller-sobre-tecnicas-de-seleccion-de-semillas-de-cafe/
LOCATION:UNICAM Esquipulas\, Nicaragua
CATEGORIES:TALLER
END:VEVENT
BEGIN:VEVENT
DTSTART;TZID=America/Managua:20250329T110000
DTEND;TZID=America/Managua:20250329T130000
DTSTAMP:20260422T114310
CREATED:20250328T222421Z
LAST-MODIFIED:20250328T222421Z
UID:22433-1743246000-1743253200@www.una.edu.ni
SUMMARY:Taller sobre Manejo de plagas en el cultivo de plátano
DESCRIPTION:
URL:https://www.una.edu.ni/event/taller-sobre-manejo-de-plagas-en-el-cultivo-de-platano/
LOCATION:Universidad Nacional Agraria\, Managua\, km 12 1/2\, Managua\, Nicaragua
CATEGORIES:TALLER
END:VEVENT
BEGIN:VEVENT
DTSTART;TZID=America/Managua:20250329T130000
DTEND;TZID=America/Managua:20250329T170000
DTSTAMP:20260422T114310
CREATED:20250328T222547Z
LAST-MODIFIED:20250328T222547Z
UID:22435-1743253200-1743267600@www.una.edu.ni
SUMMARY:Charla sobre Técnicas de injertación en tomate
DESCRIPTION:
URL:https://www.una.edu.ni/event/charla-sobre-tecnicas-de-injertacion-en-tomate/
LOCATION:Universidad Nacional Agraria\, Managua\, km 12 1/2\, Managua\, Nicaragua
CATEGORIES:CHARLA
END:VEVENT
BEGIN:VEVENT
DTSTART;TZID=America/Managua:20250330T090000
DTEND;TZID=America/Managua:20250330T120000
DTSTAMP:20260422T114310
CREATED:20250328T222933Z
LAST-MODIFIED:20250328T222933Z
UID:22442-1743325200-1743336000@www.una.edu.ni
SUMMARY:Taller sobre Técnicas de Conservación de suelo y trazado de curvas a nivel
DESCRIPTION:
URL:https://www.una.edu.ni/event/taller-sobre-tecnicas-de-conservacion-de-suelo-y-trazado-de-curvas-a-nivel/
LOCATION:UNICAM El Rama\, Nicaragua
CATEGORIES:TALLER
END:VEVENT
BEGIN:VEVENT
DTSTART;TZID=Europe/Madrid:20250331T080000
DTEND;TZID=Europe/Madrid:20250331T150000
DTSTAMP:20260422T114310
CREATED:20250331T162433Z
LAST-MODIFIED:20250331T162433Z
UID:22472-1743408000-1743433200@www.una.edu.ni
SUMMARY:Jornada de bienestar animal y manejo eficiente en producción bovina “Con la paz no se juega”\, con Brigada Veterinaria Universitaria
DESCRIPTION:
URL:https://www.una.edu.ni/event/jornada-de-bienestar-animal-y-manejo-eficiente-en-produccion-bovina-con-la-paz-no-se-juega-con-brigada-veterinaria-universitaria/
LOCATION:Centro Universitario Regional UNA Juigalpa\, Juigapa
CATEGORIES:JORNADA
END:VEVENT
BEGIN:VEVENT
DTSTART;TZID=America/Managua:20250331T090000
DTEND;TZID=America/Managua:20250331T120000
DTSTAMP:20260422T114310
CREATED:20250331T160009Z
LAST-MODIFIED:20250331T160009Z
UID:22456-1743411600-1743422400@www.una.edu.ni
SUMMARY:Taller sobre Técnicas de manejo seguro y sujeción de equinos
DESCRIPTION:
URL:https://www.una.edu.ni/event/taller-sobre-tecnicas-de-manejo-seguro-y-sujecion-de-equinos/
LOCATION:Centro Universitario Regional UNA Juigalpa\, Juigapa
CATEGORIES:TALLER
END:VEVENT
BEGIN:VEVENT
DTSTART;TZID=America/Managua:20250331T110000
DTEND;TZID=America/Managua:20250331T130000
DTSTAMP:20260422T114310
CREATED:20250331T152744Z
LAST-MODIFIED:20250331T152744Z
UID:22444-1743418800-1743426000@www.una.edu.ni
SUMMARY:Entrega de equipos de diagnósticos y laboratorio clínico para la formación de estudiantes y productores en la Dirección de Ciencia Animal
DESCRIPTION:
URL:https://www.una.edu.ni/event/entrega-de-equipos-de-diagnosticos-y-laboratorio-clinico-para-la-formacion-de-estudiantes-y-productores-en-la-direccion-de-ciencia-animal/
LOCATION:Universidad Nacional Agraria\, Managua\, km 12 1/2\, Managua\, Nicaragua
CATEGORIES:OTROS
END:VEVENT
BEGIN:VEVENT
DTSTART;TZID=America/Managua:20250331T130000
DTEND;TZID=America/Managua:20250331T170000
DTSTAMP:20260422T114310
CREATED:20250331T155901Z
LAST-MODIFIED:20250331T155901Z
UID:22454-1743426000-1743440400@www.una.edu.ni
SUMMARY:Taller sobre Uso y manejo de microscopios
DESCRIPTION:
URL:https://www.una.edu.ni/event/taller-sobre-uso-y-manejo-de-microscopios/
LOCATION:Universidad Nacional Agraria\, Managua\, km 12 1/2\, Managua\, Nicaragua
CATEGORIES:TALLER
END:VEVENT
BEGIN:VEVENT
DTSTART;TZID=America/Managua:20250331T130000
DTEND;TZID=America/Managua:20250331T170000
DTSTAMP:20260422T114310
CREATED:20250331T160322Z
LAST-MODIFIED:20250331T160322Z
UID:22460-1743426000-1743440400@www.una.edu.ni
SUMMARY:Taller sobre Manejo de pollos de engorde en climas cálidos
DESCRIPTION:
URL:https://www.una.edu.ni/event/taller-sobre-manejo-de-pollos-de-engorde-en-climas-calidos/
LOCATION:Universidad Nacional Agraria\, Managua\, km 12 1/2\, Managua\, Nicaragua
CATEGORIES:TALLER
END:VEVENT
BEGIN:VEVENT
DTSTART;TZID=America/Managua:20250331T150000
DTEND;TZID=America/Managua:20250331T170000
DTSTAMP:20260422T114310
CREATED:20250331T160123Z
LAST-MODIFIED:20250331T160123Z
UID:22458-1743433200-1743440400@www.una.edu.ni
SUMMARY:Taller sobre Uso de forrajes verdes hidropónicos en la alimentación ganadera en época de verano
DESCRIPTION:
URL:https://www.una.edu.ni/event/taller-sobre-uso-de-forrajes-verdes-hidroponicos-en-la-alimentacion-ganadera-en-epoca-de-verano/
LOCATION:Centro Universitario Regional UNA Juigalpa\, Juigapa
CATEGORIES:TALLER
END:VEVENT
BEGIN:VEVENT
DTSTART;TZID=America/Managua:20250401T080000
DTEND;TZID=America/Managua:20250401T120000
DTSTAMP:20260422T114310
CREATED:20250331T161813Z
LAST-MODIFIED:20250331T161813Z
UID:22466-1743494400-1743508800@www.una.edu.ni
SUMMARY:Taller sobre Prevención y control de enfermedades bovinas
DESCRIPTION:
URL:https://www.una.edu.ni/event/taller-sobre-prevencion-y-control-de-enfermedades-bovinas/
LOCATION:Centro Universitario Regional UNA Juigalpa\, Juigapa
CATEGORIES:TALLER
END:VEVENT
BEGIN:VEVENT
DTSTART;TZID=America/Managua:20250401T090000
DTEND;TZID=America/Managua:20250401T120000
DTSTAMP:20260422T114310
CREATED:20250331T155514Z
LAST-MODIFIED:20250331T155514Z
UID:22450-1743498000-1743508800@www.una.edu.ni
SUMMARY:Conferencia con productores “Agricultura protegida con énfasis en el cultivo de tomate\, retos y oportunidades
DESCRIPTION:
URL:https://www.una.edu.ni/event/conferencia-con-productores-agricultura-protegida-con-enfasis-en-el-cultivo-de-tomate-retos-y-oportunidades/
LOCATION:Universidad Nacional Agraria\, Managua\, km 12 1/2\, Managua\, Nicaragua
CATEGORIES:CONFERENCIA
END:VEVENT
BEGIN:VEVENT
DTSTART;TZID=America/Managua:20250401T090000
DTEND;TZID=America/Managua:20250401T120000
DTSTAMP:20260422T114310
CREATED:20250331T161441Z
LAST-MODIFIED:20250331T161441Z
UID:22462-1743498000-1743508800@www.una.edu.ni
SUMMARY:Taller sobre Análisis e identificación de elementos químicos en alimentos cárnicos
DESCRIPTION:
URL:https://www.una.edu.ni/event/taller-sobre-analisis-e-identificacion-de-elementos-quimicos-en-alimentos-carnicos/
LOCATION:Centro Universitario Regional UNA Juigalpa\, Juigapa
CATEGORIES:TALLER
END:VEVENT
BEGIN:VEVENT
DTSTART;TZID=America/Managua:20250401T100000
DTEND;TZID=America/Managua:20250401T120000
DTSTAMP:20260422T114310
CREATED:20250331T161656Z
LAST-MODIFIED:20250331T161656Z
UID:22464-1743501600-1743508800@www.una.edu.ni
SUMMARY:Taller sobre Identificación de fauna silvestre para el Turismo rural
DESCRIPTION:
URL:https://www.una.edu.ni/event/taller-sobre-identificacion-de-fauna-silvestre-para-el-turismo-rural/
LOCATION:Universidad Nacional Agraria\, Managua\, km 12 1/2\, Managua\, Nicaragua
CATEGORIES:TALLER
END:VEVENT
BEGIN:VEVENT
DTSTART;TZID=America/Managua:20250401T140000
DTEND;TZID=America/Managua:20250401T170000
DTSTAMP:20260422T114310
CREATED:20250331T162308Z
LAST-MODIFIED:20250331T162308Z
UID:22470-1743516000-1743526800@www.una.edu.ni
SUMMARY:Jornada Deportiva en saludo al mes de la paz
DESCRIPTION:
URL:https://www.una.edu.ni/event/jornada-deportiva-en-saludo-al-mes-de-la-paz/
LOCATION:Universidad Nacional Agraria\, Managua\, km 12 1/2\, Managua\, Nicaragua
CATEGORIES:JORNADA
END:VEVENT
END:VCALENDAR