BEGIN:VCALENDAR
VERSION:2.0
PRODID:-//Universidad Nacional Agraria - ECPv6.15.20//NONSGML v1.0//EN
CALSCALE:GREGORIAN
METHOD:PUBLISH
X-WR-CALNAME:Universidad Nacional Agraria
X-ORIGINAL-URL:https://www.una.edu.ni
X-WR-CALDESC:Eventos para Universidad Nacional Agraria
REFRESH-INTERVAL;VALUE=DURATION:PT1H
X-Robots-Tag:noindex
X-PUBLISHED-TTL:PT1H
BEGIN:VTIMEZONE
TZID:America/Managua
BEGIN:STANDARD
TZOFFSETFROM:-0600
TZOFFSETTO:-0600
TZNAME:CST
DTSTART:20240101T000000
END:STANDARD
END:VTIMEZONE
BEGIN:VTIMEZONE
TZID:Europe/Madrid
BEGIN:DAYLIGHT
TZOFFSETFROM:+0100
TZOFFSETTO:+0200
TZNAME:CEST
DTSTART:20240331T010000
END:DAYLIGHT
BEGIN:STANDARD
TZOFFSETFROM:+0200
TZOFFSETTO:+0100
TZNAME:CET
DTSTART:20241027T010000
END:STANDARD
BEGIN:DAYLIGHT
TZOFFSETFROM:+0100
TZOFFSETTO:+0200
TZNAME:CEST
DTSTART:20250330T010000
END:DAYLIGHT
BEGIN:STANDARD
TZOFFSETFROM:+0200
TZOFFSETTO:+0100
TZNAME:CET
DTSTART:20251026T010000
END:STANDARD
BEGIN:DAYLIGHT
TZOFFSETFROM:+0100
TZOFFSETTO:+0200
TZNAME:CEST
DTSTART:20260329T010000
END:DAYLIGHT
BEGIN:STANDARD
TZOFFSETFROM:+0200
TZOFFSETTO:+0100
TZNAME:CET
DTSTART:20261025T010000
END:STANDARD
END:VTIMEZONE
BEGIN:VEVENT
DTSTART;TZID=America/Managua:20250409T080000
DTEND;TZID=America/Managua:20250409T120000
DTSTAMP:20260422T183734
CREATED:20250408T154730Z
LAST-MODIFIED:20250408T154730Z
UID:22663-1744185600-1744200000@www.una.edu.ni
SUMMARY:Encuentro con productores para el intercambio de experiencias en manejo de plagas en el cultivo de frijol
DESCRIPTION:
URL:https://www.una.edu.ni/event/encuentro-con-productores-para-el-intercambio-de-experiencias-en-manejo-de-plagas-en-el-cultivo-de-frijol/
LOCATION:San Rafael del Norte\, Jinotega\, Jinotega\, Nicaragua
CATEGORIES:ENCUENTRO
END:VEVENT
BEGIN:VEVENT
DTSTART;TZID=America/Managua:20250409T083000
DTEND;TZID=America/Managua:20250409T120000
DTSTAMP:20260422T183734
CREATED:20250408T143450Z
LAST-MODIFIED:20250408T143450Z
UID:22646-1744187400-1744200000@www.una.edu.ni
SUMMARY:Conferencia “Intervenciones quirúrgicas en animales Domésticos”
DESCRIPTION:
URL:https://www.una.edu.ni/event/conferencia-intervenciones-quirurgicas-en-animales-domesticos/
LOCATION:Universidad Nacional Agraria\, Managua\, km 12 1/2\, Managua\, Nicaragua
CATEGORIES:CONFERENCIA
END:VEVENT
BEGIN:VEVENT
DTSTART;TZID=America/Managua:20250409T083000
DTEND;TZID=America/Managua:20250409T120000
DTSTAMP:20260422T183734
CREATED:20250408T152941Z
LAST-MODIFIED:20250408T152941Z
UID:22657-1744187400-1744200000@www.una.edu.ni
SUMMARY:Encuentro estudiantil “Huellas del emprendedor agrario”
DESCRIPTION:
URL:https://www.una.edu.ni/event/encuentro-estudiantil-huellas-del-emprendedor-agrario/
LOCATION:Universidad Nacional Agraria\, Managua\, km 12 1/2\, Managua\, Nicaragua
CATEGORIES:ENCUENTRO
END:VEVENT
BEGIN:VEVENT
DTSTART;TZID=Europe/Madrid:20250409T090000
DTEND;TZID=Europe/Madrid:20250409T120000
DTSTAMP:20260422T183734
CREATED:20250408T143700Z
LAST-MODIFIED:20250408T143700Z
UID:22651-1744189200-1744200000@www.una.edu.ni
SUMMARY:Inicio de Curso sobre Emprendimiento e Innovación en Tecnologías y Producción Agropecuaria\, dirigido a estudiantes de primer ingreso
DESCRIPTION:
URL:https://www.una.edu.ni/event/inicio-de-curso-sobre-emprendimiento-e-innovacion-en-tecnologias-y-produccion-agropecuaria-dirigido-a-estudiantes-de-primer-ingreso/
LOCATION:Centro Universitario Regional UNA Camoapa\, Camoapa
CATEGORIES:CURSO
END:VEVENT
BEGIN:VEVENT
DTSTART;TZID=America/Managua:20250409T090000
DTEND;TZID=America/Managua:20250409T120000
DTSTAMP:20260422T183734
CREATED:20250408T161133Z
LAST-MODIFIED:20250408T161133Z
UID:22680-1744189200-1744200000@www.una.edu.ni
SUMMARY:Lanzamiento de la Campaña “Agua limpia\, suelo sano”\, promoviendo el cuido\, conservación y reforestación del suelo y fuentes de agua
DESCRIPTION:
URL:https://www.una.edu.ni/event/lanzamiento-de-la-campana-agua-limpia-suelo-sano-promoviendo-el-cuido-conservacion-y-reforestacion-del-suelo-y-fuentes-de-agua/
LOCATION:Centro Universitario Regional UNA Camoapa\, Camoapa
CATEGORIES:LANZAMIENTO
END:VEVENT
BEGIN:VEVENT
DTSTART;TZID=America/Managua:20250409T100000
DTEND;TZID=America/Managua:20250409T120000
DTSTAMP:20260422T183734
CREATED:20250408T143829Z
LAST-MODIFIED:20250408T143829Z
UID:22653-1744192800-1744200000@www.una.edu.ni
SUMMARY:Intercambio de experiencias con productores sobre uso de subproductos avícolas como alternativa alimenticia bovina
DESCRIPTION:
URL:https://www.una.edu.ni/event/intercambio-de-experiencias-con-productores-sobre-uso-de-subproductos-avicolas-como-alternativa-alimenticia-bovina/
LOCATION:UNICAM El Rama\, Nicaragua
CATEGORIES:OTROS
END:VEVENT
BEGIN:VEVENT
DTSTART;TZID=America/Managua:20250409T100000
DTEND;TZID=America/Managua:20250409T120000
DTSTAMP:20260422T183734
CREATED:20250408T153103Z
LAST-MODIFIED:20250408T153103Z
UID:22659-1744192800-1744200000@www.una.edu.ni
SUMMARY:Taller “Potenciando talentos para innovar y emprender con inteligencia artificial en las ciencias agrarias”
DESCRIPTION:
URL:https://www.una.edu.ni/event/taller-potenciando-talentos-para-innovar-y-emprender-con-inteligencia-artificial-en-las-ciencias-agrarias/
LOCATION:Universidad Nacional Agraria\, Managua\, km 12 1/2\, Managua\, Nicaragua
CATEGORIES:TALLER
END:VEVENT
BEGIN:VEVENT
DTSTART;TZID=America/Managua:20250409T100000
DTEND;TZID=America/Managua:20250409T120000
DTSTAMP:20260422T183734
CREATED:20250408T153327Z
LAST-MODIFIED:20250408T153327Z
UID:22661-1744192800-1744200000@www.una.edu.ni
SUMMARY:Simposio “Importancia de los zoocriaderos en el desarrollo local”
DESCRIPTION:
URL:https://www.una.edu.ni/event/simposio-importancia-de-los-zoocriaderos-en-el-desarrollo-local/
LOCATION:Universidad Nacional Agraria\, Managua\, km 12 1/2\, Managua\, Nicaragua
CATEGORIES:Simposio
END:VEVENT
BEGIN:VEVENT
DTSTART;TZID=America/Managua:20250409T100000
DTEND;TZID=America/Managua:20250409T120000
DTSTAMP:20260422T183734
CREATED:20250408T160227Z
LAST-MODIFIED:20250408T160227Z
UID:22674-1744192800-1744200000@www.una.edu.ni
SUMMARY:Taller sobre Manejo Adecuado de Lechones
DESCRIPTION:
URL:https://www.una.edu.ni/event/taller-sobre-manejo-adecuado-de-lechones/
LOCATION:Universidad Nacional Agraria\, Managua\, km 12 1/2\, Managua\, Nicaragua
CATEGORIES:TALLER
END:VEVENT
BEGIN:VEVENT
DTSTART;TZID=America/Managua:20250409T100000
DTEND;TZID=America/Managua:20250409T120000
DTSTAMP:20260422T183734
CREATED:20250408T161337Z
LAST-MODIFIED:20250408T161337Z
UID:22682-1744192800-1744200000@www.una.edu.ni
SUMMARY:Jornada médica veterinaria para aplicación de tratamientos antibióticos en Caninos
DESCRIPTION:
URL:https://www.una.edu.ni/event/jornada-medica-veterinaria-para-aplicacion-de-tratamientos-antibioticos-en-caninos/
LOCATION:UNICAM El Ayote\, Juigalpa\, Nicaragua
CATEGORIES:JORNADA
END:VEVENT
BEGIN:VEVENT
DTSTART;TZID=America/Managua:20250409T103000
DTEND;TZID=America/Managua:20250409T120000
DTSTAMP:20260422T183734
CREATED:20250408T144016Z
LAST-MODIFIED:20250408T144016Z
UID:22655-1744194600-1744200000@www.una.edu.ni
SUMMARY:Conversatorio sobre Manejo de roedores que afectan los cultivos agrícolas
DESCRIPTION:
URL:https://www.una.edu.ni/event/conversatorio-sobre-manejo-de-roedores-que-afectan-los-cultivos-agricolas/
LOCATION:Universidad Nacional Agraria\, Managua\, km 12 1/2\, Managua\, Nicaragua
CATEGORIES:CONVERSATORIO
END:VEVENT
BEGIN:VEVENT
DTSTART;TZID=America/Managua:20250409T130000
DTEND;TZID=America/Managua:20250409T170000
DTSTAMP:20260422T183734
CREATED:20250408T160903Z
LAST-MODIFIED:20250408T160903Z
UID:22678-1744203600-1744218000@www.una.edu.ni
SUMMARY:Taller sobre Diagnóstico geoespacial del riesgo climático
DESCRIPTION:
URL:https://www.una.edu.ni/event/taller-sobre-diagnostico-geoespacial-del-riesgo-climatico/
LOCATION:Universidad Nacional Agraria\, Managua\, km 12 1/2\, Managua\, Nicaragua
CATEGORIES:TALLER
END:VEVENT
BEGIN:VEVENT
DTSTART;TZID=America/Managua:20250409T140000
DTEND;TZID=America/Managua:20250409T170000
DTSTAMP:20260422T183734
CREATED:20250408T160750Z
LAST-MODIFIED:20250408T160750Z
UID:22676-1744207200-1744218000@www.una.edu.ni
SUMMARY:Caracterización forrajera en variedades criollas de maíz
DESCRIPTION:
URL:https://www.una.edu.ni/event/caracterizacion-forrajera-en-variedades-criollas-de-maiz/
LOCATION:Centro Universitario Regional UNA Juigalpa\, Juigapa
CATEGORIES:TALLER
END:VEVENT
BEGIN:VEVENT
DTSTART;TZID=America/Managua:20250410T080000
DTEND;TZID=America/Managua:20250410T120000
DTSTAMP:20260422T183734
CREATED:20250409T160714Z
LAST-MODIFIED:20250409T160714Z
UID:22731-1744272000-1744286400@www.una.edu.ni
SUMMARY:Inicio del Curso “Manejo de colmenas y producción apícola”
DESCRIPTION:
URL:https://www.una.edu.ni/event/inicio-del-curso-manejo-de-colmenas-y-produccion-apicola/
LOCATION:Universidad Nacional Agraria\, Managua\, km 12 1/2\, Managua\, Nicaragua
CATEGORIES:CURSO
END:VEVENT
BEGIN:VEVENT
DTSTART;TZID=America/Managua:20250410T080000
DTEND;TZID=America/Managua:20250410T120000
DTSTAMP:20260422T183734
CREATED:20250409T161422Z
LAST-MODIFIED:20250409T161422Z
UID:22740-1744272000-1744286400@www.una.edu.ni
SUMMARY:Taller sobre Producción de maíz para elaboración de ensilaje en ganadería
DESCRIPTION:
URL:https://www.una.edu.ni/event/taller-sobre-produccion-de-maiz-para-elaboracion-de-ensilaje-en-ganaderia/
LOCATION:UNICAM El Rama\, Nicaragua
CATEGORIES:TALLER
END:VEVENT
BEGIN:VEVENT
DTSTART;TZID=America/Managua:20250410T080000
DTEND;TZID=America/Managua:20250410T120000
DTSTAMP:20260422T183734
CREATED:20250409T161610Z
LAST-MODIFIED:20250409T161610Z
UID:22742-1744272000-1744286400@www.una.edu.ni
SUMMARY:Taller sobre Valor agregado de carne porcina
DESCRIPTION:
URL:https://www.una.edu.ni/event/taller-sobre-valor-agregado-de-carne-porcina/
LOCATION:Comunidad Santa Elisa\, Bluefields\, Nicaragua
CATEGORIES:TALLER
END:VEVENT
BEGIN:VEVENT
DTSTART;TZID=America/Managua:20250410T090000
DTEND;TZID=America/Managua:20250410T120000
DTSTAMP:20260422T183734
CREATED:20250409T160509Z
LAST-MODIFIED:20250409T160509Z
UID:22729-1744275600-1744286400@www.una.edu.ni
SUMMARY:Conferencia “Manejo de plagas en granos almacenados”
DESCRIPTION:
URL:https://www.una.edu.ni/event/conferencia-manejo-de-plagas-en-granos-almacenados/
LOCATION:Universidad Nacional Agraria\, Managua\, km 12 1/2\, Managua\, Nicaragua
CATEGORIES:CONFERENCIA
END:VEVENT
BEGIN:VEVENT
DTSTART;TZID=America/Managua:20250410T090000
DTEND;TZID=America/Managua:20250410T120000
DTSTAMP:20260422T183734
CREATED:20250409T161723Z
LAST-MODIFIED:20250409T161723Z
UID:22745-1744275600-1744286400@www.una.edu.ni
SUMMARY:Taller sobre Proceso de pesado y descortezado de la semilla de marango
DESCRIPTION:
URL:https://www.una.edu.ni/event/taller-sobre-proceso-de-pesado-y-descortezado-de-la-semilla-de-marango/
LOCATION:Centro de Desarrollo Moringa Comandante Fidel\, municipio de León\, Nicaragua
CATEGORIES:TALLER
END:VEVENT
BEGIN:VEVENT
DTSTART;TZID=America/Managua:20250410T100000
DTEND;TZID=America/Managua:20250410T120000
DTSTAMP:20260422T183734
CREATED:20250409T160002Z
LAST-MODIFIED:20250409T160002Z
UID:22723-1744279200-1744286400@www.una.edu.ni
SUMMARY:Inauguración de Primera Etapa del Hospital Veterinario UNA
DESCRIPTION:
URL:https://www.una.edu.ni/event/inauguracion-de-primera-etapa-del-hospital-veterinario-una/
LOCATION:Universidad Nacional Agraria\, Managua\, km 12 1/2\, Managua\, Nicaragua
CATEGORIES:INAUGURACIÓN
END:VEVENT
BEGIN:VEVENT
DTSTART;TZID=America/Managua:20250410T100000
DTEND;TZID=America/Managua:20250410T120000
DTSTAMP:20260422T183734
CREATED:20250409T160827Z
LAST-MODIFIED:20250409T160827Z
UID:22733-1744279200-1744286400@www.una.edu.ni
SUMMARY:Tercera Sesión del Diplomado “Nutrición complementaria porcina”
DESCRIPTION:
URL:https://www.una.edu.ni/event/tercera-sesion-del-diplomado-nutricion-complementaria-porcina/
LOCATION:Programa Porcino “Cocibolca”\, Nicaragua
CATEGORIES:DIPLOMADO
END:VEVENT
BEGIN:VEVENT
DTSTART;TZID=America/Managua:20250410T100000
DTEND;TZID=America/Managua:20250410T120000
DTSTAMP:20260422T183734
CREATED:20250410T145759Z
LAST-MODIFIED:20250410T145759Z
UID:22761-1744279200-1744286400@www.una.edu.ni
SUMMARY:Festival gastronómico “Verano agropecuario”
DESCRIPTION:
URL:https://www.una.edu.ni/event/festival-gastronomico-verano-agropecuario/
LOCATION:Universidad Nacional Agraria\, Managua\, km 12 1/2\, Managua\, Nicaragua
CATEGORIES:FESTIVAL
END:VEVENT
BEGIN:VEVENT
DTSTART;TZID=America/Managua:20250410T110000
DTEND;TZID=America/Managua:20250410T130000
DTSTAMP:20260422T183734
CREATED:20250409T160335Z
LAST-MODIFIED:20250409T160335Z
UID:22727-1744282800-1744290000@www.una.edu.ni
SUMMARY:Sesión No. 9 del Diplomado de Tecnologías Agropecuarias con el tema “Mejoramiento de suelos con organismos biológicos”
DESCRIPTION:
URL:https://www.una.edu.ni/event/sesion-no-9-del-diplomado-de-tecnologias-agropecuarias-con-el-tema-mejoramiento-de-suelos-con-organismos-biologicos/
LOCATION:Consejo Nacional de Universidades (Plataforma virtual UALN)\, Nicaragua
CATEGORIES:OTROS
END:VEVENT
BEGIN:VEVENT
DTSTART;TZID=America/Managua:20250410T110000
DTEND;TZID=America/Managua:20250410T150000
DTSTAMP:20260422T183734
CREATED:20250410T145937Z
LAST-MODIFIED:20250410T145937Z
UID:22763-1744282800-1744297200@www.una.edu.ni
SUMMARY:Zumbatón “La Alegría de vivir en paz”
DESCRIPTION:
URL:https://www.una.edu.ni/event/zumbaton-la-alegria-de-vivir-en-paz/
LOCATION:Universidad Nacional Agraria\, Managua\, km 12 1/2\, Managua\, Nicaragua
CATEGORIES:OTROS
END:VEVENT
BEGIN:VEVENT
DTSTART;TZID=America/Managua:20250410T180000
DTEND;TZID=America/Managua:20250410T230000
DTSTAMP:20260422T183734
CREATED:20250410T145552Z
LAST-MODIFIED:20250410T145552Z
UID:22757-1744308000-1744326000@www.una.edu.ni
SUMMARY:Festival de Verano Universitario
DESCRIPTION:
URL:https://www.una.edu.ni/event/festival-de-verano-universitario/
LOCATION:Universidad Nacional Agraria\, Managua\, km 12 1/2\, Managua\, Nicaragua
CATEGORIES:FESTIVAL
END:VEVENT
BEGIN:VEVENT
DTSTART;TZID=America/Managua:20250410T190000
DTEND;TZID=America/Managua:20250410T230000
DTSTAMP:20260422T183734
CREATED:20250410T145649Z
LAST-MODIFIED:20250410T145649Z
UID:22759-1744311600-1744326000@www.una.edu.ni
SUMMARY:Elección de la Reina UNA 2025
DESCRIPTION:
URL:https://www.una.edu.ni/event/eleccion-de-la-reina-una-2025/
LOCATION:Universidad Nacional Agraria\, Managua\, km 12 1/2\, Managua\, Nicaragua
CATEGORIES:OTROS
END:VEVENT
BEGIN:VEVENT
DTSTART;TZID=America/Managua:20250411T080000
DTEND;TZID=America/Managua:20250411T120000
DTSTAMP:20260422T183734
CREATED:20250409T160159Z
LAST-MODIFIED:20250409T160159Z
UID:22725-1744358400-1744372800@www.una.edu.ni
SUMMARY:Lanzamiento del Curso “Técnicas de monitoreo de fauna silvestre”
DESCRIPTION:
URL:https://www.una.edu.ni/event/lanzamiento-del-curso-tecnicas-de-monitoreo-de-fauna-silvestre/
LOCATION:Universidad Nacional Agraria\, Managua\, km 12 1/2\, Managua\, Nicaragua
CATEGORIES:LANZAMIENTO
END:VEVENT
BEGIN:VEVENT
DTSTART;TZID=America/Managua:20250411T080000
DTEND;TZID=America/Managua:20250411T120000
DTSTAMP:20260422T183734
CREATED:20250409T161249Z
LAST-MODIFIED:20250409T161249Z
UID:22738-1744358400-1744372800@www.una.edu.ni
SUMMARY:Segundo Encuentro del Curso “análisis de muestras biológicas en animales domésticos”
DESCRIPTION:
URL:https://www.una.edu.ni/event/segundo-encuentro-del-curso-analisis-de-muestras-biologicas-en-animales-domesticos/
LOCATION:Universidad Nacional Agraria\, Managua\, km 12 1/2\, Managua\, Nicaragua
CATEGORIES:CURSO
END:VEVENT
BEGIN:VEVENT
DTSTART;TZID=Europe/Madrid:20250411T080000
DTEND;TZID=Europe/Madrid:20250411T120000
DTSTAMP:20260422T183734
CREATED:20250410T145019Z
LAST-MODIFIED:20250410T145019Z
UID:22751-1744358400-1744372800@www.una.edu.ni
SUMMARY:Taller sobre Elaboración de bloques multinutricionales para alimentación de ovinos y caprinos
DESCRIPTION:
URL:https://www.una.edu.ni/event/taller-sobre-elaboracion-de-bloques-multinutricionales-para-alimentacion-de-ovinos-y-caprinos/
LOCATION:UNICAM Morrito\, Nicaragua
CATEGORIES:TALLER
END:VEVENT
BEGIN:VEVENT
DTSTART;TZID=America/Managua:20250411T080000
DTEND;TZID=America/Managua:20250411T120000
DTSTAMP:20260422T183734
CREATED:20250410T145239Z
LAST-MODIFIED:20250410T145239Z
UID:22753-1744358400-1744372800@www.una.edu.ni
SUMMARY:Taller sobre Manejo Nutricional Porcino
DESCRIPTION:
URL:https://www.una.edu.ni/event/taller-sobre-manejo-nutricional-porcino/
LOCATION:Programa Porcino “Cocibolca”\, Nicaragua
CATEGORIES:TALLER
END:VEVENT
BEGIN:VEVENT
DTSTART;TZID=America/Managua:20250411T090000
DTEND;TZID=America/Managua:20250411T120000
DTSTAMP:20260422T183734
CREATED:20250409T161030Z
LAST-MODIFIED:20250409T161030Z
UID:22735-1744362000-1744372800@www.una.edu.ni
SUMMARY:Intercambio de experiencias con productores sobre técnicas de mejoramiento productivo y reproductivo en ganadería bovina
DESCRIPTION:
URL:https://www.una.edu.ni/event/intercambio-de-experiencias-con-productores-sobre-tecnicas-de-mejoramiento-productivo-y-reproductivo-en-ganaderia-bovina/
LOCATION:Comunidad Caño Maíz\, Bluefields\, Nicaragua
CATEGORIES:OTROS
END:VEVENT
END:VCALENDAR