BEGIN:VCALENDAR
VERSION:2.0
PRODID:-//Universidad Nacional Agraria - ECPv6.15.20//NONSGML v1.0//EN
CALSCALE:GREGORIAN
METHOD:PUBLISH
X-WR-CALNAME:Universidad Nacional Agraria
X-ORIGINAL-URL:https://www.una.edu.ni
X-WR-CALDESC:Eventos para Universidad Nacional Agraria
REFRESH-INTERVAL;VALUE=DURATION:PT1H
X-Robots-Tag:noindex
X-PUBLISHED-TTL:PT1H
BEGIN:VTIMEZONE
TZID:America/Managua
BEGIN:STANDARD
TZOFFSETFROM:-0600
TZOFFSETTO:-0600
TZNAME:CST
DTSTART:20240101T000000
END:STANDARD
END:VTIMEZONE
BEGIN:VTIMEZONE
TZID:Europe/Madrid
BEGIN:DAYLIGHT
TZOFFSETFROM:+0100
TZOFFSETTO:+0200
TZNAME:CEST
DTSTART:20240331T010000
END:DAYLIGHT
BEGIN:STANDARD
TZOFFSETFROM:+0200
TZOFFSETTO:+0100
TZNAME:CET
DTSTART:20241027T010000
END:STANDARD
BEGIN:DAYLIGHT
TZOFFSETFROM:+0100
TZOFFSETTO:+0200
TZNAME:CEST
DTSTART:20250330T010000
END:DAYLIGHT
BEGIN:STANDARD
TZOFFSETFROM:+0200
TZOFFSETTO:+0100
TZNAME:CET
DTSTART:20251026T010000
END:STANDARD
BEGIN:DAYLIGHT
TZOFFSETFROM:+0100
TZOFFSETTO:+0200
TZNAME:CEST
DTSTART:20260329T010000
END:DAYLIGHT
BEGIN:STANDARD
TZOFFSETFROM:+0200
TZOFFSETTO:+0100
TZNAME:CET
DTSTART:20261025T010000
END:STANDARD
END:VTIMEZONE
BEGIN:VEVENT
DTSTART;TZID=America/Managua:20250428T090000
DTEND;TZID=America/Managua:20250428T120000
DTSTAMP:20260423T002940
CREATED:20250428T163033Z
LAST-MODIFIED:20250428T163033Z
UID:22888-1745830800-1745841600@www.una.edu.ni
SUMMARY:Taller sobre Análisis de inocuidad y calidad de agua en estanques de peces de tilapia
DESCRIPTION:
URL:https://www.una.edu.ni/event/taller-sobre-analisis-de-inocuidad-y-calidad-de-agua-en-estanques-de-peces-de-tilapia/
LOCATION:Centro Universitario Regional UNA Juigalpa\, Juigapa
CATEGORIES:TALLER
END:VEVENT
BEGIN:VEVENT
DTSTART;TZID=America/Managua:20250428T130000
DTEND;TZID=America/Managua:20250428T170000
DTSTAMP:20260423T002940
CREATED:20250428T162500Z
LAST-MODIFIED:20250428T162500Z
UID:22880-1745845200-1745859600@www.una.edu.ni
SUMMARY:Conferencia sobre Importancia y Beneficios de insectos en el control de plagas de cultivos agrícolas
DESCRIPTION:
URL:https://www.una.edu.ni/event/conferencia-sobre-importancia-y-beneficios-de-insectos-en-el-control-de-plagas-de-cultivos-agricolas/
LOCATION:Universidad Nacional Agraria\, Managua\, km 12 1/2\, Managua\, Nicaragua
CATEGORIES:CONFERENCIA
END:VEVENT
BEGIN:VEVENT
DTSTART;TZID=America/Managua:20250428T140000
DTEND;TZID=America/Managua:20250428T170000
DTSTAMP:20260423T002940
CREATED:20250428T161505Z
LAST-MODIFIED:20250428T161505Z
UID:22867-1745848800-1745859600@www.una.edu.ni
SUMMARY:Lanzamiento del Curso con productores “Técnicas básicas en la medicina veterinaria”
DESCRIPTION:
URL:https://www.una.edu.ni/event/lanzamiento-del-curso-con-productores-tecnicas-basicas-en-la-medicina-veterinaria/
LOCATION:Centro Universitario Regional UNA Juigalpa\, Juigapa
CATEGORIES:LANZAMIENTO
END:VEVENT
BEGIN:VEVENT
DTSTART;TZID=America/Managua:20250428T180000
DTEND;TZID=America/Managua:20250428T200000
DTSTAMP:20260423T002940
CREATED:20250428T164024Z
LAST-MODIFIED:20250428T164024Z
UID:22902-1745863200-1745870400@www.una.edu.ni
SUMMARY:Asamblea Trimestral de Becados internos con la participación de la Unión Nacional de Estudiantes
DESCRIPTION:
URL:https://www.una.edu.ni/event/asamblea-trimestral-de-becados-internos-con-la-participacion-de-la-union-nacional-de-estudiantes/
LOCATION:Universidad Nacional Agraria\, Managua\, km 12 1/2\, Managua\, Nicaragua
CATEGORIES:ASAMBLEA
END:VEVENT
BEGIN:VEVENT
DTSTART;TZID=Europe/Madrid:20250429T083000
DTEND;TZID=Europe/Madrid:20250429T120000
DTSTAMP:20260423T002940
CREATED:20250428T162914Z
LAST-MODIFIED:20250428T162914Z
UID:22886-1745915400-1745928000@www.una.edu.ni
SUMMARY:Panel sobre Prevención de enfermedades en explotaciones pecuarias
DESCRIPTION:
URL:https://www.una.edu.ni/event/panel-sobre-prevencion-de-enfermedades-en-explotaciones-pecuarias/
LOCATION:Universidad Nacional Agraria\, Managua\, km 12 1/2\, Managua\, Nicaragua
CATEGORIES:PANEL
END:VEVENT
BEGIN:VEVENT
DTSTART;TZID=America/Managua:20250429T090000
DTEND;TZID=America/Managua:20250429T120000
DTSTAMP:20260423T002940
CREATED:20250428T162557Z
LAST-MODIFIED:20250428T162557Z
UID:22882-1745917200-1745928000@www.una.edu.ni
SUMMARY:Conferencia “Uso de semillas certificadas para mejorar el rendimiento productivo de los cultivos agrícolas”
DESCRIPTION:
URL:https://www.una.edu.ni/event/conferencia-uso-de-semillas-certificadas-para-mejorar-el-rendimiento-productivo-de-los-cultivos-agricolas/
LOCATION:UNICAM Achuapa\, León\, Nicaragua
CATEGORIES:CONFERENCIA
END:VEVENT
BEGIN:VEVENT
DTSTART;TZID=America/Managua:20250429T100000
DTEND;TZID=America/Managua:20250429T120000
DTSTAMP:20260423T002940
CREATED:20250428T161613Z
LAST-MODIFIED:20250428T161613Z
UID:22869-1745920800-1745928000@www.una.edu.ni
SUMMARY:Entrega de Títulos de Técnico Superior Agropecuario a estudiantes del Programa Universidad en el Campo
DESCRIPTION:
URL:https://www.una.edu.ni/event/entrega-de-titulos-de-tecnico-superior-agropecuario-a-estudiantes-del-programa-universidad-en-el-campo/
LOCATION:UNICAM El Ayote\, Juigalpa\, Nicaragua
CATEGORIES:OTROS
END:VEVENT
BEGIN:VEVENT
DTSTART;TZID=America/Managua:20250429T100000
DTEND;TZID=America/Managua:20250429T120000
DTSTAMP:20260423T002940
CREATED:20250428T162113Z
LAST-MODIFIED:20250428T162113Z
UID:22876-1745920800-1745928000@www.una.edu.ni
SUMMARY:Presentación de proyectos Emprendedores “Por la Agricultura y el medio ambiente\, innovamos en la ciencia”
DESCRIPTION:
URL:https://www.una.edu.ni/event/presentacion-de-proyectos-emprendedores-por-la-agricultura-y-el-medio-ambiente-innovamos-en-la-ciencia/
LOCATION:UNICAM Muelle de los Bueyes\, Nicaragua
CATEGORIES:PRESENTACIÓN
END:VEVENT
BEGIN:VEVENT
DTSTART;TZID=America/Managua:20250429T130000
DTEND;TZID=America/Managua:20250429T170000
DTSTAMP:20260423T002940
CREATED:20250428T163136Z
LAST-MODIFIED:20250428T163136Z
UID:22890-1745931600-1745946000@www.una.edu.ni
SUMMARY:Taller sobre Fertilización química y orgánica de variedades de maíz en parcelas experimentales
DESCRIPTION:
URL:https://www.una.edu.ni/event/taller-sobre-fertilizacion-quimica-y-organica-de-variedades-de-maiz-en-parcelas-experimentales/
LOCATION:Universidad Nacional Agraria\, Managua\, km 12 1/2\, Managua\, Nicaragua
CATEGORIES:TALLER
END:VEVENT
BEGIN:VEVENT
DTSTART;TZID=America/Managua:20250429T130000
DTEND;TZID=America/Managua:20250429T170000
DTSTAMP:20260423T002940
CREATED:20250428T164124Z
LAST-MODIFIED:20250428T164124Z
UID:22904-1745931600-1745946000@www.una.edu.ni
SUMMARY:Espectáculo Danzario en celebración del Día mundial de la danza “Abril consagrado al amor de Nicaragua\, circuito artístico abril creativo”
DESCRIPTION:
URL:https://www.una.edu.ni/event/espectaculo-danzario-en-celebracion-del-dia-mundial-de-la-danza-abril-consagrado-al-amor-de-nicaragua-circuito-artistico-abril-creativo/
LOCATION:Universidad Nacional Agraria\, Managua\, km 12 1/2\, Managua\, Nicaragua
CATEGORIES:OTROS
END:VEVENT
BEGIN:VEVENT
DTSTART;TZID=America/Managua:20250430T080000
DTEND;TZID=America/Managua:20250430T100000
DTSTAMP:20260423T002940
CREATED:20250428T163444Z
LAST-MODIFIED:20250428T163444Z
UID:22894-1746000000-1746007200@www.una.edu.ni
SUMMARY:Guardia de honor y entrega de ofrenda floral en conmemoración al 13 Aniversario del tránsito a la inmortalidad del comandante Tomás Borge Martínez
DESCRIPTION:
URL:https://www.una.edu.ni/event/guardia-de-honor-y-entrega-de-ofrenda-floral-en-conmemoracion-al-13-aniversario-del-transito-a-la-inmortalidad-del-comandante-tomas-borge-martinez/
LOCATION:Universidad Nacional Agraria\, Managua\, km 12 1/2\, Managua\, Nicaragua
CATEGORIES:OTROS
END:VEVENT
BEGIN:VEVENT
DTSTART;TZID=America/Managua:20250430T090000
DTEND;TZID=America/Managua:20250430T120000
DTSTAMP:20260423T002940
CREATED:20250428T162243Z
LAST-MODIFIED:20250428T162243Z
UID:22878-1746003600-1746014400@www.una.edu.ni
SUMMARY:Presentación de proyectos Emprendedores “Por la Agricultura y el medio ambiente\, innovamos en la ciencia”
DESCRIPTION:
URL:https://www.una.edu.ni/event/presentacion-de-proyectos-emprendedores-por-la-agricultura-y-el-medio-ambiente-innovamos-en-la-ciencia-2/
LOCATION:UNICAM El Ayote\, Juigalpa\, Nicaragua
CATEGORIES:PRESENTACIÓN
END:VEVENT
BEGIN:VEVENT
DTSTART;TZID=America/Managua:20250430T090000
DTEND;TZID=America/Managua:20250430T120000
DTSTAMP:20260423T002940
CREATED:20250428T163300Z
LAST-MODIFIED:20250428T163300Z
UID:22892-1746003600-1746014400@www.una.edu.ni
SUMMARY:Taller sobre Crianza\, manejo y reproducción de codornices
DESCRIPTION:
URL:https://www.una.edu.ni/event/taller-sobre-crianza-manejo-y-reproduccion-de-codornices/
LOCATION:Centro Universitario Regional UNA Juigalpa\, Juigapa
CATEGORIES:TALLER
END:VEVENT
BEGIN:VEVENT
DTSTART;TZID=America/Managua:20250430T090000
DTEND;TZID=America/Managua:20250430T120000
DTSTAMP:20260423T002940
CREATED:20250428T164232Z
LAST-MODIFIED:20250428T164232Z
UID:22906-1746003600-1746014400@www.una.edu.ni
SUMMARY:Jornada de limpieza y reforestación
DESCRIPTION:
URL:https://www.una.edu.ni/event/jornada-de-limpieza-y-reforestacion/
LOCATION:UNICAM Altagracia\, Nicaragua
CATEGORIES:JORNADA
END:VEVENT
BEGIN:VEVENT
DTSTART;TZID=America/Managua:20250430T100000
DTEND;TZID=America/Managua:20250430T120000
DTSTAMP:20260423T002940
CREATED:20250428T161750Z
LAST-MODIFIED:20250428T161750Z
UID:22871-1746007200-1746014400@www.una.edu.ni
SUMMARY:Inauguración de Laboratorio de Anatomía en conmemoración al 13 aniversario del tránsito a la inmortalidad del Comandante Tomás Borge Martínez
DESCRIPTION:
URL:https://www.una.edu.ni/event/inauguracion-de-laboratorio-de-anatomia-en-conmemoracion-al-13-aniversario-del-transito-a-la-inmortalidad-del-comandante-tomas-borge-martinez/
LOCATION:Centro Universitario Regional UNA Juigalpa\, Juigapa
CATEGORIES:INAUGURACIÓN
END:VEVENT
BEGIN:VEVENT
DTSTART;TZID=America/Managua:20250430T130000
DTEND;TZID=America/Managua:20250430T160000
DTSTAMP:20260423T002940
CREATED:20250428T162822Z
LAST-MODIFIED:20250428T162822Z
UID:22884-1746018000-1746028800@www.una.edu.ni
SUMMARY:Conferencia “Función de los microorganismos en la fermentación y aroma del cacao”
DESCRIPTION:
URL:https://www.una.edu.ni/event/conferencia-funcion-de-los-microorganismos-en-la-fermentacion-y-aroma-del-cacao/
LOCATION:Universidad Nacional Agraria\, Managua\, km 12 1/2\, Managua\, Nicaragua
CATEGORIES:CONFERENCIA
END:VEVENT
BEGIN:VEVENT
DTSTART;TZID=America/Managua:20250430T130000
DTEND;TZID=America/Managua:20250430T170000
DTSTAMP:20260423T002940
CREATED:20250428T163735Z
LAST-MODIFIED:20250428T163735Z
UID:22898-1746018000-1746032400@www.una.edu.ni
SUMMARY:Concierto y Recital poético “Mi venganza personal”
DESCRIPTION:
URL:https://www.una.edu.ni/event/concierto-y-recital-poetico-mi-venganza-personal/
LOCATION:Universidad Nacional Agraria\, Managua\, km 12 1/2\, Managua\, Nicaragua
CATEGORIES:CONCIERTO
END:VEVENT
BEGIN:VEVENT
DTSTART;TZID=America/Managua:20250430T150000
DTEND;TZID=America/Managua:20250430T160000
DTSTAMP:20260423T002940
CREATED:20250428T163603Z
LAST-MODIFIED:20250428T163603Z
UID:22896-1746025200-1746028800@www.una.edu.ni
SUMMARY:Presentación de Documental con estudiantes de la Universidad sobre la Vida y Obra del Comandante de la Revolución Tomás Borge Martínez conmemorando su tránsito a la inmortalidad
DESCRIPTION:
URL:https://www.una.edu.ni/event/presentacion-de-documental-con-estudiantes-de-la-universidad-sobre-la-vida-y-obra-del-comandante-de-la-revolucion-tomas-borge-martinez-conmemorando-su-transito-a-la-inmortalidad/
LOCATION:Universidad Nacional Agraria\, Managua\, km 12 1/2\, Managua\, Nicaragua
CATEGORIES:PRESENTACIÓN
END:VEVENT
BEGIN:VEVENT
DTSTART;TZID=America/Managua:20250430T160000
DTEND;TZID=America/Managua:20250430T170000
DTSTAMP:20260423T002940
CREATED:20250428T163843Z
LAST-MODIFIED:20250428T163843Z
UID:22900-1746028800-1746032400@www.una.edu.ni
SUMMARY:Asamblea de Militantes en conmemoración del 13 Aniversario del Tránsito a la Inmortalidad del Comandante Tomás Borge Martínez
DESCRIPTION:
URL:https://www.una.edu.ni/event/asamblea-de-militantes-en-conmemoracion-del-13-aniversario-del-transito-a-la-inmortalidad-del-comandante-tomas-borge-martinez/
LOCATION:Universidad Nacional Agraria\, Managua\, km 12 1/2\, Managua\, Nicaragua
CATEGORIES:OTROS
END:VEVENT
BEGIN:VEVENT
DTSTART;TZID=America/Managua:20250501T110000
DTEND;TZID=America/Managua:20250501T140000
DTSTAMP:20260423T002940
CREATED:20250430T220218Z
LAST-MODIFIED:20250430T220218Z
UID:22993-1746097200-1746108000@www.una.edu.ni
SUMMARY:Sesión No. 13 del Diplomado de Tecnologías Agropecuarias con el tema “Identificación de tipos de plátanos y bananos”
DESCRIPTION:
URL:https://www.una.edu.ni/event/sesion-no-13-del-diplomado-de-tecnologias-agropecuarias-con-el-tema-identificacion-de-tipos-de-platanos-y-bananos/
LOCATION:Consejo Nacional de Universidades (Plataforma virtual UALN)\, Nicaragua
CATEGORIES:DIPLOMADO
END:VEVENT
BEGIN:VEVENT
DTSTART;TZID=America/Managua:20250502T090000
DTEND;TZID=America/Managua:20250502T120000
DTSTAMP:20260423T002940
CREATED:20250430T220408Z
LAST-MODIFIED:20250430T220408Z
UID:22995-1746176400-1746187200@www.una.edu.ni
SUMMARY:Segundo Encuentro del Curso de Educación Continua “Análisis de muestras biológicas en animales domésticos”
DESCRIPTION:
URL:https://www.una.edu.ni/event/segundo-encuentro-del-curso-de-educacion-continua-analisis-de-muestras-biologicas-en-animales-domesticos/
LOCATION:Universidad Nacional Agraria\, Managua\, km 12 1/2\, Managua\, Nicaragua
CATEGORIES:ENCUENTRO
END:VEVENT
BEGIN:VEVENT
DTSTART;TZID=America/Managua:20250503T080000
DTEND;TZID=America/Managua:20250503T120000
DTSTAMP:20260423T002940
CREATED:20250430T220544Z
LAST-MODIFIED:20250430T220544Z
UID:22997-1746259200-1746273600@www.una.edu.ni
SUMMARY:Encuentro No. 08 del Curso de Cultivo y producción de plátano “Experiencias exitosas en el manejo agronómico del cultivo”
DESCRIPTION:
URL:https://www.una.edu.ni/event/encuentro-no-08-del-curso-de-cultivo-y-produccion-de-platano-experiencias-exitosas-en-el-manejo-agronomico-del-cultivo/
LOCATION:Escuela de plátano de Altagracia\, Isla de Ometepe\, Rivas\, Altragracia\, Nicaragua
CATEGORIES:CURSO
END:VEVENT
BEGIN:VEVENT
DTSTART;TZID=America/Managua:20250503T080000
DTEND;TZID=America/Managua:20250503T120000
DTSTAMP:20260423T002940
CREATED:20250430T220801Z
LAST-MODIFIED:20250430T220801Z
UID:22999-1746259200-1746273600@www.una.edu.ni
SUMMARY:Simposio sobre buenas prácticas agropecuarias para evitar daños ambientales\, mantener el rendimiento en la productividad y facilitar la obtención de productos inocuos
DESCRIPTION:
URL:https://www.una.edu.ni/event/simposio-sobre-buenas-practicas-agropecuarias-para-evitar-danos-ambientales-mantener-el-rendimiento-en-la-productividad-y-facilitar-la-obtencion-de-productos-inocuos/
LOCATION:Centro Universitario Regional UNA Juigalpa\, Juigapa
CATEGORIES:Simposio
END:VEVENT
BEGIN:VEVENT
DTSTART;TZID=America/Managua:20250503T090000
DTEND;TZID=America/Managua:20250503T120000
DTSTAMP:20260423T002940
CREATED:20250430T215737Z
LAST-MODIFIED:20250430T215737Z
UID:22988-1746262800-1746273600@www.una.edu.ni
SUMMARY:Presentación de proyectos Emprendedores “Por la Agricultura y el medio ambiente\, innovamos en la ciencia”
DESCRIPTION:
URL:https://www.una.edu.ni/event/presentacion-de-proyectos-emprendedores-por-la-agricultura-y-el-medio-ambiente-innovamos-en-la-ciencia-3/
LOCATION:UNICAM San Lorenzo\, Boaco\, Nicaragua
CATEGORIES:PRESENTACIÓN
END:VEVENT
BEGIN:VEVENT
DTSTART;TZID=America/Managua:20250503T100000
DTEND;TZID=America/Managua:20250503T120000
DTSTAMP:20260423T002940
CREATED:20250428T161912Z
LAST-MODIFIED:20250428T161912Z
UID:22873-1746266400-1746273600@www.una.edu.ni
SUMMARY:Entrega de Certificados a protagonistas del Diplomado Tecnologías Agropecuarias del municipio de Nandaime
DESCRIPTION:
URL:https://www.una.edu.ni/event/entrega-de-certificados-a-protagonistas-del-diplomado-tecnologias-agropecuarias-del-municipio-de-nandaime/
LOCATION:Municipio de Nandaime\, Nicaragua
CATEGORIES:OTROS
END:VEVENT
BEGIN:VEVENT
DTSTART;TZID=America/Managua:20250504T080000
DTEND;TZID=America/Managua:20250504T120000
DTSTAMP:20260423T002940
CREATED:20250430T215451Z
LAST-MODIFIED:20250430T215451Z
UID:22985-1746345600-1746360000@www.una.edu.ni
SUMMARY:Feria y presentación de Ideas Emprendedoras “Identidad\, Dignidad y Orgullo Patrio”
DESCRIPTION:
URL:https://www.una.edu.ni/event/feria-y-presentacion-de-ideas-emprendedoras-identidad-dignidad-y-orgullo-patrio/
LOCATION:UNICAM Sébaco\, Nicaragua
CATEGORIES:FERIA
END:VEVENT
BEGIN:VEVENT
DTSTART;TZID=America/Managua:20250504T080000
DTEND;TZID=America/Managua:20250504T120000
DTSTAMP:20260423T002940
CREATED:20250430T220930Z
LAST-MODIFIED:20250430T220930Z
UID:23001-1746345600-1746360000@www.una.edu.ni
SUMMARY:Taller sobre Identificación de sistemas morfofisiológicos en animales domésticos
DESCRIPTION:
URL:https://www.una.edu.ni/event/taller-sobre-identificacion-de-sistemas-morfofisiologicos-en-animales-domesticos/
LOCATION:UNICAM Morrito\, Nicaragua
CATEGORIES:TALLER
END:VEVENT
BEGIN:VEVENT
DTSTART;TZID=America/Managua:20250504T090000
DTEND;TZID=America/Managua:20250504T120000
DTSTAMP:20260423T002940
CREATED:20250430T215936Z
LAST-MODIFIED:20250430T215936Z
UID:22991-1746349200-1746360000@www.una.edu.ni
SUMMARY:Presentación de proyectos Emprendedores “Por la Agricultura y el medio ambiente\, innovamos en la ciencia”
DESCRIPTION:
URL:https://www.una.edu.ni/event/presentacion-de-proyectos-emprendedores-por-la-agricultura-y-el-medio-ambiente-innovamos-en-la-ciencia-4/
LOCATION:Centro Universitario Regional UNA Camoapa\, Camoapa
CATEGORIES:PRESENTACIÓN
END:VEVENT
BEGIN:VEVENT
DTSTART;TZID=America/Managua:20250505T130000
DTEND;TZID=America/Managua:20250505T170000
DTSTAMP:20260423T002940
CREATED:20250505T194355Z
LAST-MODIFIED:20250505T194355Z
UID:23030-1746450000-1746464400@www.una.edu.ni
SUMMARY:Conferencia sobre Aplicación de variables geométricas para el establecimiento de reservorios de agua en huertos familiares
DESCRIPTION:
URL:https://www.una.edu.ni/event/conferencia-sobre-aplicacion-de-variables-geometricas-para-el-establecimiento-de-reservorios-de-agua-en-huertos-familiares/
LOCATION:Universidad Nacional Agraria\, Managua\, km 12 1/2\, Managua\, Nicaragua
CATEGORIES:CONFERENCIA
END:VEVENT
BEGIN:VEVENT
DTSTART;TZID=America/Managua:20250505T140000
DTEND;TZID=America/Managua:20250505T170000
DTSTAMP:20260423T002940
CREATED:20250505T193911Z
LAST-MODIFIED:20250505T193911Z
UID:23024-1746453600-1746464400@www.una.edu.ni
SUMMARY:Primer Taller de Elaboración de productos cosméticos para tratamiento de enfermedades en caninos
DESCRIPTION:
URL:https://www.una.edu.ni/event/primer-taller-de-elaboracion-de-productos-cosmeticos-para-tratamiento-de-enfermedades-en-caninos/
LOCATION:Centro Universitario Regional UNA Juigalpa\, Juigapa
CATEGORIES:TALLER
END:VEVENT
END:VCALENDAR