BEGIN:VCALENDAR
VERSION:2.0
PRODID:-//Universidad Nacional Agraria - ECPv6.15.20//NONSGML v1.0//EN
CALSCALE:GREGORIAN
METHOD:PUBLISH
X-WR-CALNAME:Universidad Nacional Agraria
X-ORIGINAL-URL:https://www.una.edu.ni
X-WR-CALDESC:Eventos para Universidad Nacional Agraria
REFRESH-INTERVAL;VALUE=DURATION:PT1H
X-Robots-Tag:noindex
X-PUBLISHED-TTL:PT1H
BEGIN:VTIMEZONE
TZID:America/Managua
BEGIN:STANDARD
TZOFFSETFROM:-0600
TZOFFSETTO:-0600
TZNAME:CST
DTSTART:20240101T000000
END:STANDARD
END:VTIMEZONE
BEGIN:VEVENT
DTSTART;TZID=America/Managua:20250509T080000
DTEND;TZID=America/Managua:20250509T120000
DTSTAMP:20260423T002933
CREATED:20250508T144824Z
LAST-MODIFIED:20250508T144824Z
UID:23066-1746777600-1746792000@www.una.edu.ni
SUMMARY:Segundo Encuentro del Curso “Técnicas de monitoreo de fauna silvestre”
DESCRIPTION:
URL:https://www.una.edu.ni/event/segundo-encuentro-del-curso-tecnicas-de-monitoreo-de-fauna-silvestre/
LOCATION:Universidad Nacional Agraria\, Managua\, km 12 1/2\, Managua\, Nicaragua
CATEGORIES:CURSO
END:VEVENT
BEGIN:VEVENT
DTSTART;TZID=America/Managua:20250509T100000
DTEND;TZID=America/Managua:20250509T120000
DTSTAMP:20260423T002933
CREATED:20250508T145335Z
LAST-MODIFIED:20250508T145335Z
UID:23070-1746784800-1746792000@www.una.edu.ni
SUMMARY:Presentación de alternativas tecnológicas para el manejo y control de plagas en el cultivo de repollo
DESCRIPTION:
URL:https://www.una.edu.ni/event/presentacion-de-alternativas-tecnologicas-para-el-manejo-y-control-de-plagas-en-el-cultivo-de-repollo/
LOCATION:Universidad Nacional Agraria\, Managua\, km 12 1/2\, Managua\, Nicaragua
CATEGORIES:PRESENTACIÓN
END:VEVENT
BEGIN:VEVENT
DTSTART;TZID=America/Managua:20250509T100000
DTEND;TZID=America/Managua:20250509T120000
DTSTAMP:20260423T002933
CREATED:20250508T145934Z
LAST-MODIFIED:20250508T145934Z
UID:23080-1746784800-1746792000@www.una.edu.ni
SUMMARY:Taller sobre Establecimiento de Huertos escolares para producción de hortalizas
DESCRIPTION:
URL:https://www.una.edu.ni/event/taller-sobre-establecimiento-de-huertos-escolares-para-produccion-de-hortalizas/
LOCATION:UNICAM El Rama\, Nicaragua
CATEGORIES:TALLER
END:VEVENT
BEGIN:VEVENT
DTSTART;TZID=America/Managua:20250510T080000
DTEND;TZID=America/Managua:20250510T120000
DTSTAMP:20260423T002933
CREATED:20250508T150423Z
LAST-MODIFIED:20250508T150423Z
UID:23086-1746864000-1746878400@www.una.edu.ni
SUMMARY:Taller sobre  Identificación de elementos químicos de suelo para cultivos agrícolas
DESCRIPTION:
URL:https://www.una.edu.ni/event/taller-sobre-identificacion-de-elementos-quimicos-de-suelo-para-cultivos-agricolas/
LOCATION:UNICAM Esquipulas\, Nicaragua
CATEGORIES:TALLER
END:VEVENT
BEGIN:VEVENT
DTSTART;TZID=America/Managua:20250510T080000
DTEND;TZID=America/Managua:20250510T120000
DTSTAMP:20260423T002933
CREATED:20250508T150532Z
LAST-MODIFIED:20250508T150532Z
UID:23088-1746864000-1746878400@www.una.edu.ni
SUMMARY:Taller sobre Establecimiento de bancos forrajeros multipropósito como alternativas de alimentación bovina
DESCRIPTION:
URL:https://www.una.edu.ni/event/taller-sobre-establecimiento-de-bancos-forrajeros-multiproposito-como-alternativas-de-alimentacion-bovina/
LOCATION:UNICAM Matiguás\, Nicaragua
CATEGORIES:TALLER
END:VEVENT
BEGIN:VEVENT
DTSTART;TZID=America/Managua:20250510T100000
DTEND;TZID=America/Managua:20250510T120000
DTSTAMP:20260423T002933
CREATED:20250505T200608Z
LAST-MODIFIED:20250505T200608Z
UID:23036-1746871200-1746878400@www.una.edu.ni
SUMMARY:Entrega de certificados en sistemas de riego a Protagonistas del Diplomado Tecnologías productivas
DESCRIPTION:
URL:https://www.una.edu.ni/event/entrega-de-certificados-en-sistemas-de-riego-a-protagonistas-del-diplomado-tecnologias-productivas/
LOCATION:Municipio de San Francisco Libre\, Nicaragua
CATEGORIES:OTROS
END:VEVENT
BEGIN:VEVENT
DTSTART;TZID=America/Managua:20250510T100000
DTEND;TZID=America/Managua:20250510T120000
DTSTAMP:20260423T002933
CREATED:20250508T150055Z
LAST-MODIFIED:20250508T150055Z
UID:23082-1746871200-1746878400@www.una.edu.ni
SUMMARY:Taller sobre Aplicación de vitaminas y desparasitantes en bovinos
DESCRIPTION:
URL:https://www.una.edu.ni/event/taller-sobre-aplicacion-de-vitaminas-y-desparasitantes-en-bovinos/
LOCATION:Centro Universitario Regional UNA Juigalpa\, Juigapa
CATEGORIES:TALLER
END:VEVENT
BEGIN:VEVENT
DTSTART;TZID=America/Managua:20250510T110000
DTEND;TZID=America/Managua:20250510T140000
DTSTAMP:20260423T002933
CREATED:20250508T150215Z
LAST-MODIFIED:20250508T150215Z
UID:23084-1746874800-1746885600@www.una.edu.ni
SUMMARY:Taller sobre Diseño de productos agroturísticos en fincas
DESCRIPTION:
URL:https://www.una.edu.ni/event/taller-sobre-diseno-de-productos-agroturisticos-en-fincas/
LOCATION:Universidad Nacional Agraria\, Managua\, km 12 1/2\, Managua\, Nicaragua
CATEGORIES:TALLER
END:VEVENT
BEGIN:VEVENT
DTSTART;TZID=America/Managua:20250511T080000
DTEND;TZID=America/Managua:20250511T120000
DTSTAMP:20260423T002933
CREATED:20250505T200732Z
LAST-MODIFIED:20250505T200732Z
UID:23039-1746950400-1746964800@www.una.edu.ni
SUMMARY:Inicio de Diplomado en Inseminación artificial bovina\, para contribuir a la mejora genética del ganado y aumentar la producción
DESCRIPTION:
URL:https://www.una.edu.ni/event/inicio-de-diplomado-en-inseminacion-artificial-bovina-para-contribuir-a-la-mejora-genetica-del-ganado-y-aumentar-la-produccion/
LOCATION:Departamento de Masaya\, Nicaragua
CATEGORIES:DIPLOMADO
END:VEVENT
BEGIN:VEVENT
DTSTART;TZID=America/Managua:20250511T080000
DTEND;TZID=America/Managua:20250511T120000
DTSTAMP:20260423T002933
CREATED:20250508T145536Z
LAST-MODIFIED:20250508T145536Z
UID:23074-1746950400-1746964800@www.una.edu.ni
SUMMARY:Conferencia sobre Registro y protección emprendimientos agrícolas
DESCRIPTION:
URL:https://www.una.edu.ni/event/conferencia-sobre-registro-y-proteccion-emprendimientos-agricolas/
LOCATION:UNICAM Matiguás\, Nicaragua
CATEGORIES:CONFERENCIA
END:VEVENT
BEGIN:VEVENT
DTSTART;TZID=America/Managua:20250520T080000
DTEND;TZID=America/Managua:20250520T100000
DTSTAMP:20260423T002933
CREATED:20250519T214205Z
LAST-MODIFIED:20250519T214205Z
UID:23576-1747728000-1747735200@www.una.edu.ni
SUMMARY:Acto Político y Cultural\, depósito de Ofrenda Floral en homenaje al 46 aniversario del tránsito a la inmortalidad del Comandante German Pomares Ordoñez “El Danto”
DESCRIPTION:
URL:https://www.una.edu.ni/event/acto-politico-y-cultural-deposito-de-ofrenda-floral-en-homenaje-al-46-aniversario-del-transito-a-la-inmortalidad-del-comandante-german-pomares-ordonez-el-danto/
LOCATION:Universidad Nacional Agraria\, Managua\, km 12 1/2\, Managua\, Nicaragua
CATEGORIES:OTROS
END:VEVENT
BEGIN:VEVENT
DTSTART;TZID=America/Managua:20250520T080000
DTEND;TZID=America/Managua:20250520T120000
DTSTAMP:20260423T002933
CREATED:20250519T215559Z
LAST-MODIFIED:20250519T215559Z
UID:23593-1747728000-1747742400@www.una.edu.ni
SUMMARY:Taller sobre Aplicación de planes administrativos de fincas
DESCRIPTION:
URL:https://www.una.edu.ni/event/taller-sobre-aplicacion-de-planes-administrativos-de-fincas/
LOCATION:Universidad Nacional Agraria\, Managua\, km 12 1/2\, Managua\, Nicaragua
CATEGORIES:TALLER
END:VEVENT
BEGIN:VEVENT
DTSTART;TZID=America/Managua:20250520T090000
DTEND;TZID=America/Managua:20250520T120000
DTSTAMP:20260423T002933
CREATED:20250519T213744Z
LAST-MODIFIED:20250519T213744Z
UID:23568-1747731600-1747742400@www.una.edu.ni
SUMMARY:Inauguración de Laboratorio de Agroindustria en conmemoración del 46 aniversario del tránsito a la inmortalidad del Comandante Germán Pomares Ordoñez “El Danto”
DESCRIPTION:
URL:https://www.una.edu.ni/event/inauguracion-de-laboratorio-de-agroindustria-en-conmemoracion-del-46-aniversario-del-transito-a-la-inmortalidad-del-comandante-german-pomares-ordonez-el-danto/
LOCATION:Universidad Nacional Agraria\, Managua\, km 12 1/2\, Managua\, Nicaragua
CATEGORIES:INAUGURACIÓN
END:VEVENT
BEGIN:VEVENT
DTSTART;TZID=America/Managua:20250520T090000
DTEND;TZID=America/Managua:20250520T120000
DTSTAMP:20260423T002933
CREATED:20250519T213841Z
LAST-MODIFIED:20250519T213841Z
UID:23570-1747731600-1747742400@www.una.edu.ni
SUMMARY:Encuentro Nacional con estudiantes ganadores de Torneo de matemática
DESCRIPTION:
URL:https://www.una.edu.ni/event/encuentro-nacional-con-estudiantes-ganadores-de-torneo-de-matematica/
LOCATION:Universidad Nacional Agraria\, Managua\, km 12 1/2\, Managua\, Nicaragua
CATEGORIES:ENCUENTRO
END:VEVENT
BEGIN:VEVENT
DTSTART;TZID=America/Managua:20250520T090000
DTEND;TZID=America/Managua:20250520T120000
DTSTAMP:20260423T002933
CREATED:20250519T213941Z
LAST-MODIFIED:20250519T213941Z
UID:23572-1747731600-1747742400@www.una.edu.ni
SUMMARY:Inicio del Curso de Diagnóstico de preñez e inseminación artificial
DESCRIPTION:
URL:https://www.una.edu.ni/event/inicio-del-curso-de-diagnostico-de-prenez-e-inseminacion-artificial/
LOCATION:Universidad Nacional Agraria\, Managua\, km 12 1/2\, Managua\, Nicaragua
CATEGORIES:CURSO
END:VEVENT
BEGIN:VEVENT
DTSTART;TZID=America/Managua:20250520T090000
DTEND;TZID=America/Managua:20250520T120000
DTSTAMP:20260423T002933
CREATED:20250519T214054Z
LAST-MODIFIED:20250519T214054Z
UID:23574-1747731600-1747742400@www.una.edu.ni
SUMMARY:Taller sobre Manejo de enfermedades en aves
DESCRIPTION:
URL:https://www.una.edu.ni/event/taller-sobre-manejo-de-enfermedades-en-aves/
LOCATION:Centro Universitario Regional UNA Juigalpa\, Juigapa
CATEGORIES:TALLER
END:VEVENT
BEGIN:VEVENT
DTSTART;TZID=America/Managua:20250520T090000
DTEND;TZID=America/Managua:20250520T120000
DTSTAMP:20260423T002933
CREATED:20250519T215450Z
LAST-MODIFIED:20250519T215450Z
UID:23591-1747731600-1747742400@www.una.edu.ni
SUMMARY:Taller sobre Elaboración de harina de marango para análisis bromatológico
DESCRIPTION:
URL:https://www.una.edu.ni/event/taller-sobre-elaboracion-de-harina-de-marango-para-analisis-bromatologico/
LOCATION:Centro de Desarrollo Moringa Comandante Fidel\, municipio de León\, Nicaragua
CATEGORIES:TALLER
END:VEVENT
BEGIN:VEVENT
DTSTART;TZID=America/Managua:20250521T080000
DTEND;TZID=America/Managua:20250521T120000
DTSTAMP:20260423T002933
CREATED:20250519T214601Z
LAST-MODIFIED:20250519T214601Z
UID:23583-1747814400-1747828800@www.una.edu.ni
SUMMARY:Jornada veterinaria de atención animal
DESCRIPTION:
URL:https://www.una.edu.ni/event/jornada-veterinaria-de-atencion-animal/
LOCATION:UNICAM El Rama\, Nicaragua
CATEGORIES:JORNADA
END:VEVENT
BEGIN:VEVENT
DTSTART;TZID=America/Managua:20250521T080000
DTEND;TZID=America/Managua:20250521T120000
DTSTAMP:20260423T002933
CREATED:20250519T214707Z
LAST-MODIFIED:20250519T214707Z
UID:23585-1747814400-1747828800@www.una.edu.ni
SUMMARY:Conferencia “Armonía con la naturaleza y el desarrollo sostenible en conmemoración al Día de la Diversidad Biológica”
DESCRIPTION:
URL:https://www.una.edu.ni/event/conferencia-armonia-con-la-naturaleza-y-el-desarrollo-sostenible-en-conmemoracion-al-dia-de-la-diversidad-biologica/
LOCATION:Universidad Nacional Agraria\, Managua\, km 12 1/2\, Managua\, Nicaragua
CATEGORIES:CONFERENCIA
END:VEVENT
BEGIN:VEVENT
DTSTART;TZID=America/Managua:20250521T083000
DTEND;TZID=America/Managua:20250521T120000
DTSTAMP:20260423T002933
CREATED:20250519T215244Z
LAST-MODIFIED:20250519T215244Z
UID:23589-1747816200-1747828800@www.una.edu.ni
SUMMARY:Sesión No. 04 del diplomado en Administración de Fincas
DESCRIPTION:
URL:https://www.una.edu.ni/event/sesion-no-04-del-diplomado-en-administracion-de-fincas/
LOCATION:Universidad Nacional Agraria\, Managua\, km 12 1/2\, Managua\, Nicaragua
CATEGORIES:DIPLOMADO
END:VEVENT
BEGIN:VEVENT
DTSTART;TZID=America/Managua:20250522T080000
DTEND;TZID=America/Managua:20250522T120000
DTSTAMP:20260423T002933
CREATED:20250519T214430Z
LAST-MODIFIED:20250519T214430Z
UID:23581-1747900800-1747915200@www.una.edu.ni
SUMMARY:Asamblea de Militantes conmemorando al Comandante German Pomares Ordoñez “El Danto”
DESCRIPTION:
URL:https://www.una.edu.ni/event/asamblea-de-militantes-conmemorando-al-comandante-german-pomares-ordonez-el-danto/
LOCATION:Universidad Nacional Agraria\, Managua\, km 12 1/2\, Managua\, Nicaragua
CATEGORIES:OTROS
END:VEVENT
BEGIN:VEVENT
DTSTART;TZID=America/Managua:20250522T080000
DTEND;TZID=America/Managua:20250522T120000
DTSTAMP:20260423T002933
CREATED:20250521T200435Z
LAST-MODIFIED:20250521T200435Z
UID:23630-1747900800-1747915200@www.una.edu.ni
SUMMARY:Taller sobre Detección temprana de mastitis bovina
DESCRIPTION:
URL:https://www.una.edu.ni/event/taller-sobre-deteccion-temprana-de-mastitis-bovina/
LOCATION:UNICAM Morrito\, Nicaragua
CATEGORIES:TALLER
END:VEVENT
BEGIN:VEVENT
DTSTART;TZID=America/Managua:20250522T100000
DTEND;TZID=America/Managua:20250522T120000
DTSTAMP:20260423T002933
CREATED:20250521T200213Z
LAST-MODIFIED:20250521T200213Z
UID:23626-1747908000-1747915200@www.una.edu.ni
SUMMARY:Taller sobre Técnicas de reproducción acelerada para la producción del cultivo de plátano
DESCRIPTION:
URL:https://www.una.edu.ni/event/taller-sobre-tecnicas-de-reproduccion-acelerada-para-la-produccion-del-cultivo-de-platano/
LOCATION:UNICAM El Ayote\, Juigalpa\, Nicaragua
CATEGORIES:TALLER
END:VEVENT
BEGIN:VEVENT
DTSTART;TZID=America/Managua:20250522T100000
DTEND;TZID=America/Managua:20250522T120000
DTSTAMP:20260423T002933
CREATED:20250521T200333Z
LAST-MODIFIED:20250521T200333Z
UID:23628-1747908000-1747915200@www.una.edu.ni
SUMMARY:Taller sobre Elaboración de suplementos alimenticios a base de marango para alimentación de rumiantes
DESCRIPTION:
URL:https://www.una.edu.ni/event/taller-sobre-elaboracion-de-suplementos-alimenticios-a-base-de-marango-para-alimentacion-de-rumiantes/
LOCATION:UNICAM El Rama\, Nicaragua
CATEGORIES:TALLER
END:VEVENT
BEGIN:VEVENT
DTSTART;TZID=America/Managua:20250522T110000
DTEND;TZID=America/Managua:20250522T130000
DTSTAMP:20260423T002933
CREATED:20250521T195739Z
LAST-MODIFIED:20250521T195739Z
UID:23620-1747911600-1747918800@www.una.edu.ni
SUMMARY:Sesión No. 16 del Diplomado de Tecnologías Agropecuarias con el tema “Manejo de plagas y enfermedades”
DESCRIPTION:
URL:https://www.una.edu.ni/event/sesion-no-16-del-diplomado-de-tecnologias-agropecuarias-con-el-tema-manejo-de-plagas-y-enfermedades/
LOCATION:Consejo Nacional de Universidades (Plataforma virtual UALN)\, Nicaragua
CATEGORIES:DIPLOMADO
END:VEVENT
BEGIN:VEVENT
DTSTART;TZID=America/Managua:20250522T130000
DTEND;TZID=America/Managua:20250522T170000
DTSTAMP:20260423T002933
CREATED:20250521T200016Z
LAST-MODIFIED:20250521T200016Z
UID:23624-1747918800-1747933200@www.una.edu.ni
SUMMARY:Taller sobre Fertilización de cultivos de frijol
DESCRIPTION:
URL:https://www.una.edu.ni/event/taller-sobre-fertilizacion-de-cultivos-de-frijol/
LOCATION:Universidad Nacional Agraria\, Managua\, km 12 1/2\, Managua\, Nicaragua
CATEGORIES:TALLER
END:VEVENT
BEGIN:VEVENT
DTSTART;TZID=America/Managua:20250523T090000
DTEND;TZID=America/Managua:20250523T120000
DTSTAMP:20260423T002933
CREATED:20250521T195631Z
LAST-MODIFIED:20250521T195631Z
UID:23618-1747990800-1748001600@www.una.edu.ni
SUMMARY:Inicio de diplomado “Manejo de colmenas y producción apícola”
DESCRIPTION:
URL:https://www.una.edu.ni/event/inicio-de-diplomado-manejo-de-colmenas-y-produccion-apicola/
LOCATION:Universidad Nacional Agraria\, Managua\, km 12 1/2\, Managua\, Nicaragua
CATEGORIES:DIPLOMADO
END:VEVENT
BEGIN:VEVENT
DTSTART;TZID=America/Managua:20250523T100000
DTEND;TZID=America/Managua:20250523T120000
DTSTAMP:20260423T002933
CREATED:20250521T195327Z
LAST-MODIFIED:20250521T195327Z
UID:23616-1747994400-1748001600@www.una.edu.ni
SUMMARY:Entrega de certificados a protagonistas de diplomado de tecnologías agropecuarias
DESCRIPTION:
URL:https://www.una.edu.ni/event/entrega-de-certificados-a-protagonistas-de-diplomado-de-tecnologias-agropecuarias/
LOCATION:Universidad Nacional Agraria\, Managua\, km 12 1/2\, Managua\, Nicaragua
CATEGORIES:OTROS
END:VEVENT
BEGIN:VEVENT
DTSTART;TZID=America/Managua:20250523T140000
DTEND;TZID=America/Managua:20250523T170000
DTSTAMP:20260423T002933
CREATED:20250521T195858Z
LAST-MODIFIED:20250521T195858Z
UID:23622-1748008800-1748019600@www.una.edu.ni
SUMMARY:Sesión No.02 del Diplomado Alternativas tecnológicas para mejorar la producción de frutales
DESCRIPTION:
URL:https://www.una.edu.ni/event/sesion-no-02-del-diplomado-alternativas-tecnologicas-para-mejorar-la-produccion-de-frutales/
LOCATION:Municipio de Masatepe\, Nicaragua
CATEGORIES:DIPLOMADO
END:VEVENT
BEGIN:VEVENT
DTSTART;TZID=America/Managua:20250523T140000
DTEND;TZID=America/Managua:20250523T170000
DTSTAMP:20260423T002933
CREATED:20250521T200531Z
LAST-MODIFIED:20250521T200531Z
UID:23632-1748008800-1748019600@www.una.edu.ni
SUMMARY:Taller sobre Elaboración de Bioinsumos para uso de granos básicos y hortalizas
DESCRIPTION:
URL:https://www.una.edu.ni/event/taller-sobre-elaboracion-de-bioinsumos-para-uso-de-granos-basicos-y-hortalizas/
LOCATION:Centro Universitario Regional UNA Camoapa\, Camoapa
CATEGORIES:TALLER
END:VEVENT
END:VCALENDAR