BEGIN:VCALENDAR
VERSION:2.0
PRODID:-//Universidad Nacional Agraria - ECPv6.15.20//NONSGML v1.0//EN
CALSCALE:GREGORIAN
METHOD:PUBLISH
X-WR-CALNAME:Universidad Nacional Agraria
X-ORIGINAL-URL:https://www.una.edu.ni
X-WR-CALDESC:Eventos para Universidad Nacional Agraria
REFRESH-INTERVAL;VALUE=DURATION:PT1H
X-Robots-Tag:noindex
X-PUBLISHED-TTL:PT1H
BEGIN:VTIMEZONE
TZID:America/Managua
BEGIN:STANDARD
TZOFFSETFROM:-0600
TZOFFSETTO:-0600
TZNAME:CST
DTSTART:20240101T000000
END:STANDARD
END:VTIMEZONE
BEGIN:VTIMEZONE
TZID:Europe/Madrid
BEGIN:DAYLIGHT
TZOFFSETFROM:+0100
TZOFFSETTO:+0200
TZNAME:CEST
DTSTART:20240331T010000
END:DAYLIGHT
BEGIN:STANDARD
TZOFFSETFROM:+0200
TZOFFSETTO:+0100
TZNAME:CET
DTSTART:20241027T010000
END:STANDARD
BEGIN:DAYLIGHT
TZOFFSETFROM:+0100
TZOFFSETTO:+0200
TZNAME:CEST
DTSTART:20250330T010000
END:DAYLIGHT
BEGIN:STANDARD
TZOFFSETFROM:+0200
TZOFFSETTO:+0100
TZNAME:CET
DTSTART:20251026T010000
END:STANDARD
BEGIN:DAYLIGHT
TZOFFSETFROM:+0100
TZOFFSETTO:+0200
TZNAME:CEST
DTSTART:20260329T010000
END:DAYLIGHT
BEGIN:STANDARD
TZOFFSETFROM:+0200
TZOFFSETTO:+0100
TZNAME:CET
DTSTART:20261025T010000
END:STANDARD
END:VTIMEZONE
BEGIN:VEVENT
DTSTART;TZID=America/Managua:20250612T080000
DTEND;TZID=America/Managua:20250612T120000
DTSTAMP:20260422T204106
CREATED:20250610T143243Z
LAST-MODIFIED:20250610T143243Z
UID:24144-1749715200-1749729600@www.una.edu.ni
SUMMARY:Presentación de proyectos turísticos como alternativa de desarrollo rural
DESCRIPTION:
URL:https://www.una.edu.ni/event/presentacion-de-proyectos-turisticos-como-alternativa-de-desarrollo-rural/
LOCATION:Universidad Nacional Agraria\, Managua\, km 12 1/2\, Managua\, Nicaragua
CATEGORIES:PRESENTACIÓN
END:VEVENT
BEGIN:VEVENT
DTSTART;TZID=America/Managua:20250612T080000
DTEND;TZID=America/Managua:20250612T120000
DTSTAMP:20260422T204106
CREATED:20250610T143544Z
LAST-MODIFIED:20250610T143544Z
UID:24151-1749715200-1749729600@www.una.edu.ni
SUMMARY:Conferencia sobre Estrategias de prevención y tratamiento de plagas y enfermedades en cultivos de leguminosas para forrajes
DESCRIPTION:
URL:https://www.una.edu.ni/event/conferencia-sobre-estrategias-de-prevencion-y-tratamiento-de-plagas-y-enfermedades-en-cultivos-de-leguminosas-para-forrajes/
LOCATION:UNICAM Matiguás\, Nicaragua
CATEGORIES:CONFERENCIA
END:VEVENT
BEGIN:VEVENT
DTSTART;TZID=America/Managua:20250612T080000
DTEND;TZID=America/Managua:20250612T120000
DTSTAMP:20260422T204106
CREATED:20250610T145344Z
LAST-MODIFIED:20250610T145344Z
UID:24160-1749715200-1749729600@www.una.edu.ni
SUMMARY:Taller sobre Elaboración y decoración de chocolate
DESCRIPTION:
URL:https://www.una.edu.ni/event/taller-sobre-elaboracion-y-decoracion-de-chocolate/
LOCATION:Universidad Nacional Agraria\, Managua\, km 12 1/2\, Managua\, Nicaragua
CATEGORIES:TALLER
END:VEVENT
BEGIN:VEVENT
DTSTART;TZID=America/Managua:20250612T090000
DTEND;TZID=America/Managua:20250612T120000
DTSTAMP:20260422T204106
CREATED:20250610T142620Z
LAST-MODIFIED:20250610T142620Z
UID:24138-1749718800-1749729600@www.una.edu.ni
SUMMARY:Presentación de avance en primera etapa de construcción de Centro Nacional de Biotecnología de cultivos Agrícolas
DESCRIPTION:
URL:https://www.una.edu.ni/event/presentacion-de-avance-en-primera-etapa-de-construccion-de-centro-nacional-de-biotecnologia-de-cultivos-agricolas/
LOCATION:Universidad Nacional Agraria\, Managua\, km 12 1/2\, Managua\, Nicaragua
CATEGORIES:PRESENTACIÓN
END:VEVENT
BEGIN:VEVENT
DTSTART;TZID=America/Managua:20250612T090000
DTEND;TZID=America/Managua:20250612T120000
DTSTAMP:20260422T204106
CREATED:20250610T142726Z
LAST-MODIFIED:20250610T142726Z
UID:24140-1749718800-1749729600@www.una.edu.ni
SUMMARY:Lanzamiento del Diplomado en Reproducción eficiente de ganado porcino
DESCRIPTION:
URL:https://www.una.edu.ni/event/lanzamiento-del-diplomado-en-reproduccion-eficiente-de-ganado-porcino/
LOCATION:Programa Porcino “Cocibolca”\, Nicaragua
CATEGORIES:LANZAMIENTO
END:VEVENT
BEGIN:VEVENT
DTSTART;TZID=America/Managua:20250612T100000
DTEND;TZID=America/Managua:20250612T120000
DTSTAMP:20260422T204106
CREATED:20250610T143401Z
LAST-MODIFIED:20250610T143401Z
UID:24146-1749722400-1749729600@www.una.edu.ni
SUMMARY:Intercambio de experiencias con productores sobre alternativas de reproducción de pez guapote tigre
DESCRIPTION:
URL:https://www.una.edu.ni/event/intercambio-de-experiencias-con-productores-sobre-alternativas-de-reproduccion-de-pez-guapote-tigre/
LOCATION:Centro de práctica acuícola\, Nicaragua
CATEGORIES:OTROS
END:VEVENT
BEGIN:VEVENT
DTSTART;TZID=America/Managua:20250612T100000
DTEND;TZID=America/Managua:20250612T120000
DTSTAMP:20260422T204106
CREATED:20250610T143451Z
LAST-MODIFIED:20250610T143451Z
UID:24149-1749722400-1749729600@www.una.edu.ni
SUMMARY:Conferencia sobre Alternativas de alimentación nutricional para caninos y felinos
DESCRIPTION:
URL:https://www.una.edu.ni/event/conferencia-sobre-alternativas-de-alimentacion-nutricional-para-caninos-y-felinos/
LOCATION:Universidad Nacional Agraria\, Managua\, km 12 1/2\, Managua\, Nicaragua
CATEGORIES:CONFERENCIA
END:VEVENT
BEGIN:VEVENT
DTSTART;TZID=America/Managua:20250612T100000
DTEND;TZID=America/Managua:20250612T120000
DTSTAMP:20260422T204106
CREATED:20250610T143641Z
LAST-MODIFIED:20250610T144624Z
UID:24153-1749722400-1749729600@www.una.edu.ni
SUMMARY:Feria de presentación de proyectos científicos aplicados a la salud animal
DESCRIPTION:
URL:https://www.una.edu.ni/event/feria-de-presentacion-de-proyectos-cientificos-aplicados-a-la-salud-animal/
LOCATION:Universidad Nacional Agraria\, Managua\, km 12 1/2\, Managua\, Nicaragua
CATEGORIES:FERIA
END:VEVENT
BEGIN:VEVENT
DTSTART;TZID=America/Managua:20250612T100000
DTEND;TZID=America/Managua:20250612T120000
DTSTAMP:20260422T204106
CREATED:20250610T145238Z
LAST-MODIFIED:20250610T145238Z
UID:24158-1749722400-1749729600@www.una.edu.ni
SUMMARY:Taller sobre Manejo reproductivo de ganado bovino y porcino
DESCRIPTION:
URL:https://www.una.edu.ni/event/taller-sobre-manejo-reproductivo-de-ganado-bovino-y-porcino/
LOCATION:UNICAM El Rama\, Nicaragua
CATEGORIES:TALLER
END:VEVENT
BEGIN:VEVENT
DTSTART;TZID=America/Managua:20250612T110000
DTEND;TZID=America/Managua:20250612T130000
DTSTAMP:20260422T204106
CREATED:20250610T143141Z
LAST-MODIFIED:20250610T143141Z
UID:24142-1749726000-1749733200@www.una.edu.ni
SUMMARY:Sesión No. 19 del Diplomado de Tecnologías Agropecuarias con el tema “Nutrición y fertilización de hortalizas”
DESCRIPTION:
URL:https://www.una.edu.ni/event/sesion-no-19-del-diplomado-de-tecnologias-agropecuarias-con-el-tema-nutricion-y-fertilizacion-de-hortalizas/
LOCATION:Plataforma UALN\, Nicaragua
CATEGORIES:DIPLOMADO
END:VEVENT
BEGIN:VEVENT
DTSTART;TZID=America/Managua:20250613T080000
DTEND;TZID=America/Managua:20250613T120000
DTSTAMP:20260422T204106
CREATED:20250610T204108Z
LAST-MODIFIED:20250610T204108Z
UID:24165-1749801600-1749816000@www.una.edu.ni
SUMMARY:Curso de Educación Continua “Establecimiento de forrajes hidropónicos para alimentación animal”
DESCRIPTION:
URL:https://www.una.edu.ni/event/curso-de-educacion-continua-establecimiento-de-forrajes-hidroponicos-para-alimentacion-animal/
LOCATION:Centro Universitario Regional UNA Camoapa\, Camoapa
CATEGORIES:CURSO
END:VEVENT
BEGIN:VEVENT
DTSTART;TZID=America/Managua:20250613T083000
DTEND;TZID=America/Managua:20250613T120000
DTSTAMP:20260422T204106
CREATED:20250610T204328Z
LAST-MODIFIED:20250610T204328Z
UID:24169-1749803400-1749816000@www.una.edu.ni
SUMMARY:Taller sobre Aplicación de fármacos de uso veterinario en unidades producción pecuaria
DESCRIPTION:
URL:https://www.una.edu.ni/event/taller-sobre-aplicacion-de-farmacos-de-uso-veterinario-en-unidades-produccion-pecuaria/
LOCATION:UNICAM Morrito\, Nicaragua
CATEGORIES:TALLER
END:VEVENT
BEGIN:VEVENT
DTSTART;TZID=America/Managua:20250613T090000
DTEND;TZID=America/Managua:20250613T120000
DTSTAMP:20260422T204106
CREATED:20250610T204003Z
LAST-MODIFIED:20250610T204003Z
UID:24163-1749805200-1749816000@www.una.edu.ni
SUMMARY:Entrega de Reconocimientos a estudiantes\, Máxima Excelencia Académica
DESCRIPTION:
URL:https://www.una.edu.ni/event/entrega-de-reconocimientos-a-estudiantes-maxima-excelencia-academica/
LOCATION:Universidad Nacional Agraria\, Managua\, km 12 1/2\, Managua\, Nicaragua
CATEGORIES:OTROS
END:VEVENT
BEGIN:VEVENT
DTSTART;TZID=America/Managua:20250613T090000
DTEND;TZID=America/Managua:20250613T120000
DTSTAMP:20260422T204106
CREATED:20250610T204528Z
LAST-MODIFIED:20250610T204528Z
UID:24173-1749805200-1749816000@www.una.edu.ni
SUMMARY:Taller sobre Establecimiento de ensayos de variedades de frijol con tolerancia al cambio climático
DESCRIPTION:
URL:https://www.una.edu.ni/event/taller-sobre-establecimiento-de-ensayos-de-variedades-de-frijol-con-tolerancia-al-cambio-climatico/
LOCATION:Centro Universitario Regional UNA Juigalpa\, Juigapa
CATEGORIES:TALLER
END:VEVENT
BEGIN:VEVENT
DTSTART;TZID=America/Managua:20250613T100000
DTEND;TZID=America/Managua:20250613T120000
DTSTAMP:20260422T204106
CREATED:20250610T204439Z
LAST-MODIFIED:20250610T204439Z
UID:24171-1749808800-1749816000@www.una.edu.ni
SUMMARY:Taller sobre Identificación y tratamiento de enfermedades en aves
DESCRIPTION:
URL:https://www.una.edu.ni/event/taller-sobre-identificacion-y-tratamiento-de-enfermedades-en-aves/
LOCATION:UNICAM El Rama\, Nicaragua
CATEGORIES:TALLER
END:VEVENT
BEGIN:VEVENT
DTSTART;TZID=America/Managua:20250613T100000
DTEND;TZID=America/Managua:20250613T130000
DTSTAMP:20260422T204106
CREATED:20250610T204629Z
LAST-MODIFIED:20250610T204629Z
UID:24175-1749808800-1749819600@www.una.edu.ni
SUMMARY:Taller sobre Transformación de productos agropecuarios
DESCRIPTION:
URL:https://www.una.edu.ni/event/taller-sobre-transformacion-de-productos-agropecuarios/
LOCATION:Centro Universitario Regional UNA Juigalpa\, Juigapa
CATEGORIES:TALLER
END:VEVENT
BEGIN:VEVENT
DTSTART;TZID=America/Managua:20250613T100000
DTEND;TZID=America/Managua:20250613T130000
DTSTAMP:20260422T204106
CREATED:20250610T204757Z
LAST-MODIFIED:20250610T204757Z
UID:24177-1749808800-1749819600@www.una.edu.ni
SUMMARY:Jornada de desparasitación y vitaminación en bovinos
DESCRIPTION:
URL:https://www.una.edu.ni/event/jornada-de-desparasitacion-y-vitaminacion-en-bovinos/
LOCATION:UNICAM El Ayote\, Juigalpa\, Nicaragua
CATEGORIES:JORNADA
END:VEVENT
BEGIN:VEVENT
DTSTART;TZID=America/Managua:20250613T140000
DTEND;TZID=America/Managua:20250613T170000
DTSTAMP:20260422T204106
CREATED:20250610T204209Z
LAST-MODIFIED:20250610T204209Z
UID:24167-1749823200-1749834000@www.una.edu.ni
SUMMARY:Panel sobre Evaluación de proyectos de restauración de ecosistemas
DESCRIPTION:
URL:https://www.una.edu.ni/event/panel-sobre-evaluacion-de-proyectos-de-restauracion-de-ecosistemas/
LOCATION:Universidad Nacional Agraria\, Managua\, km 12 1/2\, Managua\, Nicaragua
CATEGORIES:PANEL
END:VEVENT
BEGIN:VEVENT
DTSTART;TZID=America/Managua:20250613T160000
DTEND;TZID=America/Managua:20250613T190000
DTSTAMP:20260422T204106
CREATED:20250610T204855Z
LAST-MODIFIED:20250610T204855Z
UID:24179-1749830400-1749841200@www.una.edu.ni
SUMMARY:Exhibición de Tae Kwondo
DESCRIPTION:
URL:https://www.una.edu.ni/event/exhibicion-de-tae-kwondo/
LOCATION:Universidad Nacional Agraria\, Managua\, km 12 1/2\, Managua\, Nicaragua
CATEGORIES:OTROS
END:VEVENT
BEGIN:VEVENT
DTSTART;TZID=America/Managua:20250614T080000
DTEND;TZID=America/Managua:20250614T120000
DTSTAMP:20260422T204106
CREATED:20250611T144509Z
LAST-MODIFIED:20250611T144509Z
UID:24192-1749888000-1749902400@www.una.edu.ni
SUMMARY:Taller sobre Diagnóstico de plagas y enfermedades que afectan el cultivo de café
DESCRIPTION:
URL:https://www.una.edu.ni/event/taller-sobre-diagnostico-de-plagas-y-enfermedades-que-afectan-el-cultivo-de-cafe/
LOCATION:UNICAM Sitio Histórico\, Nicaragua
CATEGORIES:TALLER
END:VEVENT
BEGIN:VEVENT
DTSTART;TZID=America/Managua:20250614T093000
DTEND;TZID=America/Managua:20250614T120000
DTSTAMP:20260422T204106
CREATED:20250611T144740Z
LAST-MODIFIED:20250611T144740Z
UID:24197-1749893400-1749902400@www.una.edu.ni
SUMMARY:Jornada de desparasitación y vitaminación en cerdos y aves
DESCRIPTION:
URL:https://www.una.edu.ni/event/jornada-de-desparasitacion-y-vitaminacion-en-cerdos-y-aves/
LOCATION:UNICAM San Pedro del Norte\, Nicaragua
CATEGORIES:JORNADA
END:VEVENT
BEGIN:VEVENT
DTSTART;TZID=America/Managua:20250614T100000
DTEND;TZID=America/Managua:20250614T130000
DTSTAMP:20260422T204106
CREATED:20250611T144116Z
LAST-MODIFIED:20250611T144116Z
UID:24185-1749895200-1749906000@www.una.edu.ni
SUMMARY:Graduación de protagonistas de Diplomado en Tecnología para mejorar la producción y productividad agropecuaria
DESCRIPTION:
URL:https://www.una.edu.ni/event/graduacion-de-protagonistas-de-diplomado-en-tecnologia-para-mejorar-la-produccion-y-productividad-agropecuaria/
LOCATION:Casa de Cultura. Municipio de Nandaime\, Nicaragua
CATEGORIES:OTROS
END:VEVENT
BEGIN:VEVENT
DTSTART;TZID=America/Managua:20250614T100000
DTEND;TZID=America/Managua:20250614T130000
DTSTAMP:20260422T204106
CREATED:20250611T144210Z
LAST-MODIFIED:20250611T144210Z
UID:24188-1749895200-1749906000@www.una.edu.ni
SUMMARY:Capacitación en genética porcina a productores del municipio de San Juan del Sur\, Rivas
DESCRIPTION:
URL:https://www.una.edu.ni/event/capacitacion-en-genetica-porcina-a-productores-del-municipio-de-san-juan-del-sur-rivas/
LOCATION:Programa Porcino “Cocibolca”\, Nicaragua
CATEGORIES:CAPACITACION
END:VEVENT
BEGIN:VEVENT
DTSTART;TZID=America/Managua:20250614T100000
DTEND;TZID=America/Managua:20250614T130000
DTSTAMP:20260422T204106
CREATED:20250611T145420Z
LAST-MODIFIED:20250611T145420Z
UID:24203-1749895200-1749906000@www.una.edu.ni
SUMMARY:Establecimiento de vivero de plantas ornamentales y medicinales
DESCRIPTION:
URL:https://www.una.edu.ni/event/establecimiento-de-vivero-de-plantas-ornamentales-y-medicinales/
LOCATION:UNICAM Muelle de los Bueyes\, Nicaragua
CATEGORIES:OTROS
END:VEVENT
BEGIN:VEVENT
DTSTART;TZID=America/Managua:20250614T110000
DTEND;TZID=America/Managua:20250614T130000
DTSTAMP:20260422T204106
CREATED:20250611T144401Z
LAST-MODIFIED:20250611T144401Z
UID:24190-1749898800-1749906000@www.una.edu.ni
SUMMARY:Taller sobre Elaboración de subproductos lácteos
DESCRIPTION:
URL:https://www.una.edu.ni/event/taller-sobre-elaboracion-de-subproductos-lacteos-2/
LOCATION:UNICAM San Pedro de Lóvago\, Nicaragua
CATEGORIES:TALLER
END:VEVENT
BEGIN:VEVENT
DTSTART;TZID=America/Managua:20250615T080000
DTEND;TZID=America/Managua:20250615T120000
DTSTAMP:20260422T204106
CREATED:20250611T145305Z
LAST-MODIFIED:20250611T145305Z
UID:24199-1749974400-1749988800@www.una.edu.ni
SUMMARY:Jornada de desparasitación y vitaminación en caninos
DESCRIPTION:
URL:https://www.una.edu.ni/event/jornada-de-desparasitacion-y-vitaminacion-en-caninos/
LOCATION:UNICAM San Pedro de Lóvago/UNICAM El Rama\, Nicaragua
CATEGORIES:JORNADA
END:VEVENT
BEGIN:VEVENT
DTSTART;TZID=America/Managua:20250615T083000
DTEND;TZID=America/Managua:20250615T120000
DTSTAMP:20260422T204106
CREATED:20250611T144616Z
LAST-MODIFIED:20250611T144616Z
UID:24195-1749976200-1749988800@www.una.edu.ni
SUMMARY:Taller sobre Administración de fármacos en ganado mayor y menor
DESCRIPTION:
URL:https://www.una.edu.ni/event/taller-sobre-administracion-de-farmacos-en-ganado-mayor-y-menor/
LOCATION:UNICAM EL Plantel\, Nicaragua
CATEGORIES:TALLER
END:VEVENT
BEGIN:VEVENT
DTSTART;TZID=America/Managua:20250623T083000
DTEND;TZID=America/Managua:20250623T120000
DTSTAMP:20260422T204106
CREATED:20250623T144854Z
LAST-MODIFIED:20250623T144854Z
UID:24342-1750667400-1750680000@www.una.edu.ni
SUMMARY:Taller sobre Caracterización de suelo para el establecimiento de maíz forrajero
DESCRIPTION:
URL:https://www.una.edu.ni/event/taller-sobre-caracterizacion-de-suelo-para-el-establecimiento-de-maiz-forrajero/
LOCATION:Universidad Nacional Agraria\, Managua\, km 12 1/2\, Managua\, Nicaragua
CATEGORIES:TALLER
END:VEVENT
BEGIN:VEVENT
DTSTART;TZID=Europe/Madrid:20250623T090000
DTEND;TZID=Europe/Madrid:20250623T120000
DTSTAMP:20260422T204106
CREATED:20250623T151149Z
LAST-MODIFIED:20250623T151247Z
UID:24367-1750669200-1750680000@www.una.edu.ni
SUMMARY:Jornada Deportiva “revolución con amor” en Conmemoración del 89 Aniversario del natalicio del Padre de la Revolución Popular Sandinista\, comandante Carlos Fonseca Amador
DESCRIPTION:
URL:https://www.una.edu.ni/event/jornada-deportiva-revolucion-con-amor-en-conmemoracion-del-89-aniversario-del-natalicio-del-padre-de-la-revolucion-popular-sandinista-comandante-carlos-fonseca-amador/
LOCATION:Universidad Nacional Agraria\, Managua\, km 12 1/2\, Managua\, Nicaragua
CATEGORIES:JORNADA
END:VEVENT
BEGIN:VEVENT
DTSTART;TZID=America/Managua:20250623T130000
DTEND;TZID=America/Managua:20250623T170000
DTSTAMP:20260422T204106
CREATED:20250623T142123Z
LAST-MODIFIED:20250623T142123Z
UID:24305-1750683600-1750698000@www.una.edu.ni
SUMMARY:Lanzamiento de IV Edición de la Maestría en Sanidad Vegetal
DESCRIPTION:
URL:https://www.una.edu.ni/event/lanzamiento-de-iv-edicion-de-la-maestria-en-sanidad-vegetal/
LOCATION:Universidad Nacional Agraria\, Managua\, km 12 1/2\, Managua\, Nicaragua
CATEGORIES:LANZAMIENTO
END:VEVENT
END:VCALENDAR